BEGIN:VCALENDAR
VERSION:2.0
PRODID:-//Argenta Arts District - ECPv6.15.20//NONSGML v1.0//EN
CALSCALE:GREGORIAN
METHOD:PUBLISH
X-ORIGINAL-URL:https://argentaartsdistrict.org
X-WR-CALDESC:Events for Argenta Arts District
REFRESH-INTERVAL;VALUE=DURATION:PT1H
X-Robots-Tag:noindex
X-PUBLISHED-TTL:PT1H
BEGIN:VTIMEZONE
TZID:America/Chicago
BEGIN:DAYLIGHT
TZOFFSETFROM:-0600
TZOFFSETTO:-0500
TZNAME:CDT
DTSTART:20240310T080000
END:DAYLIGHT
BEGIN:STANDARD
TZOFFSETFROM:-0500
TZOFFSETTO:-0600
TZNAME:CST
DTSTART:20241103T070000
END:STANDARD
BEGIN:DAYLIGHT
TZOFFSETFROM:-0600
TZOFFSETTO:-0500
TZNAME:CDT
DTSTART:20250309T080000
END:DAYLIGHT
BEGIN:STANDARD
TZOFFSETFROM:-0500
TZOFFSETTO:-0600
TZNAME:CST
DTSTART:20251102T070000
END:STANDARD
BEGIN:DAYLIGHT
TZOFFSETFROM:-0600
TZOFFSETTO:-0500
TZNAME:CDT
DTSTART:20260308T080000
END:DAYLIGHT
BEGIN:STANDARD
TZOFFSETFROM:-0500
TZOFFSETTO:-0600
TZNAME:CST
DTSTART:20261101T070000
END:STANDARD
END:VTIMEZONE
BEGIN:VEVENT
DTSTART;TZID=America/Chicago:20250614T180000
DTEND;TZID=America/Chicago:20250614T210000
DTSTAMP:20260425T075026
CREATED:20250130T182737Z
LAST-MODIFIED:20250611T141339Z
UID:10000844-1749924000-1749934800@argentaartsdistrict.org
SUMMARY:Argenta Vibe Music Series-Appalachian Roadshow
DESCRIPTION:Join us for another fun night at Argenta Vibe Music Series! \nEXCITING NEWS! WE’RE MOVING TO SATURDAYS! \nJoin us for a show from Appalachian Roadshow! The Americana acoustic ensemble will bring new-generation interpretations of traditional folk songs\, as well as offer new original music\, all tying directly to the heart of the Appalachian regions of the United States. \nLearn more and sample their music!\n  \nThe event is free and open to the public. Chairs and blankets encouraged. Food and drinks will be available for purchase from Loblolly Creamery\, Tacos El Zacatecas and Flyway Brewing. \nSchedule: \n6 PM: Gates open \n6:30 PM: Family Activities from Chatterbus\, Big Poppa Bubble and Sparkle Mi Face Painting\, plus a Pre-Show Playlist \n7:30 PM: Main Act \nDon’t forget! Argenta is an entertainment district. Get here early\, grab a drink or bite to eat from one of our amazing local restaurants\, and pick out the perfect spot to watch the show. \nVIP EXPERIENCE \nJoin us in the Argenta Vibe Music Series VIP area. \nYour $50 VIP experience includes: \n– Tito’s Handmade Vodka Specialty Cocktail \n– Beer by Flyway Brewing \n– Food by Four Quarter Bar \n– Special VIP Seating \n– And the best view and dance floor at the event! \nGet VIP Tickets
URL:https://argentaartsdistrict.org/event/argenta-vibe-music-series-7/
LOCATION:Argenta Plaza\, 510 N. Main St.\, North Little Rock\, AR\, 72114\, United States
CATEGORIES:Live Performance
ATTACH;FMTTYPE=image/png:https://argentaartsdistrict.org/wp-content/uploads/2025/01/AVMS_final-03-2.png
END:VEVENT
END:VCALENDAR