BEGIN:VCALENDAR
VERSION:2.0
PRODID:-//Argenta Arts District - ECPv6.15.20//NONSGML v1.0//EN
CALSCALE:GREGORIAN
METHOD:PUBLISH
X-WR-CALNAME:Argenta Arts District
X-ORIGINAL-URL:https://argentaartsdistrict.org
X-WR-CALDESC:Events for Argenta Arts District
REFRESH-INTERVAL;VALUE=DURATION:PT1H
X-Robots-Tag:noindex
X-PUBLISHED-TTL:PT1H
BEGIN:VTIMEZONE
TZID:America/Chicago
BEGIN:DAYLIGHT
TZOFFSETFROM:-0600
TZOFFSETTO:-0500
TZNAME:CDT
DTSTART:20230312T080000
END:DAYLIGHT
BEGIN:STANDARD
TZOFFSETFROM:-0500
TZOFFSETTO:-0600
TZNAME:CST
DTSTART:20231105T070000
END:STANDARD
BEGIN:DAYLIGHT
TZOFFSETFROM:-0600
TZOFFSETTO:-0500
TZNAME:CDT
DTSTART:20240310T080000
END:DAYLIGHT
BEGIN:STANDARD
TZOFFSETFROM:-0500
TZOFFSETTO:-0600
TZNAME:CST
DTSTART:20241103T070000
END:STANDARD
BEGIN:DAYLIGHT
TZOFFSETFROM:-0600
TZOFFSETTO:-0500
TZNAME:CDT
DTSTART:20250309T080000
END:DAYLIGHT
BEGIN:STANDARD
TZOFFSETFROM:-0500
TZOFFSETTO:-0600
TZNAME:CST
DTSTART:20251102T070000
END:STANDARD
BEGIN:DAYLIGHT
TZOFFSETFROM:-0600
TZOFFSETTO:-0500
TZNAME:CDT
DTSTART:20260308T080000
END:DAYLIGHT
BEGIN:STANDARD
TZOFFSETFROM:-0500
TZOFFSETTO:-0600
TZNAME:CST
DTSTART:20261101T070000
END:STANDARD
END:VTIMEZONE
BEGIN:VEVENT
DTSTART;TZID=America/Chicago:20250323T140000
DTEND;TZID=America/Chicago:20250323T153000
DTSTAMP:20260424T134536
CREATED:20250206T191942Z
LAST-MODIFIED:20250206T191942Z
UID:10000896-1742738400-1742743800@argentaartsdistrict.org
SUMMARY:Disney On Ice presents Mickey's Search Party
DESCRIPTION:TICKETS ON SALE NOW!\nPlus applicable service charges.\n** Prices subject to change\n*There is an 8 ticket limit per household\n*Ages 2+ require a ticket\n*No costumes guest 14+ \nPlease Note: This show contains Flashing Lights\, Haze (Fog)\, and Confetti \nGROUP DISCOUNT:\nDiscounts for groups\, please contact group sales: mstonecipher@simmonsbankarena.com \n\nJoin Mickey Mouse and his friends at Disney On Ice presents Mickey’s Search Party\, an adventure filled with world-class skating\, high-flying acrobatics and unexpected stunts! Look for clues in the search for Tinker Bell through immersive\, fantastic worlds. Explore the colorful spirit realm of Coco\, sail away with Moana as she bravely saves her island\, see Belle in the sky as the enchanted chandelier comes to life\, and sing-along with Elsa in the icy world of Frozen. Make memories during Aladdin\, Toy Story and The Little Mermaid as the search party becomes an all-out celebration! \nEmbark on a quest with Mickey Mouse and pals as they follow Captain Hook’s treasure map for clues to find Tinker Bell after he attempts to capture her magic. Journey across the Marigold Bridge with Miguel from Disney●Pixar’s Coco into the magnificent and mystical Land of the Dead and discover a vibrantly colorful performance with skeletons atop sway poles dancing over the audience in a beautiful cultural celebration of family. Travel to the wintry world of Arendelle and sing along with Elsa as video projection creates a kaleidoscope of crystals to help build her ice palace. Witness Belle lift into the sky as the enchanted chandelier comes to life high over the ice. Demonstrate the power of teamwork when Buzz Lightyear\, Woody and Jessie recruit the Green Army Men for a daring rescue in Andy’s room. Laugh hysterically as the hilarious pirates flip\, tumble\, and twist on tumble tracks\, stilts and more in an effort to showcase their talents for Captain Hook. Sail away with Moana on her daring voyage across the ocean and bravely encounter the fiery wrath of Te Ka. \n*Visit DisneyOnIce.com for more information.
URL:https://argentaartsdistrict.org/event/disney-on-ice-presents-mickeys-search-party/2025-03-23/
LOCATION:Simmons Bank Arena\, 1 Simmons Bank Arena Drive\, North Little Rock\, AR\, 72114\, United States
CATEGORIES:Dance Performance,Family-Friendly,Live Performance,Music,Storytelling
ATTACH;FMTTYPE=image/jpeg:https://argentaartsdistrict.org/wp-content/uploads/2025/02/homepage_w_-_2100_pix_h_-_1100_pix.jpg
END:VEVENT
BEGIN:VEVENT
DTSTART;TZID=America/Chicago:20250322T190000
DTEND;TZID=America/Chicago:20250322T203000
DTSTAMP:20260424T134536
CREATED:20250206T191942Z
LAST-MODIFIED:20250206T191942Z
UID:10000895-1742670000-1742675400@argentaartsdistrict.org
SUMMARY:Disney On Ice presents Mickey's Search Party
DESCRIPTION:TICKETS ON SALE NOW!\nPlus applicable service charges.\n** Prices subject to change\n*There is an 8 ticket limit per household\n*Ages 2+ require a ticket\n*No costumes guest 14+ \nPlease Note: This show contains Flashing Lights\, Haze (Fog)\, and Confetti \nGROUP DISCOUNT:\nDiscounts for groups\, please contact group sales: mstonecipher@simmonsbankarena.com \n\nJoin Mickey Mouse and his friends at Disney On Ice presents Mickey’s Search Party\, an adventure filled with world-class skating\, high-flying acrobatics and unexpected stunts! Look for clues in the search for Tinker Bell through immersive\, fantastic worlds. Explore the colorful spirit realm of Coco\, sail away with Moana as she bravely saves her island\, see Belle in the sky as the enchanted chandelier comes to life\, and sing-along with Elsa in the icy world of Frozen. Make memories during Aladdin\, Toy Story and The Little Mermaid as the search party becomes an all-out celebration! \nEmbark on a quest with Mickey Mouse and pals as they follow Captain Hook’s treasure map for clues to find Tinker Bell after he attempts to capture her magic. Journey across the Marigold Bridge with Miguel from Disney●Pixar’s Coco into the magnificent and mystical Land of the Dead and discover a vibrantly colorful performance with skeletons atop sway poles dancing over the audience in a beautiful cultural celebration of family. Travel to the wintry world of Arendelle and sing along with Elsa as video projection creates a kaleidoscope of crystals to help build her ice palace. Witness Belle lift into the sky as the enchanted chandelier comes to life high over the ice. Demonstrate the power of teamwork when Buzz Lightyear\, Woody and Jessie recruit the Green Army Men for a daring rescue in Andy’s room. Laugh hysterically as the hilarious pirates flip\, tumble\, and twist on tumble tracks\, stilts and more in an effort to showcase their talents for Captain Hook. Sail away with Moana on her daring voyage across the ocean and bravely encounter the fiery wrath of Te Ka. \n*Visit DisneyOnIce.com for more information.
URL:https://argentaartsdistrict.org/event/disney-on-ice-presents-mickeys-search-party/2025-03-22/3/
LOCATION:Simmons Bank Arena\, 1 Simmons Bank Arena Drive\, North Little Rock\, AR\, 72114\, United States
CATEGORIES:Dance Performance,Family-Friendly,Live Performance,Music,Storytelling
ATTACH;FMTTYPE=image/jpeg:https://argentaartsdistrict.org/wp-content/uploads/2025/02/homepage_w_-_2100_pix_h_-_1100_pix.jpg
END:VEVENT
BEGIN:VEVENT
DTSTART;TZID=America/Chicago:20250322T150000
DTEND;TZID=America/Chicago:20250322T163000
DTSTAMP:20260424T134536
CREATED:20250206T191942Z
LAST-MODIFIED:20250206T191942Z
UID:10000894-1742655600-1742661000@argentaartsdistrict.org
SUMMARY:Disney On Ice presents Mickey's Search Party
DESCRIPTION:TICKETS ON SALE NOW!\nPlus applicable service charges.\n** Prices subject to change\n*There is an 8 ticket limit per household\n*Ages 2+ require a ticket\n*No costumes guest 14+ \nPlease Note: This show contains Flashing Lights\, Haze (Fog)\, and Confetti \nGROUP DISCOUNT:\nDiscounts for groups\, please contact group sales: mstonecipher@simmonsbankarena.com \n\nJoin Mickey Mouse and his friends at Disney On Ice presents Mickey’s Search Party\, an adventure filled with world-class skating\, high-flying acrobatics and unexpected stunts! Look for clues in the search for Tinker Bell through immersive\, fantastic worlds. Explore the colorful spirit realm of Coco\, sail away with Moana as she bravely saves her island\, see Belle in the sky as the enchanted chandelier comes to life\, and sing-along with Elsa in the icy world of Frozen. Make memories during Aladdin\, Toy Story and The Little Mermaid as the search party becomes an all-out celebration! \nEmbark on a quest with Mickey Mouse and pals as they follow Captain Hook’s treasure map for clues to find Tinker Bell after he attempts to capture her magic. Journey across the Marigold Bridge with Miguel from Disney●Pixar’s Coco into the magnificent and mystical Land of the Dead and discover a vibrantly colorful performance with skeletons atop sway poles dancing over the audience in a beautiful cultural celebration of family. Travel to the wintry world of Arendelle and sing along with Elsa as video projection creates a kaleidoscope of crystals to help build her ice palace. Witness Belle lift into the sky as the enchanted chandelier comes to life high over the ice. Demonstrate the power of teamwork when Buzz Lightyear\, Woody and Jessie recruit the Green Army Men for a daring rescue in Andy’s room. Laugh hysterically as the hilarious pirates flip\, tumble\, and twist on tumble tracks\, stilts and more in an effort to showcase their talents for Captain Hook. Sail away with Moana on her daring voyage across the ocean and bravely encounter the fiery wrath of Te Ka. \n*Visit DisneyOnIce.com for more information.
URL:https://argentaartsdistrict.org/event/disney-on-ice-presents-mickeys-search-party/2025-03-22/2/
LOCATION:Simmons Bank Arena\, 1 Simmons Bank Arena Drive\, North Little Rock\, AR\, 72114\, United States
CATEGORIES:Dance Performance,Family-Friendly,Live Performance,Music,Storytelling
ATTACH;FMTTYPE=image/jpeg:https://argentaartsdistrict.org/wp-content/uploads/2025/02/homepage_w_-_2100_pix_h_-_1100_pix.jpg
END:VEVENT
BEGIN:VEVENT
DTSTART;TZID=America/Chicago:20250322T110000
DTEND;TZID=America/Chicago:20250322T123000
DTSTAMP:20260424T134536
CREATED:20250206T191942Z
LAST-MODIFIED:20250206T191942Z
UID:10000893-1742641200-1742646600@argentaartsdistrict.org
SUMMARY:Disney On Ice presents Mickey's Search Party
DESCRIPTION:TICKETS ON SALE NOW!\nPlus applicable service charges.\n** Prices subject to change\n*There is an 8 ticket limit per household\n*Ages 2+ require a ticket\n*No costumes guest 14+ \nPlease Note: This show contains Flashing Lights\, Haze (Fog)\, and Confetti \nGROUP DISCOUNT:\nDiscounts for groups\, please contact group sales: mstonecipher@simmonsbankarena.com \n\nJoin Mickey Mouse and his friends at Disney On Ice presents Mickey’s Search Party\, an adventure filled with world-class skating\, high-flying acrobatics and unexpected stunts! Look for clues in the search for Tinker Bell through immersive\, fantastic worlds. Explore the colorful spirit realm of Coco\, sail away with Moana as she bravely saves her island\, see Belle in the sky as the enchanted chandelier comes to life\, and sing-along with Elsa in the icy world of Frozen. Make memories during Aladdin\, Toy Story and The Little Mermaid as the search party becomes an all-out celebration! \nEmbark on a quest with Mickey Mouse and pals as they follow Captain Hook’s treasure map for clues to find Tinker Bell after he attempts to capture her magic. Journey across the Marigold Bridge with Miguel from Disney●Pixar’s Coco into the magnificent and mystical Land of the Dead and discover a vibrantly colorful performance with skeletons atop sway poles dancing over the audience in a beautiful cultural celebration of family. Travel to the wintry world of Arendelle and sing along with Elsa as video projection creates a kaleidoscope of crystals to help build her ice palace. Witness Belle lift into the sky as the enchanted chandelier comes to life high over the ice. Demonstrate the power of teamwork when Buzz Lightyear\, Woody and Jessie recruit the Green Army Men for a daring rescue in Andy’s room. Laugh hysterically as the hilarious pirates flip\, tumble\, and twist on tumble tracks\, stilts and more in an effort to showcase their talents for Captain Hook. Sail away with Moana on her daring voyage across the ocean and bravely encounter the fiery wrath of Te Ka. \n*Visit DisneyOnIce.com for more information.
URL:https://argentaartsdistrict.org/event/disney-on-ice-presents-mickeys-search-party/2025-03-22/1/
LOCATION:Simmons Bank Arena\, 1 Simmons Bank Arena Drive\, North Little Rock\, AR\, 72114\, United States
CATEGORIES:Dance Performance,Family-Friendly,Live Performance,Music,Storytelling
ATTACH;FMTTYPE=image/jpeg:https://argentaartsdistrict.org/wp-content/uploads/2025/02/homepage_w_-_2100_pix_h_-_1100_pix.jpg
END:VEVENT
BEGIN:VEVENT
DTSTART;TZID=America/Chicago:20250321T190000
DTEND;TZID=America/Chicago:20250321T203000
DTSTAMP:20260424T134536
CREATED:20250206T191942Z
LAST-MODIFIED:20250206T191942Z
UID:10000892-1742583600-1742589000@argentaartsdistrict.org
SUMMARY:Disney On Ice presents Mickey's Search Party
DESCRIPTION:TICKETS ON SALE NOW!\nPlus applicable service charges.\n** Prices subject to change\n*There is an 8 ticket limit per household\n*Ages 2+ require a ticket\n*No costumes guest 14+ \nPlease Note: This show contains Flashing Lights\, Haze (Fog)\, and Confetti \nGROUP DISCOUNT:\nDiscounts for groups\, please contact group sales: mstonecipher@simmonsbankarena.com \n\nJoin Mickey Mouse and his friends at Disney On Ice presents Mickey’s Search Party\, an adventure filled with world-class skating\, high-flying acrobatics and unexpected stunts! Look for clues in the search for Tinker Bell through immersive\, fantastic worlds. Explore the colorful spirit realm of Coco\, sail away with Moana as she bravely saves her island\, see Belle in the sky as the enchanted chandelier comes to life\, and sing-along with Elsa in the icy world of Frozen. Make memories during Aladdin\, Toy Story and The Little Mermaid as the search party becomes an all-out celebration! \nEmbark on a quest with Mickey Mouse and pals as they follow Captain Hook’s treasure map for clues to find Tinker Bell after he attempts to capture her magic. Journey across the Marigold Bridge with Miguel from Disney●Pixar’s Coco into the magnificent and mystical Land of the Dead and discover a vibrantly colorful performance with skeletons atop sway poles dancing over the audience in a beautiful cultural celebration of family. Travel to the wintry world of Arendelle and sing along with Elsa as video projection creates a kaleidoscope of crystals to help build her ice palace. Witness Belle lift into the sky as the enchanted chandelier comes to life high over the ice. Demonstrate the power of teamwork when Buzz Lightyear\, Woody and Jessie recruit the Green Army Men for a daring rescue in Andy’s room. Laugh hysterically as the hilarious pirates flip\, tumble\, and twist on tumble tracks\, stilts and more in an effort to showcase their talents for Captain Hook. Sail away with Moana on her daring voyage across the ocean and bravely encounter the fiery wrath of Te Ka. \n*Visit DisneyOnIce.com for more information.
URL:https://argentaartsdistrict.org/event/disney-on-ice-presents-mickeys-search-party/2025-03-21/
LOCATION:Simmons Bank Arena\, 1 Simmons Bank Arena Drive\, North Little Rock\, AR\, 72114\, United States
CATEGORIES:Dance Performance,Family-Friendly,Live Performance,Music,Storytelling
ATTACH;FMTTYPE=image/jpeg:https://argentaartsdistrict.org/wp-content/uploads/2025/02/homepage_w_-_2100_pix_h_-_1100_pix.jpg
END:VEVENT
BEGIN:VEVENT
DTSTART;TZID=America/Chicago:20250320T190000
DTEND;TZID=America/Chicago:20250320T203000
DTSTAMP:20260424T134536
CREATED:20250206T191942Z
LAST-MODIFIED:20250206T191942Z
UID:10000891-1742497200-1742502600@argentaartsdistrict.org
SUMMARY:Disney On Ice presents Mickey's Search Party
DESCRIPTION:TICKETS ON SALE NOW!\nPlus applicable service charges.\n** Prices subject to change\n*There is an 8 ticket limit per household\n*Ages 2+ require a ticket\n*No costumes guest 14+ \nPlease Note: This show contains Flashing Lights\, Haze (Fog)\, and Confetti \nGROUP DISCOUNT:\nDiscounts for groups\, please contact group sales: mstonecipher@simmonsbankarena.com \n\nJoin Mickey Mouse and his friends at Disney On Ice presents Mickey’s Search Party\, an adventure filled with world-class skating\, high-flying acrobatics and unexpected stunts! Look for clues in the search for Tinker Bell through immersive\, fantastic worlds. Explore the colorful spirit realm of Coco\, sail away with Moana as she bravely saves her island\, see Belle in the sky as the enchanted chandelier comes to life\, and sing-along with Elsa in the icy world of Frozen. Make memories during Aladdin\, Toy Story and The Little Mermaid as the search party becomes an all-out celebration! \nEmbark on a quest with Mickey Mouse and pals as they follow Captain Hook’s treasure map for clues to find Tinker Bell after he attempts to capture her magic. Journey across the Marigold Bridge with Miguel from Disney●Pixar’s Coco into the magnificent and mystical Land of the Dead and discover a vibrantly colorful performance with skeletons atop sway poles dancing over the audience in a beautiful cultural celebration of family. Travel to the wintry world of Arendelle and sing along with Elsa as video projection creates a kaleidoscope of crystals to help build her ice palace. Witness Belle lift into the sky as the enchanted chandelier comes to life high over the ice. Demonstrate the power of teamwork when Buzz Lightyear\, Woody and Jessie recruit the Green Army Men for a daring rescue in Andy’s room. Laugh hysterically as the hilarious pirates flip\, tumble\, and twist on tumble tracks\, stilts and more in an effort to showcase their talents for Captain Hook. Sail away with Moana on her daring voyage across the ocean and bravely encounter the fiery wrath of Te Ka. \n*Visit DisneyOnIce.com for more information.
URL:https://argentaartsdistrict.org/event/disney-on-ice-presents-mickeys-search-party/2025-03-20/
LOCATION:Simmons Bank Arena\, 1 Simmons Bank Arena Drive\, North Little Rock\, AR\, 72114\, United States
CATEGORIES:Dance Performance,Family-Friendly,Live Performance,Music,Storytelling
ATTACH;FMTTYPE=image/jpeg:https://argentaartsdistrict.org/wp-content/uploads/2025/02/homepage_w_-_2100_pix_h_-_1100_pix.jpg
END:VEVENT
BEGIN:VEVENT
DTSTART;TZID=America/Chicago:20240915T180000
DTEND;TZID=America/Chicago:20240915T190000
DTSTAMP:20260424T134536
CREATED:20240830T170835Z
LAST-MODIFIED:20240830T170835Z
UID:10000667-1726423200-1726426800@argentaartsdistrict.org
SUMMARY:Bold New Moves - Debut Works by Next-Gen Choreographers
DESCRIPTION:“Bold New Moves – Debut Works by Next-Gen Choreographers” will be presented on the Ballet Arkansas John & Robyn Horn Stage in North Little Rock’s Argenta Plaza. Attendees will be enticed by a series of world premieres set to music from Arkansas recording artists\, classical composers\, indie-folk rock and electronica. This unique event will feature a Q&A format\, providing audiences with an exclusive opportunity to gain insight into the creative process straight from the minds behind the choreography. Libations and culinary delights from local food trucks will add an extra layer of excitement to this already exhilarating experience.\nThe weekend coincides with Argenta Dogtown Throwdown\, during which Main Street from Broadway to 5th Street in North Little Rock is closed for outdoor dining and entertainment. Attendees of both events are welcome to stroll between the two\, and even bring drinks with them as Argenta Plaza is part of the Argenta Outdoor Dining District. Throwdown will occur from 4 p.m. to 10 p.m. Friday and 10 a.m. – 10 p.m. on Saturday.
URL:https://argentaartsdistrict.org/event/bold-new-moves-debut-works-by-next-gen-choreographers/2024-09-15/
LOCATION:Argenta Plaza\, 510 N. Main St.\, North Little Rock\, AR\, 72114\, United States
CATEGORIES:Ballet,Dance Performance,Family-Friendly,Live Performance
ATTACH;FMTTYPE=image/jpeg:https://argentaartsdistrict.org/wp-content/uploads/2024/08/454585120_1009916901139834_1735680541876578790_n.jpg
END:VEVENT
BEGIN:VEVENT
DTSTART;TZID=America/Chicago:20240914T183000
DTEND;TZID=America/Chicago:20240914T193000
DTSTAMP:20260424T134536
CREATED:20240830T170835Z
LAST-MODIFIED:20240830T170835Z
UID:10000666-1726338600-1726342200@argentaartsdistrict.org
SUMMARY:Bold New Moves - Debut Works by Next-Gen Choreographers
DESCRIPTION:“Bold New Moves – Debut Works by Next-Gen Choreographers” will be presented on the Ballet Arkansas John & Robyn Horn Stage in North Little Rock’s Argenta Plaza. Attendees will be enticed by a series of world premieres set to music from Arkansas recording artists\, classical composers\, indie-folk rock and electronica. This unique event will feature a Q&A format\, providing audiences with an exclusive opportunity to gain insight into the creative process straight from the minds behind the choreography. Libations and culinary delights from local food trucks will add an extra layer of excitement to this already exhilarating experience.\nThe weekend coincides with Argenta Dogtown Throwdown\, during which Main Street from Broadway to 5th Street in North Little Rock is closed for outdoor dining and entertainment. Attendees of both events are welcome to stroll between the two\, and even bring drinks with them as Argenta Plaza is part of the Argenta Outdoor Dining District. Throwdown will occur from 4 p.m. to 10 p.m. Friday and 10 a.m. – 10 p.m. on Saturday.
URL:https://argentaartsdistrict.org/event/bold-new-moves-debut-works-by-next-gen-choreographers/2024-09-14/
LOCATION:Argenta Plaza\, 510 N. Main St.\, North Little Rock\, AR\, 72114\, United States
CATEGORIES:Ballet,Dance Performance,Family-Friendly,Live Performance
ATTACH;FMTTYPE=image/jpeg:https://argentaartsdistrict.org/wp-content/uploads/2024/08/454585120_1009916901139834_1735680541876578790_n.jpg
END:VEVENT
BEGIN:VEVENT
DTSTART;TZID=America/Chicago:20240913T183000
DTEND;TZID=America/Chicago:20240913T193000
DTSTAMP:20260424T134536
CREATED:20240830T170835Z
LAST-MODIFIED:20240830T170835Z
UID:10000665-1726252200-1726255800@argentaartsdistrict.org
SUMMARY:Bold New Moves - Debut Works by Next-Gen Choreographers
DESCRIPTION:“Bold New Moves – Debut Works by Next-Gen Choreographers” will be presented on the Ballet Arkansas John & Robyn Horn Stage in North Little Rock’s Argenta Plaza. Attendees will be enticed by a series of world premieres set to music from Arkansas recording artists\, classical composers\, indie-folk rock and electronica. This unique event will feature a Q&A format\, providing audiences with an exclusive opportunity to gain insight into the creative process straight from the minds behind the choreography. Libations and culinary delights from local food trucks will add an extra layer of excitement to this already exhilarating experience.\nThe weekend coincides with Argenta Dogtown Throwdown\, during which Main Street from Broadway to 5th Street in North Little Rock is closed for outdoor dining and entertainment. Attendees of both events are welcome to stroll between the two\, and even bring drinks with them as Argenta Plaza is part of the Argenta Outdoor Dining District. Throwdown will occur from 4 p.m. to 10 p.m. Friday and 10 a.m. – 10 p.m. on Saturday.
URL:https://argentaartsdistrict.org/event/bold-new-moves-debut-works-by-next-gen-choreographers/2024-09-13/
LOCATION:Argenta Plaza\, 510 N. Main St.\, North Little Rock\, AR\, 72114\, United States
CATEGORIES:Ballet,Dance Performance,Family-Friendly,Live Performance
ATTACH;FMTTYPE=image/jpeg:https://argentaartsdistrict.org/wp-content/uploads/2024/08/454585120_1009916901139834_1735680541876578790_n.jpg
END:VEVENT
END:VCALENDAR