BEGIN:VCALENDAR
VERSION:2.0
PRODID:-//Argenta Arts District - ECPv6.15.20//NONSGML v1.0//EN
CALSCALE:GREGORIAN
METHOD:PUBLISH
X-WR-CALNAME:Argenta Arts District
X-ORIGINAL-URL:https://argentaartsdistrict.org
X-WR-CALDESC:Events for Argenta Arts District
REFRESH-INTERVAL;VALUE=DURATION:PT1H
X-Robots-Tag:noindex
X-PUBLISHED-TTL:PT1H
BEGIN:VTIMEZONE
TZID:America/Chicago
BEGIN:DAYLIGHT
TZOFFSETFROM:-0600
TZOFFSETTO:-0500
TZNAME:CDT
DTSTART:20240310T080000
END:DAYLIGHT
BEGIN:STANDARD
TZOFFSETFROM:-0500
TZOFFSETTO:-0600
TZNAME:CST
DTSTART:20241103T070000
END:STANDARD
BEGIN:DAYLIGHT
TZOFFSETFROM:-0600
TZOFFSETTO:-0500
TZNAME:CDT
DTSTART:20250309T080000
END:DAYLIGHT
BEGIN:STANDARD
TZOFFSETFROM:-0500
TZOFFSETTO:-0600
TZNAME:CST
DTSTART:20251102T070000
END:STANDARD
BEGIN:DAYLIGHT
TZOFFSETFROM:-0600
TZOFFSETTO:-0500
TZNAME:CDT
DTSTART:20260308T080000
END:DAYLIGHT
BEGIN:STANDARD
TZOFFSETFROM:-0500
TZOFFSETTO:-0600
TZNAME:CST
DTSTART:20261101T070000
END:STANDARD
END:VTIMEZONE
BEGIN:VEVENT
DTSTART;TZID=America/Chicago:20250411T160000
DTEND;TZID=America/Chicago:20250412T220000
DTSTAMP:20260425T082407
CREATED:20250130T173051Z
LAST-MODIFIED:20250411T130627Z
UID:10000838-1744387200-1744495200@argentaartsdistrict.org
SUMMARY:Dogtown Throwdown
DESCRIPTION:FREE COMMUNITY EVENT!\n\n\nJoin us for the first Argenta Dogtown Throwdown of 2025! Each event will have a theme this year and April is all about cajun food\, music and fun.\nEnjoy a crawfish boil from Four Quarter Bar\, cajun inspired specials from all the restaurants\, live music from Dikki Du and the Zydeco Krewe and Mardi Gras mask-making at Argenta library.Passons un bon temps!\n\n\nFollow Our Facebook Event for Updates!\n\n\n\nFULL SCHEDULE:\n\nFRIDAY\, APRIL 114 pm Kick off the weekend with Happy Hour!7 pm “Hoedown for Dogtown Throwdown” Country Karaoke at Skinny J’s https://www.facebook.com/photo?fbid=1207859474682334&set=a.4530469101635987 pm Enjoy yard games and an acoustic set by Chris DeClerk at Argenta Library\n\nSATURDAY\, APRIL 129 am-12 pm NLRFD Physical Ability Test for Kidshttps://www.facebook.com/share/1Ba34GT1BX/Plus more kids crafts and activities from Argenta Library and First Security Bank!12-2 pm “Sparkling Saturday” Champagne brunchhttps://www.facebook.com/share/1EWQksoB1x/Starting a 2 pm Crawfish Boil from Four Quarter Barhttps://www.facebook.com/share/1EYBUWnx3D/2 pm-6 pm Spring Market at Flywayhttps://www.facebook.com/share/19s4TSTwGM/5 pm-7 pm Chris “Bucket” Shelton at Blackberry Market7 pm Dikki Du & The Zydeco Krewe on the main stage next to Argenta Library\n\n\nTHANK YOU TO OUR SPONSORS:Ben E. Keith FoodsNorth Little Rock TourismSimmons BankAlessi Keyes ConstructionFirst Security BankTaggart Architects\nIN PARTNERSHIP WITH:Blackberry MarketBrood & BarleyCrush Wine BarDraft + TableFlyway BrewingFour Quarter BarReno’sSkinny J’s Argenta\n\n\nSAVE THE DATES FOR UPCOMING DOGTOWN THROWDOWNS!May 9-10September 12-13October 10-11\n\nBe sure and check out these events happening in the community this weekend!\nARKANSAS TRAVELERS GAMESFriday\, April 11\, 7:05 pmSaturday\, April 12\, 6:05 pmTickets: https://www.milb.com/arkansas/tickets/single-game-tickets\nWALK MS: LITTLE ROCK 2025Saturday\, April 12\, Walk Kickoff: 9:30 amArgenta PlazaMore details: https://events.nationalmssociety.org/index.cfm…\nARGENTA CONTEMPORARY THEATER: GYPSYFriday\, April 11\, 7 pmSaturday\, April 12\, 2 pm & 7 pmhttps://argentacontemporarytheatre.org/2024-2025/gypsy/
URL:https://argentaartsdistrict.org/event/dogtown-throwdown-9/
LOCATION:AR
CATEGORIES:Art,Food,Live Performance
ATTACH;FMTTYPE=image/png:https://argentaartsdistrict.org/wp-content/uploads/2024/01/ARGENTA-EVENTS-1.png
END:VEVENT
BEGIN:VEVENT
DTSTART;TZID=America/Chicago:20250428T190000
DTEND;TZID=America/Chicago:20250428T213000
DTSTAMP:20260425T082407
CREATED:20250325T135832Z
LAST-MODIFIED:20250325T140725Z
UID:10000914-1745866800-1745875800@argentaartsdistrict.org
SUMMARY:Macon Road Show Comes to North Little Rock
DESCRIPTION:The Macon Road Show is rescheduling their trip to NLR! \n(After a snow day fiasco back in February) Oxford American is excited to bring an unforgettable night of soul\, blues\, and Southern rock to Four Quarter Bar on Monday\, April 28\, 2025\, at 7:00 pm featuring music by Greg Spradlin & the Delta Soul Singers and Macon Music Revue. Doors will open at 6 pm\, so come early to enjoy a delicious southern inspired menu from Four Quarter Bar. \nPurchase Tickets\nGreg Spradlin has been a professional musician since before he could legally drive. He used a fake driver’s license to play in bars and learn from his mentors\, and he traveled to the Delta to search for the homes and graves of his music idols. From a young age\, he played honky-tonks with legendary Sun Records rockabilly artists and played blues clubs and juke joints with the likes of Frank Frost and Sam Carr. Greg’s love of the Delta and its music has led to his work on projects\, such as relocating Levon Helm’s boyhood home into downtown Marvell\, AR\, as well as fundraising and commissioning the bust of Helm that now resides in the house and museum. In addition\, Greg helped introduce legislation to designate memorial highways in the Delta named for local residents\, Sister Rosetta Tharpe\, Louis Jordan\, Levon Helm\, Johnny Cash\, and the Americana Music Highway. \nJoining Greg will be the Delta Soul Singers—a collection of some of Central Arkansas’s finest voices\, featuring Crystal Hayes\, Michael Dotson\, and Zetoria Curry. \nPaying tribute to its city’s musical inheritance\, Macon Music Revue proudly calls itself a “preservation band.” The five-piece group takes the stage at historic Grant’s Lounge every Wednesday night to mine the catalogs of hometown heroes Little Richard\, Otis Redding\, and The Allman Brothers Band\, while also digging deep into the songs of Capricorn Records. The Revue also puts its spin on cuts by James Brown\, whose career was kick-started in Macon\, by Atlanta Rhythm Section\, whose lead singer—the late Ronnie Hammond—was a native Maconite\, and by R.E.M. \nThe undeniable power of Macon’s soul-and-Southern Rock bloodline radiates through the gospel-soaked vocals of Charles Davis\, the attention-holding solos and slide work of guitarist Dustin McCook\, and the organ and piano of Ethan Hamlin\, the 24-year-old following in the footsteps of his Macon keyboard predecessors\, Gregg Allman and Chuck Leavell. The Revue is anchored by drummer Caleb Melvin and bassist Evan Bentzel\, who embrace the laid back lineage of Macon’s groove and keep it firmly fastened in the pocket. \nThank you to Oxford American\, Visit Macon\, and North Little Rock Tourism for making this event possible.
URL:https://argentaartsdistrict.org/event/macon-road-show-comes-to-north-little-rock-2/
LOCATION:Four Quarter Bar\, 415 Main St\, North Little Rock\, AR\, 72114\, United States
CATEGORIES:Food,Live Performance,Music
ATTACH;FMTTYPE=image/jpeg:https://argentaartsdistrict.org/wp-content/uploads/2025/03/MaconRoadShow_Ads_Rescheduled2-1.jpg
END:VEVENT
END:VCALENDAR