BEGIN:VCALENDAR
VERSION:2.0
PRODID:-//Argenta Arts District - ECPv6.15.20//NONSGML v1.0//EN
CALSCALE:GREGORIAN
METHOD:PUBLISH
X-ORIGINAL-URL:https://argentaartsdistrict.org
X-WR-CALDESC:Events for Argenta Arts District
REFRESH-INTERVAL;VALUE=DURATION:PT1H
X-Robots-Tag:noindex
X-PUBLISHED-TTL:PT1H
BEGIN:VTIMEZONE
TZID:America/Chicago
BEGIN:DAYLIGHT
TZOFFSETFROM:-0600
TZOFFSETTO:-0500
TZNAME:CDT
DTSTART:20240310T080000
END:DAYLIGHT
BEGIN:STANDARD
TZOFFSETFROM:-0500
TZOFFSETTO:-0600
TZNAME:CST
DTSTART:20241103T070000
END:STANDARD
BEGIN:DAYLIGHT
TZOFFSETFROM:-0600
TZOFFSETTO:-0500
TZNAME:CDT
DTSTART:20250309T080000
END:DAYLIGHT
BEGIN:STANDARD
TZOFFSETFROM:-0500
TZOFFSETTO:-0600
TZNAME:CST
DTSTART:20251102T070000
END:STANDARD
BEGIN:DAYLIGHT
TZOFFSETFROM:-0600
TZOFFSETTO:-0500
TZNAME:CDT
DTSTART:20260308T080000
END:DAYLIGHT
BEGIN:STANDARD
TZOFFSETFROM:-0500
TZOFFSETTO:-0600
TZNAME:CST
DTSTART:20261101T070000
END:STANDARD
END:VTIMEZONE
BEGIN:VEVENT
DTSTART;TZID=America/Chicago:20251004T180000
DTEND;TZID=America/Chicago:20251004T210000
DTSTAMP:20260424T225107
CREATED:20250130T183036Z
LAST-MODIFIED:20250811T205340Z
UID:10000846-1759600800-1759611600@argentaartsdistrict.org
SUMMARY:Argenta Vibe Music Series-Arkansauce
DESCRIPTION:Join us for for the season-closing free concert featuring Arkansauce in their annual Argenta Vibe appearance. The Ozark-born progressive string quartet\, masterfully blends newgrass\, folk\, country\, blues\, and funk for an energetic\, foot-stomping experience. They’ve become a beloved Argenta staple—don’t miss their explosive finale performance! \nTheir sound is rooted in the traditions of string music\, but takes flight with improvisational leads\, complex melodies\, intriguing rhythms\, and deep thumping bass grooves. All four musicians sing lead and harmony vocals\, crafting smart\, heartfelt lyrics with hard-hitting hooks that stick with you long after the last note fades. \nLearn more and sample their music!\nThis event is free and open to the public. Chairs and blankets encouraged. Food and drinks will be available for purchase from local food trucks and Flyway Brewing. Or get there early and grab a drink or bite to eat from one of our amazing local restaurant to enjoy during the show.\n\n EVENT SCHEDULE6:00 PM – Gates open — grab a drink\, settle in with your chairs or blanket6:30 PM – Enjoy activities for the whole family and a pre-show playlist7:30 PM – Arkansauce hits the stage with a full-force set to close out the season\nFood\, beer\, and cocktails will be available from Argenta’s best restaurants and vendors all evening.\n\n\nLet’s wrap up an incredible 2025 Argenta Vibe season with an unforgettable night of rhythm\, roots\, and community under the stars. Don’t miss this beloved Arkansas band in their element!\n\nThank you to our amazing sponsors: Tito’s Handmade Vodka\, Applied Technology Group\, Draft + Table Argenta\, NLR Tourism\, 107 Liquor\, Flyway Brewing\, Ben E. Keith Foods\, Centennial Bank\, J. Chandler Historic Restoration\, Alessi Keyes Construction\, ACANSA Arts Festival of the South\, CFO Network\, CWP Productions\, The City of North Little Rock and The Argenta Downtown Council.\n\n\nWant the VIP treatment?Upgrade your night for $50 and enjoy:Specialty Tito’s cocktailsFlyway Brewing beerFood from Four Quarter BarPremium seating and dance floor access\nPurchase VIP Tickets
URL:https://argentaartsdistrict.org/event/argenta-vibe-music-series-9/
LOCATION:Argenta Plaza\, 510 N. Main St.\, North Little Rock\, AR\, 72114\, United States
CATEGORIES:Live Performance
ATTACH;FMTTYPE=image/png:https://argentaartsdistrict.org/wp-content/uploads/2025/01/AVMS_final-03-2.png
END:VEVENT
BEGIN:VEVENT
DTSTART;TZID=America/Chicago:20251010T160000
DTEND;TZID=America/Chicago:20251011T220000
DTSTAMP:20260424T225107
CREATED:20250130T175835Z
LAST-MODIFIED:20251006T171711Z
UID:10000841-1760112000-1760220000@argentaartsdistrict.org
SUMMARY:Dogtown Throwdown
DESCRIPTION:FREE COMMUNITY EVENT!\n\n\nJoin us for Dogtown Throwdown: Fall Feast Edition this October! Argenta’s lively street festival celebrates the flavors of the season with hearty comfort foods\, live music\, and dog-friendly fun. Main Street is closed from Broadway to 5th St. from 4 pm Friday to 10 pm Saturday. This will be our last event for the year-Don’t miss it!!\n\nFULL SCHEDULE:\nFRIDAY\, OCTOBER 10\n\n5:30 pm & 6 pm Inaugural Argenta Mural Walk–Two guided tours through the Arts District\, with artists on site to share insight into their work. More details: argentaartsdistrict.org/event/argenta-mural-walk\n5 pm Live music! Kick off the weekend with DJ Dripfunk spinning in the street in front of Blackberry Market!facebook.com/technopunk6 pm Live music! Gavin Harper on the patio at Crush Wine Bar6 pm Yoga at the Plaza with Dogtown Yoga7 pm Live music! Whoa Dakota performing on the steps of Argenta Library\n\nSATURDAY\, OCTOBER 1110 am-2 pm Kids Activities from First Security BankChildren’s Business Fair hosted by Argenta Libraryhttps://www.facebook.com/photo?fbid=122161454180606921&set=a.12210466692860692110 am-1 pm NLR Animal Shelter Mobile Adoption Unit & 12 pm Annual Blessing of the Animals by Argenta United Methodist Church https://www.facebook.com/share/17LNomrm2j/12-2 pm “Sparkling Saturday” with several Argenta restaurants offering champagne and mimosa specialshttps://www.facebook.com/share/1GqK7jnoX4/2 pm-6 pm Vintage Market at Flyway Brewing5 pm Live music! Chris “Bucket” Shelton in front of Blackberry Market7 pm Live music! Black River Pearl on the stage next to Argenta Library\n\nBe sure to stop by the Argenta Arts District table\, set up on Main St. throughout the weekend\, where you can grab exclusive “I Love Argenta” and “Dogtown Throwdown” t-shirts. Show your support for the neighborhood—and look good doing it!\n\nTHANK YOU TO OUR SPONSORS:Ben E. Keith FoodsNorth Little Rock TourismSimmons BankAlessi Keyes ConstructionFirst Security BankTaggart Architects\n\nIN PARTNERSHIP WITH:Blackberry MarketBrood & BarleyCrush Wine BarDraft + TableFlyway BrewingFour Quarter BarReno’sSkinny J’s Argenta\n\nCHECK OUT THESE EVENTS HAPPENING AT ARGENTA PLAZA THIS WEEKEND!\nSaturday\, October 11Dogtown Beer Down-registration link coming soon!https://www.facebook.com/ArgentaBeerMileLittle Rocktoberfesthttps://www.facebook.com/littlerocktoberfest
URL:https://argentaartsdistrict.org/event/dogtown-throwdown-12/
CATEGORIES:Art,Food,Live Performance
ATTACH;FMTTYPE=image/png:https://argentaartsdistrict.org/wp-content/uploads/2024/01/ARGENTA-EVENTS-1.png
END:VEVENT
END:VCALENDAR