BEGIN:VCALENDAR
VERSION:2.0
PRODID:-//Argenta Arts District - ECPv6.15.20//NONSGML v1.0//EN
CALSCALE:GREGORIAN
METHOD:PUBLISH
X-ORIGINAL-URL:https://argentaartsdistrict.org
X-WR-CALDESC:Events for Argenta Arts District
REFRESH-INTERVAL;VALUE=DURATION:PT1H
X-Robots-Tag:noindex
X-PUBLISHED-TTL:PT1H
BEGIN:VTIMEZONE
TZID:America/Chicago
BEGIN:DAYLIGHT
TZOFFSETFROM:-0600
TZOFFSETTO:-0500
TZNAME:CDT
DTSTART:20230312T080000
END:DAYLIGHT
BEGIN:STANDARD
TZOFFSETFROM:-0500
TZOFFSETTO:-0600
TZNAME:CST
DTSTART:20231105T070000
END:STANDARD
BEGIN:DAYLIGHT
TZOFFSETFROM:-0600
TZOFFSETTO:-0500
TZNAME:CDT
DTSTART:20240310T080000
END:DAYLIGHT
BEGIN:STANDARD
TZOFFSETFROM:-0500
TZOFFSETTO:-0600
TZNAME:CST
DTSTART:20241103T070000
END:STANDARD
BEGIN:DAYLIGHT
TZOFFSETFROM:-0600
TZOFFSETTO:-0500
TZNAME:CDT
DTSTART:20250309T080000
END:DAYLIGHT
BEGIN:STANDARD
TZOFFSETFROM:-0500
TZOFFSETTO:-0600
TZNAME:CST
DTSTART:20251102T070000
END:STANDARD
BEGIN:DAYLIGHT
TZOFFSETFROM:-0600
TZOFFSETTO:-0500
TZNAME:CDT
DTSTART:20260308T080000
END:DAYLIGHT
BEGIN:STANDARD
TZOFFSETFROM:-0500
TZOFFSETTO:-0600
TZNAME:CST
DTSTART:20261101T070000
END:STANDARD
END:VTIMEZONE
BEGIN:VEVENT
DTSTART;TZID=America/Chicago:20241231T203000
DTEND;TZID=America/Chicago:20250101T010000
DTSTAMP:20260425T225123
CREATED:20241113T180504Z
LAST-MODIFIED:20241113T180632Z
UID:10000825-1735677000-1735693200@argentaartsdistrict.org
SUMMARY:NYE - The Main Thing - A Fertle Holiday
DESCRIPTION:Ring in the new year with all your friends at The Joint! On Tuesday\, December 31\, our doors will open at 8 p.m. for a full night of comedy\, fun\, food and live music. A catered meal will be served at intermission of our 2-act comedy A FERTLE HOLIDAY\, then just before midnight your complimentary champagne will be served as we ring in 2025. After toasting the New Year\, THE MAIN THING will play live rock’n’roll as we push the tables and chairs aside to dance and party. Purchase tickets online or call the box office at 501-626-7181 \nSeating is assigned when reservations are made! The earlier you buy tickets the better seats you will get! \nTickets are $65 plus tax. Tickets include the show\, dinner\, noise makers\, a champagne toast and live music till 1 am! \nThe Joint has the very best in live comedy entertainment\, featuring our resident professional comedy company…a world-class trio of actors and musicians known as The Main Thing. \nWhat is The Main Thing? It’s three people doing multiple comic characters and playing multiple musical instruments. It’s the singing Fertle family; it’s Arkansas satire. It’s sketch comedy and full length plays. \nTheir work has been featured on Saturday Night Live\, MTV\, HBO\, Off-Broadway\, and on Dick Clark’s United Stations Radio Network. They now make their permanent home right here\, creating and performing original comedies year-round. We feel safe to say that The Main Thing’s shows will be the funniest live comedy you’ve ever seen!
URL:https://argentaartsdistrict.org/event/nye-the-main-thing-a-fertile-holiday/
LOCATION:The Joint\, 301 Main St #102\, North Little Rock\, AR\, 72114\, United States
CATEGORIES:Comedy,Food,Live Performance,Music
ATTACH;FMTTYPE=image/webp:https://argentaartsdistrict.org/wp-content/uploads/2024/11/54cb0a_5df1606ff0284f27a628e3fe7a0adde7mv2.webp
END:VEVENT
END:VCALENDAR