BEGIN:VCALENDAR
VERSION:2.0
PRODID:-//Argenta Arts District - ECPv6.15.20//NONSGML v1.0//EN
CALSCALE:GREGORIAN
METHOD:PUBLISH
X-ORIGINAL-URL:https://argentaartsdistrict.org
X-WR-CALDESC:Events for Argenta Arts District
REFRESH-INTERVAL;VALUE=DURATION:PT1H
X-Robots-Tag:noindex
X-PUBLISHED-TTL:PT1H
BEGIN:VTIMEZONE
TZID:America/Chicago
BEGIN:DAYLIGHT
TZOFFSETFROM:-0600
TZOFFSETTO:-0500
TZNAME:CDT
DTSTART:20240310T080000
END:DAYLIGHT
BEGIN:STANDARD
TZOFFSETFROM:-0500
TZOFFSETTO:-0600
TZNAME:CST
DTSTART:20241103T070000
END:STANDARD
BEGIN:DAYLIGHT
TZOFFSETFROM:-0600
TZOFFSETTO:-0500
TZNAME:CDT
DTSTART:20250309T080000
END:DAYLIGHT
BEGIN:STANDARD
TZOFFSETFROM:-0500
TZOFFSETTO:-0600
TZNAME:CST
DTSTART:20251102T070000
END:STANDARD
BEGIN:DAYLIGHT
TZOFFSETFROM:-0600
TZOFFSETTO:-0500
TZNAME:CDT
DTSTART:20260308T080000
END:DAYLIGHT
BEGIN:STANDARD
TZOFFSETFROM:-0500
TZOFFSETTO:-0600
TZNAME:CST
DTSTART:20261101T070000
END:STANDARD
END:VTIMEZONE
BEGIN:VEVENT
DTSTART;TZID=America/Chicago:20250301T200000
DTEND;TZID=America/Chicago:20250301T223000
DTSTAMP:20260425T132353
CREATED:20250206T190138Z
LAST-MODIFIED:20250206T190138Z
UID:10000885-1740859200-1740868200@argentaartsdistrict.org
SUMMARY:Tamia & Joe
DESCRIPTION:Tamia\, a chart-topping artist with a career spanning over two decades\, continues to captivate audiences with her soulful voice and timeless hits. With Grammy nominations and numerous awards under her belt\, Tamia is considered a force in the R&B genre\, delivering performances that resonate with fans around the globe. \nJoe\, acclaimed for his velvety vocals and chart-topping R&B classics\, will bring his signature style to the stage. With a career marked by hit singles like “All the Things (Your Man Won’t Do)” and “I Wanna Know\,” Joe has solidified his status as an R&B icon\, earning him critical acclaim and a dedicated fan base.
URL:https://argentaartsdistrict.org/event/tamia-joe/
LOCATION:Simmons Bank Arena\, 1 Simmons Bank Arena Drive\, North Little Rock\, AR\, 72114\, United States
CATEGORIES:Live Performance,Music
ATTACH;FMTTYPE=image/jpeg:https://argentaartsdistrict.org/wp-content/uploads/2025/02/tjpostponedwebsitehomepage_copy_2.jpg
END:VEVENT
END:VCALENDAR