BEGIN:VCALENDAR
VERSION:2.0
PRODID:-//Argenta Arts District - ECPv6.15.20//NONSGML v1.0//EN
CALSCALE:GREGORIAN
METHOD:PUBLISH
X-WR-CALNAME:Argenta Arts District
X-ORIGINAL-URL:https://argentaartsdistrict.org
X-WR-CALDESC:Events for Argenta Arts District
REFRESH-INTERVAL;VALUE=DURATION:PT1H
X-Robots-Tag:noindex
X-PUBLISHED-TTL:PT1H
BEGIN:VTIMEZONE
TZID:America/Chicago
BEGIN:DAYLIGHT
TZOFFSETFROM:-0600
TZOFFSETTO:-0500
TZNAME:CDT
DTSTART:20240310T080000
END:DAYLIGHT
BEGIN:STANDARD
TZOFFSETFROM:-0500
TZOFFSETTO:-0600
TZNAME:CST
DTSTART:20241103T070000
END:STANDARD
BEGIN:DAYLIGHT
TZOFFSETFROM:-0600
TZOFFSETTO:-0500
TZNAME:CDT
DTSTART:20250309T080000
END:DAYLIGHT
BEGIN:STANDARD
TZOFFSETFROM:-0500
TZOFFSETTO:-0600
TZNAME:CST
DTSTART:20251102T070000
END:STANDARD
BEGIN:DAYLIGHT
TZOFFSETFROM:-0600
TZOFFSETTO:-0500
TZNAME:CDT
DTSTART:20260308T080000
END:DAYLIGHT
BEGIN:STANDARD
TZOFFSETFROM:-0500
TZOFFSETTO:-0600
TZNAME:CST
DTSTART:20261101T070000
END:STANDARD
END:VTIMEZONE
BEGIN:VEVENT
DTSTART;TZID=America/Chicago:20251010T173000
DTEND;TZID=America/Chicago:20251010T183000
DTSTAMP:20260425T065405
CREATED:20250926T153404Z
LAST-MODIFIED:20251006T171748Z
UID:10000915-1760117400-1760121000@argentaartsdistrict.org
SUMMARY:Argenta Mural Walk
DESCRIPTION:Discover the art that brings Argenta to life at our first-ever Mural Walk on Friday\, October 10! Take a guided stroll through the district and hear directly from the artists about their inspiration\, process\, and creative journeys. \nGuided Tours (beginning at Flyway Brewing):• 5:30 PM • 6:00 PM \nFeatured artists on site: Kevin Kresse\, Robin Tucker\, Emily Wood\, José Hernandez\, Mark Blaney\, Perrion Hurd\, Ed Pennebaker\, Terry Bean\, Theresa Gates\, Tifany Hamlin and Meikel Church. \nThe Mural Walk is part of Dogtown Throwdown\, so after your tour stick around for the neighborhood block party! Dine at your favorite Argenta restaurants\, sip and stroll in the entertainment district\, and cap off the night with live music from Whoa Dakota at 7 PM. \nFree and family-friendly—perfect for an evening of art\, food\, and music in the heart of the Argenta Arts District. \nInvite your friends and be part of this brand-new Argenta experience! \nBrought to you by Argenta Downtown Council and ACANSA Arts Festival of the South
URL:https://argentaartsdistrict.org/event/argenta-mural-walk/
CATEGORIES:Art,Family-Friendly,Local Art,Storytelling
ATTACH;FMTTYPE=image/png:https://argentaartsdistrict.org/wp-content/uploads/2025/09/mural.png
END:VEVENT
END:VCALENDAR