BEGIN:VCALENDAR
VERSION:2.0
PRODID:-//Argenta Arts District - ECPv6.15.20//NONSGML v1.0//EN
CALSCALE:GREGORIAN
METHOD:PUBLISH
X-ORIGINAL-URL:https://argentaartsdistrict.org
X-WR-CALDESC:Events for Argenta Arts District
REFRESH-INTERVAL;VALUE=DURATION:PT1H
X-Robots-Tag:noindex
X-PUBLISHED-TTL:PT1H
BEGIN:VTIMEZONE
TZID:America/Chicago
BEGIN:DAYLIGHT
TZOFFSETFROM:-0600
TZOFFSETTO:-0500
TZNAME:CDT
DTSTART:20230312T080000
END:DAYLIGHT
BEGIN:STANDARD
TZOFFSETFROM:-0500
TZOFFSETTO:-0600
TZNAME:CST
DTSTART:20231105T070000
END:STANDARD
BEGIN:DAYLIGHT
TZOFFSETFROM:-0600
TZOFFSETTO:-0500
TZNAME:CDT
DTSTART:20240310T080000
END:DAYLIGHT
BEGIN:STANDARD
TZOFFSETFROM:-0500
TZOFFSETTO:-0600
TZNAME:CST
DTSTART:20241103T070000
END:STANDARD
BEGIN:DAYLIGHT
TZOFFSETFROM:-0600
TZOFFSETTO:-0500
TZNAME:CDT
DTSTART:20250309T080000
END:DAYLIGHT
BEGIN:STANDARD
TZOFFSETFROM:-0500
TZOFFSETTO:-0600
TZNAME:CST
DTSTART:20251102T070000
END:STANDARD
BEGIN:DAYLIGHT
TZOFFSETFROM:-0600
TZOFFSETTO:-0500
TZNAME:CDT
DTSTART:20260308T080000
END:DAYLIGHT
BEGIN:STANDARD
TZOFFSETFROM:-0500
TZOFFSETTO:-0600
TZNAME:CST
DTSTART:20261101T070000
END:STANDARD
END:VTIMEZONE
BEGIN:VEVENT
DTSTART;TZID=America/Chicago:20250125T140000
DTEND;TZID=America/Chicago:20250125T140000
DTSTAMP:20260424T193920
CREATED:20250109T201708Z
LAST-MODIFIED:20250109T201708Z
UID:10000834-1737813600-1737813600@argentaartsdistrict.org
SUMMARY:Harlem Globetrotters 2025 World Tour Presented by Jersey Mike's Subs
DESCRIPTION:You love the dunks\, alley-oops\, looooong shots\, magic\, history and laughs! Don’t miss your chance to see what fans love about the Harlem Globetrotters plus more as the world-famous Globetrotters level-up every game with all-new\, exciting challenges in 2025! \n  \nNEW year\, NEW global tour\, NEW challenges! Same Globetrotters you LOVE! \n  \nYou’ll see all the amazing basketball spins\, slams\, and dunks that you’ve come to expect at every Globetrotters game\, PLUS new trials as players face-off to see who can pull off astonishing trick shots and more! See your favorite Globetrotter stars and their renowned rivals\, the Washington Generals\, LIVE as they challenge themselves and each other to new moves\, new shots\, and new innovations! \n  \nHammer\, TNT\, Bulldog\, Cheese\, Torch\, Hot Shot\, Jet\, Wham\, Thunder – just to name a few – are as committed to running circles around the Washington Generals ON THE COURT as they are to getting HYPED IN THE STANDS WITH YOU\, THE FANS – before\, during\, and after the game!! EVERY FAN is a part of the fun! YOU might even find yourself on the court to compete at the all-new\, fan-filled Halftime Skills Showcase!
URL:https://argentaartsdistrict.org/event/harlem-globetrotters-2025-world-tour-presented-by-jersey-mikes-subs/
LOCATION:Simmons Bank Arena\, 1 Simmons Bank Arena Drive\, North Little Rock\, AR\, 72114\, United States
CATEGORIES:Family-Friendly,Sports
ATTACH;FMTTYPE=image/jpeg:https://argentaartsdistrict.org/wp-content/uploads/2025/01/hg25websitehomepage_copy.jpg
END:VEVENT
BEGIN:VEVENT
DTSTART;TZID=America/Chicago:20241214T150000
DTEND;TZID=America/Chicago:20241214T150000
DTSTAMP:20260424T193920
CREATED:20241125T173305Z
LAST-MODIFIED:20241125T173305Z
UID:10000831-1734188400-1734188400@argentaartsdistrict.org
SUMMARY:Arkansas Razorbacks vs. UCA Bears
DESCRIPTION:
URL:https://argentaartsdistrict.org/event/arkansas-razorbacks-vs-uca-bears/
LOCATION:Simmons Bank Arena\, 1 Simmons Bank Arena Drive\, North Little Rock\, AR\, 72114\, United States
CATEGORIES:Sports
ATTACH;FMTTYPE=image/jpeg:https://argentaartsdistrict.org/wp-content/uploads/2024/11/razz24websitehomepage_copy.jpg
END:VEVENT
BEGIN:VEVENT
DTSTART;TZID=America/Chicago:20241011T160000
DTEND;TZID=America/Chicago:20241011T210000
DTSTAMP:20260424T193920
CREATED:20240930T203631Z
LAST-MODIFIED:20240930T203631Z
UID:10000695-1728662400-1728680400@argentaartsdistrict.org
SUMMARY:Putting on the Plaza
DESCRIPTION:Arkansas Open is hosting a Putting on the Plaza putting competition on October 11\, 2024 from 4 p.m. to 9 p.m. at Argenta Plaza \nThis event is free and family friendly with beginner\, amateur and pro divisions with giveaways and a $50 prize for division winners. \nPutting on the Plaza is brought to you by North Little Rock Tourism\, North Little Rock Parks and Recreation\, and Arkansas Rocks FM
URL:https://argentaartsdistrict.org/event/putting-on-the-plaza/
LOCATION:Argenta Plaza\, 510 N. Main St.\, North Little Rock\, AR\, 72114\, United States
CATEGORIES:Family-Friendly,Sports
ATTACH;FMTTYPE=image/png:https://argentaartsdistrict.org/wp-content/uploads/2024/09/General-Info-W-QR-1.png
END:VEVENT
BEGIN:VEVENT
DTSTART;TZID=America/Chicago:20240908T133500
DTEND;TZID=America/Chicago:20240908T133500
DTSTAMP:20260424T193920
CREATED:20240830T160006Z
LAST-MODIFIED:20240830T160006Z
UID:10000658-1725802500-1725802500@argentaartsdistrict.org
SUMMARY:Arkansas Travelers vs. Corpus Christi Hooks
DESCRIPTION:Come watch the Arkansas Travelers play! Be sure to check the Travelers website for special promotions like fireworks\, Brunch at the Ballpark\, and more!
URL:https://argentaartsdistrict.org/event/arkansas-travelers-vs-corpus-christi-hooks/2024-09-08/
LOCATION:Dickey-Stephens\, 400 W Broadway St\, North Little Rock\, Arkansas\, 72114
CATEGORIES:Food,Sports
ATTACH;FMTTYPE=image/png:https://argentaartsdistrict.org/wp-content/uploads/2024/01/Ark_Travelers.png
END:VEVENT
BEGIN:VEVENT
DTSTART;TZID=America/Chicago:20240907T180500
DTEND;TZID=America/Chicago:20240907T180500
DTSTAMP:20260424T193920
CREATED:20240830T160006Z
LAST-MODIFIED:20240830T160006Z
UID:10000657-1725732300-1725732300@argentaartsdistrict.org
SUMMARY:Arkansas Travelers vs. Corpus Christi Hooks
DESCRIPTION:Come watch the Arkansas Travelers play! Be sure to check the Travelers website for special promotions like fireworks\, Brunch at the Ballpark\, and more!
URL:https://argentaartsdistrict.org/event/arkansas-travelers-vs-corpus-christi-hooks/2024-09-07/
LOCATION:Dickey-Stephens\, 400 W Broadway St\, North Little Rock\, Arkansas\, 72114
CATEGORIES:Food,Sports
ATTACH;FMTTYPE=image/png:https://argentaartsdistrict.org/wp-content/uploads/2024/01/Ark_Travelers.png
END:VEVENT
BEGIN:VEVENT
DTSTART;TZID=America/Chicago:20240906T190500
DTEND;TZID=America/Chicago:20240906T190500
DTSTAMP:20260424T193920
CREATED:20240830T160006Z
LAST-MODIFIED:20240830T160006Z
UID:10000656-1725649500-1725649500@argentaartsdistrict.org
SUMMARY:Arkansas Travelers vs. Corpus Christi Hooks
DESCRIPTION:Come watch the Arkansas Travelers play! Be sure to check the Travelers website for special promotions like fireworks\, Brunch at the Ballpark\, and more!
URL:https://argentaartsdistrict.org/event/arkansas-travelers-vs-corpus-christi-hooks/2024-09-06/
LOCATION:Dickey-Stephens\, 400 W Broadway St\, North Little Rock\, Arkansas\, 72114
CATEGORIES:Food,Sports
ATTACH;FMTTYPE=image/png:https://argentaartsdistrict.org/wp-content/uploads/2024/01/Ark_Travelers.png
END:VEVENT
BEGIN:VEVENT
DTSTART;TZID=America/Chicago:20240905T183500
DTEND;TZID=America/Chicago:20240905T183500
DTSTAMP:20260424T193920
CREATED:20240830T160006Z
LAST-MODIFIED:20240830T160006Z
UID:10000655-1725561300-1725561300@argentaartsdistrict.org
SUMMARY:Arkansas Travelers vs. Corpus Christi Hooks
DESCRIPTION:Come watch the Arkansas Travelers play! Be sure to check the Travelers website for special promotions like fireworks\, Brunch at the Ballpark\, and more!
URL:https://argentaartsdistrict.org/event/arkansas-travelers-vs-corpus-christi-hooks/2024-09-05/
LOCATION:Dickey-Stephens\, 400 W Broadway St\, North Little Rock\, Arkansas\, 72114
CATEGORIES:Food,Sports
ATTACH;FMTTYPE=image/png:https://argentaartsdistrict.org/wp-content/uploads/2024/01/Ark_Travelers.png
END:VEVENT
BEGIN:VEVENT
DTSTART;TZID=America/Chicago:20240904T183500
DTEND;TZID=America/Chicago:20240904T183500
DTSTAMP:20260424T193920
CREATED:20240830T160006Z
LAST-MODIFIED:20240830T160006Z
UID:10000654-1725474900-1725474900@argentaartsdistrict.org
SUMMARY:Arkansas Travelers vs. Corpus Christi Hooks
DESCRIPTION:Come watch the Arkansas Travelers play! Be sure to check the Travelers website for special promotions like fireworks\, Brunch at the Ballpark\, and more!
URL:https://argentaartsdistrict.org/event/arkansas-travelers-vs-corpus-christi-hooks/2024-09-04/
LOCATION:Dickey-Stephens\, 400 W Broadway St\, North Little Rock\, Arkansas\, 72114
CATEGORIES:Food,Sports
ATTACH;FMTTYPE=image/png:https://argentaartsdistrict.org/wp-content/uploads/2024/01/Ark_Travelers.png
END:VEVENT
BEGIN:VEVENT
DTSTART;TZID=America/Chicago:20240903T183500
DTEND;TZID=America/Chicago:20240903T183500
DTSTAMP:20260424T193920
CREATED:20240830T160006Z
LAST-MODIFIED:20240830T160006Z
UID:10000653-1725388500-1725388500@argentaartsdistrict.org
SUMMARY:Arkansas Travelers vs. Corpus Christi Hooks
DESCRIPTION:Come watch the Arkansas Travelers play! Be sure to check the Travelers website for special promotions like fireworks\, Brunch at the Ballpark\, and more!
URL:https://argentaartsdistrict.org/event/arkansas-travelers-vs-corpus-christi-hooks/2024-09-03/
LOCATION:Dickey-Stephens\, 400 W Broadway St\, North Little Rock\, Arkansas\, 72114
CATEGORIES:Food,Sports
ATTACH;FMTTYPE=image/png:https://argentaartsdistrict.org/wp-content/uploads/2024/01/Ark_Travelers.png
END:VEVENT
BEGIN:VEVENT
DTSTART;TZID=America/Chicago:20240825T133500
DTEND;TZID=America/Chicago:20240825T133500
DTSTAMP:20260424T193920
CREATED:20240731T170801Z
LAST-MODIFIED:20240731T170801Z
UID:10000647-1724592900-1724592900@argentaartsdistrict.org
SUMMARY:Arkansas Travelers vs. Tulsa Drillers
DESCRIPTION:Come watch the Arkansas Travelers play! Be sure to check the Travelers website for special promotions like fireworks\, Brunch at the Ballpark\, and more!
URL:https://argentaartsdistrict.org/event/arkansas-travelers-vs-tulsa-drillers-2/2024-08-25/
LOCATION:Dickey-Stephens\, 400 W Broadway St\, North Little Rock\, Arkansas\, 72114
CATEGORIES:Food,Sports
ATTACH;FMTTYPE=image/png:https://argentaartsdistrict.org/wp-content/uploads/2024/01/Ark_Travelers.png
END:VEVENT
BEGIN:VEVENT
DTSTART;TZID=America/Chicago:20240824T180500
DTEND;TZID=America/Chicago:20240824T180500
DTSTAMP:20260424T193920
CREATED:20240731T170801Z
LAST-MODIFIED:20240731T170801Z
UID:10000646-1724522700-1724522700@argentaartsdistrict.org
SUMMARY:Arkansas Travelers vs. Tulsa Drillers
DESCRIPTION:Come watch the Arkansas Travelers play! Be sure to check the Travelers website for special promotions like fireworks\, Brunch at the Ballpark\, and more!
URL:https://argentaartsdistrict.org/event/arkansas-travelers-vs-tulsa-drillers-2/2024-08-24/
LOCATION:Dickey-Stephens\, 400 W Broadway St\, North Little Rock\, Arkansas\, 72114
CATEGORIES:Food,Sports
ATTACH;FMTTYPE=image/png:https://argentaartsdistrict.org/wp-content/uploads/2024/01/Ark_Travelers.png
END:VEVENT
BEGIN:VEVENT
DTSTART;TZID=America/Chicago:20240823T190500
DTEND;TZID=America/Chicago:20240823T190500
DTSTAMP:20260424T193920
CREATED:20240731T170801Z
LAST-MODIFIED:20240731T170801Z
UID:10000645-1724439900-1724439900@argentaartsdistrict.org
SUMMARY:Arkansas Travelers vs. Tulsa Drillers
DESCRIPTION:Come watch the Arkansas Travelers play! Be sure to check the Travelers website for special promotions like fireworks\, Brunch at the Ballpark\, and more!
URL:https://argentaartsdistrict.org/event/arkansas-travelers-vs-tulsa-drillers-2/2024-08-23/
LOCATION:Dickey-Stephens\, 400 W Broadway St\, North Little Rock\, Arkansas\, 72114
CATEGORIES:Food,Sports
ATTACH;FMTTYPE=image/png:https://argentaartsdistrict.org/wp-content/uploads/2024/01/Ark_Travelers.png
END:VEVENT
BEGIN:VEVENT
DTSTART;TZID=America/Chicago:20240822T183500
DTEND;TZID=America/Chicago:20240822T183500
DTSTAMP:20260424T193920
CREATED:20240731T170801Z
LAST-MODIFIED:20240731T170801Z
UID:10000644-1724351700-1724351700@argentaartsdistrict.org
SUMMARY:Arkansas Travelers vs. Tulsa Drillers
DESCRIPTION:Come watch the Arkansas Travelers play! Be sure to check the Travelers website for special promotions like fireworks\, Brunch at the Ballpark\, and more!
URL:https://argentaartsdistrict.org/event/arkansas-travelers-vs-tulsa-drillers-2/2024-08-22/
LOCATION:Dickey-Stephens\, 400 W Broadway St\, North Little Rock\, Arkansas\, 72114
CATEGORIES:Food,Sports
ATTACH;FMTTYPE=image/png:https://argentaartsdistrict.org/wp-content/uploads/2024/01/Ark_Travelers.png
END:VEVENT
BEGIN:VEVENT
DTSTART;TZID=America/Chicago:20240821T183500
DTEND;TZID=America/Chicago:20240821T183500
DTSTAMP:20260424T193920
CREATED:20240731T170801Z
LAST-MODIFIED:20240731T170801Z
UID:10000643-1724265300-1724265300@argentaartsdistrict.org
SUMMARY:Arkansas Travelers vs. Tulsa Drillers
DESCRIPTION:Come watch the Arkansas Travelers play! Be sure to check the Travelers website for special promotions like fireworks\, Brunch at the Ballpark\, and more!
URL:https://argentaartsdistrict.org/event/arkansas-travelers-vs-tulsa-drillers-2/2024-08-21/
LOCATION:Dickey-Stephens\, 400 W Broadway St\, North Little Rock\, Arkansas\, 72114
CATEGORIES:Food,Sports
ATTACH;FMTTYPE=image/png:https://argentaartsdistrict.org/wp-content/uploads/2024/01/Ark_Travelers.png
END:VEVENT
BEGIN:VEVENT
DTSTART;TZID=America/Chicago:20240820T183500
DTEND;TZID=America/Chicago:20240820T183500
DTSTAMP:20260424T193920
CREATED:20240731T170801Z
LAST-MODIFIED:20240731T170801Z
UID:10000642-1724178900-1724178900@argentaartsdistrict.org
SUMMARY:Arkansas Travelers vs. Tulsa Drillers
DESCRIPTION:Come watch the Arkansas Travelers play! Be sure to check the Travelers website for special promotions like fireworks\, Brunch at the Ballpark\, and more!
URL:https://argentaartsdistrict.org/event/arkansas-travelers-vs-tulsa-drillers-2/2024-08-20/
LOCATION:Dickey-Stephens\, 400 W Broadway St\, North Little Rock\, Arkansas\, 72114
CATEGORIES:Food,Sports
ATTACH;FMTTYPE=image/png:https://argentaartsdistrict.org/wp-content/uploads/2024/01/Ark_Travelers.png
END:VEVENT
BEGIN:VEVENT
DTSTART;TZID=America/Chicago:20240811T133500
DTEND;TZID=America/Chicago:20240811T133500
DTSTAMP:20260424T193920
CREATED:20240731T150751Z
LAST-MODIFIED:20240731T150751Z
UID:10000638-1723383300-1723383300@argentaartsdistrict.org
SUMMARY:Arkansas Travelers vs. Tulsa Drillers
DESCRIPTION:Come watch the Arkansas Travelers play! Be sure to check the Travelers website for special promotions like fireworks\, Brunch at the Ballpark\, and more!
URL:https://argentaartsdistrict.org/event/arkansas-travelers-vs-tulsa-drillers/2024-08-11/
LOCATION:Dickey-Stephens\, 400 W Broadway St\, North Little Rock\, Arkansas\, 72114
CATEGORIES:Food,Sports
ATTACH;FMTTYPE=image/png:https://argentaartsdistrict.org/wp-content/uploads/2024/01/Ark_Travelers.png
END:VEVENT
BEGIN:VEVENT
DTSTART;TZID=America/Chicago:20240810T180500
DTEND;TZID=America/Chicago:20240810T180500
DTSTAMP:20260424T193920
CREATED:20240731T150751Z
LAST-MODIFIED:20240731T150751Z
UID:10000637-1723313100-1723313100@argentaartsdistrict.org
SUMMARY:Arkansas Travelers vs. Tulsa Drillers
DESCRIPTION:Come watch the Arkansas Travelers play! Be sure to check the Travelers website for special promotions like fireworks\, Brunch at the Ballpark\, and more!
URL:https://argentaartsdistrict.org/event/arkansas-travelers-vs-tulsa-drillers/2024-08-10/
LOCATION:Dickey-Stephens\, 400 W Broadway St\, North Little Rock\, Arkansas\, 72114
CATEGORIES:Food,Sports
ATTACH;FMTTYPE=image/png:https://argentaartsdistrict.org/wp-content/uploads/2024/01/Ark_Travelers.png
END:VEVENT
BEGIN:VEVENT
DTSTART;TZID=America/Chicago:20240809T190500
DTEND;TZID=America/Chicago:20240809T190500
DTSTAMP:20260424T193920
CREATED:20240731T150751Z
LAST-MODIFIED:20240731T150751Z
UID:10000636-1723230300-1723230300@argentaartsdistrict.org
SUMMARY:Arkansas Travelers vs. Tulsa Drillers
DESCRIPTION:Come watch the Arkansas Travelers play! Be sure to check the Travelers website for special promotions like fireworks\, Brunch at the Ballpark\, and more!
URL:https://argentaartsdistrict.org/event/arkansas-travelers-vs-tulsa-drillers/2024-08-09/
LOCATION:Dickey-Stephens\, 400 W Broadway St\, North Little Rock\, Arkansas\, 72114
CATEGORIES:Food,Sports
ATTACH;FMTTYPE=image/png:https://argentaartsdistrict.org/wp-content/uploads/2024/01/Ark_Travelers.png
END:VEVENT
BEGIN:VEVENT
DTSTART;TZID=America/Chicago:20240808T183500
DTEND;TZID=America/Chicago:20240808T183500
DTSTAMP:20260424T193920
CREATED:20240731T150751Z
LAST-MODIFIED:20240731T150751Z
UID:10000635-1723142100-1723142100@argentaartsdistrict.org
SUMMARY:Arkansas Travelers vs. Tulsa Drillers
DESCRIPTION:Come watch the Arkansas Travelers play! Be sure to check the Travelers website for special promotions like fireworks\, Brunch at the Ballpark\, and more!
URL:https://argentaartsdistrict.org/event/arkansas-travelers-vs-tulsa-drillers/2024-08-08/
LOCATION:Dickey-Stephens\, 400 W Broadway St\, North Little Rock\, Arkansas\, 72114
CATEGORIES:Food,Sports
ATTACH;FMTTYPE=image/png:https://argentaartsdistrict.org/wp-content/uploads/2024/01/Ark_Travelers.png
END:VEVENT
BEGIN:VEVENT
DTSTART;TZID=America/Chicago:20240807T183500
DTEND;TZID=America/Chicago:20240807T183500
DTSTAMP:20260424T193920
CREATED:20240731T150751Z
LAST-MODIFIED:20240731T150751Z
UID:10000634-1723055700-1723055700@argentaartsdistrict.org
SUMMARY:Arkansas Travelers vs. Tulsa Drillers
DESCRIPTION:Come watch the Arkansas Travelers play! Be sure to check the Travelers website for special promotions like fireworks\, Brunch at the Ballpark\, and more!
URL:https://argentaartsdistrict.org/event/arkansas-travelers-vs-tulsa-drillers/2024-08-07/
LOCATION:Dickey-Stephens\, 400 W Broadway St\, North Little Rock\, Arkansas\, 72114
CATEGORIES:Food,Sports
ATTACH;FMTTYPE=image/png:https://argentaartsdistrict.org/wp-content/uploads/2024/01/Ark_Travelers.png
END:VEVENT
BEGIN:VEVENT
DTSTART;TZID=America/Chicago:20240806T183500
DTEND;TZID=America/Chicago:20240806T183500
DTSTAMP:20260424T193920
CREATED:20240731T150751Z
LAST-MODIFIED:20240731T150751Z
UID:10000633-1722969300-1722969300@argentaartsdistrict.org
SUMMARY:Arkansas Travelers vs. Tulsa Drillers
DESCRIPTION:Come watch the Arkansas Travelers play! Be sure to check the Travelers website for special promotions like fireworks\, Brunch at the Ballpark\, and more!
URL:https://argentaartsdistrict.org/event/arkansas-travelers-vs-tulsa-drillers/2024-08-06/
LOCATION:Dickey-Stephens\, 400 W Broadway St\, North Little Rock\, Arkansas\, 72114
CATEGORIES:Food,Sports
ATTACH;FMTTYPE=image/png:https://argentaartsdistrict.org/wp-content/uploads/2024/01/Ark_Travelers.png
END:VEVENT
BEGIN:VEVENT
DTSTART;TZID=America/Chicago:20240804T190500
DTEND;TZID=America/Chicago:20240804T190500
DTSTAMP:20260424T193920
CREATED:20240731T143327Z
LAST-MODIFIED:20240731T143327Z
UID:10000632-1722798300-1722798300@argentaartsdistrict.org
SUMMARY:Arkansas Travelers vs. Midland RockHounds
DESCRIPTION:Come watch the Arkansas Travelers play! Be sure to check the Travelers website for special promotions like fireworks\, Brunch at the Ballpark\, and more!
URL:https://argentaartsdistrict.org/event/arkansas-travelers-vs-midland-rockhounds-2/2024-08-04/
LOCATION:Dickey-Stephens\, 400 W Broadway St\, North Little Rock\, Arkansas\, 72114
CATEGORIES:Food,Sports
ATTACH;FMTTYPE=image/png:https://argentaartsdistrict.org/wp-content/uploads/2024/01/Ark_Travelers.png
END:VEVENT
BEGIN:VEVENT
DTSTART;TZID=America/Chicago:20240803T180500
DTEND;TZID=America/Chicago:20240803T180500
DTSTAMP:20260424T193920
CREATED:20240731T143327Z
LAST-MODIFIED:20240731T143327Z
UID:10000631-1722708300-1722708300@argentaartsdistrict.org
SUMMARY:Arkansas Travelers vs. Midland RockHounds
DESCRIPTION:Come watch the Arkansas Travelers play! Be sure to check the Travelers website for special promotions like fireworks\, Brunch at the Ballpark\, and more!
URL:https://argentaartsdistrict.org/event/arkansas-travelers-vs-midland-rockhounds-2/2024-08-03/
LOCATION:Dickey-Stephens\, 400 W Broadway St\, North Little Rock\, Arkansas\, 72114
CATEGORIES:Food,Sports
ATTACH;FMTTYPE=image/png:https://argentaartsdistrict.org/wp-content/uploads/2024/01/Ark_Travelers.png
END:VEVENT
BEGIN:VEVENT
DTSTART;TZID=America/Chicago:20240802T190500
DTEND;TZID=America/Chicago:20240802T190500
DTSTAMP:20260424T193920
CREATED:20240731T143327Z
LAST-MODIFIED:20240731T143327Z
UID:10000630-1722625500-1722625500@argentaartsdistrict.org
SUMMARY:Arkansas Travelers vs. Midland RockHounds
DESCRIPTION:Come watch the Arkansas Travelers play! Be sure to check the Travelers website for special promotions like fireworks\, Brunch at the Ballpark\, and more!
URL:https://argentaartsdistrict.org/event/arkansas-travelers-vs-midland-rockhounds-2/2024-08-02/
LOCATION:Dickey-Stephens\, 400 W Broadway St\, North Little Rock\, Arkansas\, 72114
CATEGORIES:Food,Sports
ATTACH;FMTTYPE=image/png:https://argentaartsdistrict.org/wp-content/uploads/2024/01/Ark_Travelers.png
END:VEVENT
BEGIN:VEVENT
DTSTART;TZID=America/Chicago:20240801T183500
DTEND;TZID=America/Chicago:20240801T183500
DTSTAMP:20260424T193920
CREATED:20240731T143327Z
LAST-MODIFIED:20240731T143327Z
UID:10000629-1722537300-1722537300@argentaartsdistrict.org
SUMMARY:Arkansas Travelers vs. Midland RockHounds
DESCRIPTION:Come watch the Arkansas Travelers play! Be sure to check the Travelers website for special promotions like fireworks\, Brunch at the Ballpark\, and more!
URL:https://argentaartsdistrict.org/event/arkansas-travelers-vs-midland-rockhounds-2/2024-08-01/
LOCATION:Dickey-Stephens\, 400 W Broadway St\, North Little Rock\, Arkansas\, 72114
CATEGORIES:Food,Sports
ATTACH;FMTTYPE=image/png:https://argentaartsdistrict.org/wp-content/uploads/2024/01/Ark_Travelers.png
END:VEVENT
BEGIN:VEVENT
DTSTART;TZID=America/Chicago:20240731T183500
DTEND;TZID=America/Chicago:20240731T183500
DTSTAMP:20260424T193920
CREATED:20240701T151856Z
LAST-MODIFIED:20240701T151856Z
UID:10000622-1722450900-1722450900@argentaartsdistrict.org
SUMMARY:Arkansas Travelers vs. Midland RockHounds
DESCRIPTION:Come watch the Arkansas Travelers play! Be sure to check the Travelers website for special promotions like fireworks\, Brunch at the Ballpark\, and more!
URL:https://argentaartsdistrict.org/event/arkansas-travelers-vs-midland-rockhounds/2024-07-31/
LOCATION:Dickey-Stephens\, 400 W Broadway St\, North Little Rock\, Arkansas\, 72114
CATEGORIES:Food,Sports
ATTACH;FMTTYPE=image/png:https://argentaartsdistrict.org/wp-content/uploads/2024/01/Ark_Travelers.png
END:VEVENT
BEGIN:VEVENT
DTSTART;TZID=America/Chicago:20240730T183500
DTEND;TZID=America/Chicago:20240730T183500
DTSTAMP:20260424T193920
CREATED:20240701T151856Z
LAST-MODIFIED:20240701T151856Z
UID:10000621-1722364500-1722364500@argentaartsdistrict.org
SUMMARY:Arkansas Travelers vs. Midland RockHounds
DESCRIPTION:Come watch the Arkansas Travelers play! Be sure to check the Travelers website for special promotions like fireworks\, Brunch at the Ballpark\, and more!
URL:https://argentaartsdistrict.org/event/arkansas-travelers-vs-midland-rockhounds/2024-07-30/
LOCATION:Dickey-Stephens\, 400 W Broadway St\, North Little Rock\, Arkansas\, 72114
CATEGORIES:Food,Sports
ATTACH;FMTTYPE=image/png:https://argentaartsdistrict.org/wp-content/uploads/2024/01/Ark_Travelers.png
END:VEVENT
BEGIN:VEVENT
DTSTART;TZID=America/Chicago:20240721T133500
DTEND;TZID=America/Chicago:20240721T133500
DTSTAMP:20260424T193920
CREATED:20240701T151207Z
LAST-MODIFIED:20240701T151207Z
UID:10000620-1721568900-1721568900@argentaartsdistrict.org
SUMMARY:Arkansas Travelers vs. San Antonio Missions
DESCRIPTION:Come watch the Arkansas Travelers play! Be sure to check the Travelers website for special promotions like fireworks\, Brunch at the Ballpark\, and more!
URL:https://argentaartsdistrict.org/event/arkansas-travelers-vs-san-antonio-missions-8/2024-07-21/
LOCATION:Dickey-Stephens\, 400 W Broadway St\, North Little Rock\, Arkansas\, 72114
CATEGORIES:Food,Sports
ATTACH;FMTTYPE=image/png:https://argentaartsdistrict.org/wp-content/uploads/2024/01/Ark_Travelers.png
END:VEVENT
BEGIN:VEVENT
DTSTART;TZID=America/Chicago:20240720T180500
DTEND;TZID=America/Chicago:20240720T180500
DTSTAMP:20260424T193920
CREATED:20240701T151207Z
LAST-MODIFIED:20240701T151207Z
UID:10000619-1721498700-1721498700@argentaartsdistrict.org
SUMMARY:Arkansas Travelers vs. San Antonio Missions
DESCRIPTION:Come watch the Arkansas Travelers play! Be sure to check the Travelers website for special promotions like fireworks\, Brunch at the Ballpark\, and more!
URL:https://argentaartsdistrict.org/event/arkansas-travelers-vs-san-antonio-missions-8/2024-07-20/
LOCATION:Dickey-Stephens\, 400 W Broadway St\, North Little Rock\, Arkansas\, 72114
CATEGORIES:Food,Sports
ATTACH;FMTTYPE=image/png:https://argentaartsdistrict.org/wp-content/uploads/2024/01/Ark_Travelers.png
END:VEVENT
BEGIN:VEVENT
DTSTART;TZID=America/Chicago:20240719T190500
DTEND;TZID=America/Chicago:20240719T190500
DTSTAMP:20260424T193920
CREATED:20240701T151207Z
LAST-MODIFIED:20240701T151207Z
UID:10000618-1721415900-1721415900@argentaartsdistrict.org
SUMMARY:Arkansas Travelers vs. San Antonio Missions
DESCRIPTION:Come watch the Arkansas Travelers play! Be sure to check the Travelers website for special promotions like fireworks\, Brunch at the Ballpark\, and more!
URL:https://argentaartsdistrict.org/event/arkansas-travelers-vs-san-antonio-missions-8/2024-07-19/
LOCATION:Dickey-Stephens\, 400 W Broadway St\, North Little Rock\, Arkansas\, 72114
CATEGORIES:Food,Sports
ATTACH;FMTTYPE=image/png:https://argentaartsdistrict.org/wp-content/uploads/2024/01/Ark_Travelers.png
END:VEVENT
END:VCALENDAR