BEGIN:VCALENDAR
VERSION:2.0
PRODID:-//Argenta Arts District - ECPv6.15.20//NONSGML v1.0//EN
CALSCALE:GREGORIAN
METHOD:PUBLISH
X-ORIGINAL-URL:https://argentaartsdistrict.org
X-WR-CALDESC:Events for Argenta Arts District
REFRESH-INTERVAL;VALUE=DURATION:PT1H
X-Robots-Tag:noindex
X-PUBLISHED-TTL:PT1H
BEGIN:VTIMEZONE
TZID:America/Chicago
BEGIN:DAYLIGHT
TZOFFSETFROM:-0600
TZOFFSETTO:-0500
TZNAME:CDT
DTSTART:20230312T080000
END:DAYLIGHT
BEGIN:STANDARD
TZOFFSETFROM:-0500
TZOFFSETTO:-0600
TZNAME:CST
DTSTART:20231105T070000
END:STANDARD
BEGIN:DAYLIGHT
TZOFFSETFROM:-0600
TZOFFSETTO:-0500
TZNAME:CDT
DTSTART:20240310T080000
END:DAYLIGHT
BEGIN:STANDARD
TZOFFSETFROM:-0500
TZOFFSETTO:-0600
TZNAME:CST
DTSTART:20241103T070000
END:STANDARD
BEGIN:DAYLIGHT
TZOFFSETFROM:-0600
TZOFFSETTO:-0500
TZNAME:CDT
DTSTART:20250309T080000
END:DAYLIGHT
BEGIN:STANDARD
TZOFFSETFROM:-0500
TZOFFSETTO:-0600
TZNAME:CST
DTSTART:20251102T070000
END:STANDARD
BEGIN:DAYLIGHT
TZOFFSETFROM:-0600
TZOFFSETTO:-0500
TZNAME:CDT
DTSTART:20260308T080000
END:DAYLIGHT
BEGIN:STANDARD
TZOFFSETFROM:-0500
TZOFFSETTO:-0600
TZNAME:CST
DTSTART:20261101T070000
END:STANDARD
END:VTIMEZONE
BEGIN:VEVENT
DTSTART;TZID=America/Chicago:20250221T200000
DTEND;TZID=America/Chicago:20250221T220000
DTSTAMP:20260424T185344
CREATED:20250204T205531Z
LAST-MODIFIED:20250204T205531Z
UID:10000867-1740168000-1740175200@argentaartsdistrict.org
SUMMARY:The Main Thing's "Arkansanity"
DESCRIPTION:January 31st through March 8th \nThis hilarious collection of comedy sketches\, funny music\, and commercial parodies\, is all about living in Arkansas. Our professional comedy trio portrays dozens of characters and plays several musical instruments\, presenting original family-friendly comedy guaranteed to entertain Arkansans and visitors alike! So bring your kids\, bring your guests\, or just bring your sense of humor! \nThe Joint has the very best in live comedy entertainment\, featuring our resident professional comedy company…a world-class trio of actors and musicians known as The Main Thing. \nWhat is The Main Thing? It’s three people doing multiple comic characters and playing multiple musical instruments. It’s the singing Fertle family; it’s Arkansas satire. It’s sketch comedy and full length plays.
URL:https://argentaartsdistrict.org/event/the-main-things-arkansanity/2025-02-21/
LOCATION:The Joint\, 301 Main St #102\, North Little Rock\, AR\, 72114\, United States
CATEGORIES:Comedy,Live Performance,Storytelling
ATTACH;FMTTYPE=image/webp:https://argentaartsdistrict.org/wp-content/uploads/2025/02/54cb0a_d6e271459c66434a87bd056b8cfe7be7mv2.webp
END:VEVENT
BEGIN:VEVENT
DTSTART;TZID=America/Chicago:20250215T200000
DTEND;TZID=America/Chicago:20250215T220000
DTSTAMP:20260424T185344
CREATED:20250204T205531Z
LAST-MODIFIED:20250204T205531Z
UID:10000866-1739649600-1739656800@argentaartsdistrict.org
SUMMARY:The Main Thing's "Arkansanity"
DESCRIPTION:January 31st through March 8th \nThis hilarious collection of comedy sketches\, funny music\, and commercial parodies\, is all about living in Arkansas. Our professional comedy trio portrays dozens of characters and plays several musical instruments\, presenting original family-friendly comedy guaranteed to entertain Arkansans and visitors alike! So bring your kids\, bring your guests\, or just bring your sense of humor! \nThe Joint has the very best in live comedy entertainment\, featuring our resident professional comedy company…a world-class trio of actors and musicians known as The Main Thing. \nWhat is The Main Thing? It’s three people doing multiple comic characters and playing multiple musical instruments. It’s the singing Fertle family; it’s Arkansas satire. It’s sketch comedy and full length plays.
URL:https://argentaartsdistrict.org/event/the-main-things-arkansanity/2025-02-15/
LOCATION:The Joint\, 301 Main St #102\, North Little Rock\, AR\, 72114\, United States
CATEGORIES:Comedy,Live Performance,Storytelling
ATTACH;FMTTYPE=image/webp:https://argentaartsdistrict.org/wp-content/uploads/2025/02/54cb0a_d6e271459c66434a87bd056b8cfe7be7mv2.webp
END:VEVENT
BEGIN:VEVENT
DTSTART;TZID=America/Chicago:20250214T200000
DTEND;TZID=America/Chicago:20250214T220000
DTSTAMP:20260424T185344
CREATED:20250204T205531Z
LAST-MODIFIED:20250204T205531Z
UID:10000865-1739563200-1739570400@argentaartsdistrict.org
SUMMARY:The Main Thing's "Arkansanity"
DESCRIPTION:January 31st through March 8th \nThis hilarious collection of comedy sketches\, funny music\, and commercial parodies\, is all about living in Arkansas. Our professional comedy trio portrays dozens of characters and plays several musical instruments\, presenting original family-friendly comedy guaranteed to entertain Arkansans and visitors alike! So bring your kids\, bring your guests\, or just bring your sense of humor! \nThe Joint has the very best in live comedy entertainment\, featuring our resident professional comedy company…a world-class trio of actors and musicians known as The Main Thing. \nWhat is The Main Thing? It’s three people doing multiple comic characters and playing multiple musical instruments. It’s the singing Fertle family; it’s Arkansas satire. It’s sketch comedy and full length plays.
URL:https://argentaartsdistrict.org/event/the-main-things-arkansanity/2025-02-14/
LOCATION:The Joint\, 301 Main St #102\, North Little Rock\, AR\, 72114\, United States
CATEGORIES:Comedy,Live Performance,Storytelling
ATTACH;FMTTYPE=image/webp:https://argentaartsdistrict.org/wp-content/uploads/2025/02/54cb0a_d6e271459c66434a87bd056b8cfe7be7mv2.webp
END:VEVENT
BEGIN:VEVENT
DTSTART;TZID=America/Chicago:20250208T200000
DTEND;TZID=America/Chicago:20250208T220000
DTSTAMP:20260424T185344
CREATED:20250204T205531Z
LAST-MODIFIED:20250204T205531Z
UID:10000864-1739044800-1739052000@argentaartsdistrict.org
SUMMARY:The Main Thing's "Arkansanity"
DESCRIPTION:January 31st through March 8th \nThis hilarious collection of comedy sketches\, funny music\, and commercial parodies\, is all about living in Arkansas. Our professional comedy trio portrays dozens of characters and plays several musical instruments\, presenting original family-friendly comedy guaranteed to entertain Arkansans and visitors alike! So bring your kids\, bring your guests\, or just bring your sense of humor! \nThe Joint has the very best in live comedy entertainment\, featuring our resident professional comedy company…a world-class trio of actors and musicians known as The Main Thing. \nWhat is The Main Thing? It’s three people doing multiple comic characters and playing multiple musical instruments. It’s the singing Fertle family; it’s Arkansas satire. It’s sketch comedy and full length plays.
URL:https://argentaartsdistrict.org/event/the-main-things-arkansanity/2025-02-08/
LOCATION:The Joint\, 301 Main St #102\, North Little Rock\, AR\, 72114\, United States
CATEGORIES:Comedy,Live Performance,Storytelling
ATTACH;FMTTYPE=image/webp:https://argentaartsdistrict.org/wp-content/uploads/2025/02/54cb0a_d6e271459c66434a87bd056b8cfe7be7mv2.webp
END:VEVENT
BEGIN:VEVENT
DTSTART;TZID=America/Chicago:20250207T200000
DTEND;TZID=America/Chicago:20250207T220000
DTSTAMP:20260424T185344
CREATED:20250204T205531Z
LAST-MODIFIED:20250204T205531Z
UID:10000863-1738958400-1738965600@argentaartsdistrict.org
SUMMARY:The Main Thing's "Arkansanity"
DESCRIPTION:January 31st through March 8th \nThis hilarious collection of comedy sketches\, funny music\, and commercial parodies\, is all about living in Arkansas. Our professional comedy trio portrays dozens of characters and plays several musical instruments\, presenting original family-friendly comedy guaranteed to entertain Arkansans and visitors alike! So bring your kids\, bring your guests\, or just bring your sense of humor! \nThe Joint has the very best in live comedy entertainment\, featuring our resident professional comedy company…a world-class trio of actors and musicians known as The Main Thing. \nWhat is The Main Thing? It’s three people doing multiple comic characters and playing multiple musical instruments. It’s the singing Fertle family; it’s Arkansas satire. It’s sketch comedy and full length plays.
URL:https://argentaartsdistrict.org/event/the-main-things-arkansanity/2025-02-07/
LOCATION:The Joint\, 301 Main St #102\, North Little Rock\, AR\, 72114\, United States
CATEGORIES:Comedy,Live Performance,Storytelling
ATTACH;FMTTYPE=image/webp:https://argentaartsdistrict.org/wp-content/uploads/2025/02/54cb0a_d6e271459c66434a87bd056b8cfe7be7mv2.webp
END:VEVENT
BEGIN:VEVENT
DTSTART;TZID=America/Chicago:20250201T200000
DTEND;TZID=America/Chicago:20250201T220000
DTSTAMP:20260424T185344
CREATED:20250204T205531Z
LAST-MODIFIED:20250204T205531Z
UID:10000862-1738440000-1738447200@argentaartsdistrict.org
SUMMARY:The Main Thing's "Arkansanity"
DESCRIPTION:January 31st through March 8th \nThis hilarious collection of comedy sketches\, funny music\, and commercial parodies\, is all about living in Arkansas. Our professional comedy trio portrays dozens of characters and plays several musical instruments\, presenting original family-friendly comedy guaranteed to entertain Arkansans and visitors alike! So bring your kids\, bring your guests\, or just bring your sense of humor! \nThe Joint has the very best in live comedy entertainment\, featuring our resident professional comedy company…a world-class trio of actors and musicians known as The Main Thing. \nWhat is The Main Thing? It’s three people doing multiple comic characters and playing multiple musical instruments. It’s the singing Fertle family; it’s Arkansas satire. It’s sketch comedy and full length plays.
URL:https://argentaartsdistrict.org/event/the-main-things-arkansanity/2025-02-01/
LOCATION:The Joint\, 301 Main St #102\, North Little Rock\, AR\, 72114\, United States
CATEGORIES:Comedy,Live Performance,Storytelling
ATTACH;FMTTYPE=image/webp:https://argentaartsdistrict.org/wp-content/uploads/2025/02/54cb0a_d6e271459c66434a87bd056b8cfe7be7mv2.webp
END:VEVENT
BEGIN:VEVENT
DTSTART;TZID=America/Chicago:20250131T200000
DTEND;TZID=America/Chicago:20250131T220000
DTSTAMP:20260424T185344
CREATED:20250204T205531Z
LAST-MODIFIED:20250204T205531Z
UID:10000861-1738353600-1738360800@argentaartsdistrict.org
SUMMARY:The Main Thing's "Arkansanity"
DESCRIPTION:January 31st through March 8th \nThis hilarious collection of comedy sketches\, funny music\, and commercial parodies\, is all about living in Arkansas. Our professional comedy trio portrays dozens of characters and plays several musical instruments\, presenting original family-friendly comedy guaranteed to entertain Arkansans and visitors alike! So bring your kids\, bring your guests\, or just bring your sense of humor! \nThe Joint has the very best in live comedy entertainment\, featuring our resident professional comedy company…a world-class trio of actors and musicians known as The Main Thing. \nWhat is The Main Thing? It’s three people doing multiple comic characters and playing multiple musical instruments. It’s the singing Fertle family; it’s Arkansas satire. It’s sketch comedy and full length plays.
URL:https://argentaartsdistrict.org/event/the-main-things-arkansanity/2025-01-31/
LOCATION:The Joint\, 301 Main St #102\, North Little Rock\, AR\, 72114\, United States
CATEGORIES:Comedy,Live Performance,Storytelling
ATTACH;FMTTYPE=image/webp:https://argentaartsdistrict.org/wp-content/uploads/2025/02/54cb0a_d6e271459c66434a87bd056b8cfe7be7mv2.webp
END:VEVENT
BEGIN:VEVENT
DTSTART;TZID=America/Chicago:20241228T200000
DTEND;TZID=America/Chicago:20241228T220000
DTSTAMP:20260424T185344
CREATED:20241113T175945Z
LAST-MODIFIED:20241113T180540Z
UID:10000720-1735416000-1735423200@argentaartsdistrict.org
SUMMARY:The Main Thing's "A Fertle Holiday"
DESCRIPTION:November 29th thru December 28th \nThis original two-act comedy chronicles the Fertle Family’s trouble-ridden reunion in the tiny town of Dumpster\, Arkansas\, as they attempt to entertain their rich relatives from San Diego. The Main Thing comedy trio brings the quirky family to life by portraying all the relatives and townspeople needed to create the illusion of a bustling Christmas get-together.
URL:https://argentaartsdistrict.org/event/the-main-things-a-fertile-holiday/2024-12-28/
LOCATION:The Joint\, 301 Main St #102\, North Little Rock\, AR\, 72114\, United States
CATEGORIES:Comedy,Live Performance,Storytelling
ATTACH;FMTTYPE=image/webp:https://argentaartsdistrict.org/wp-content/uploads/2024/11/Fertile-Holiday-Image.webp
END:VEVENT
BEGIN:VEVENT
DTSTART;TZID=America/Chicago:20241227T200000
DTEND;TZID=America/Chicago:20241227T220000
DTSTAMP:20260424T185344
CREATED:20241113T175945Z
LAST-MODIFIED:20241113T180540Z
UID:10000719-1735329600-1735336800@argentaartsdistrict.org
SUMMARY:The Main Thing's "A Fertle Holiday"
DESCRIPTION:November 29th thru December 28th \nThis original two-act comedy chronicles the Fertle Family’s trouble-ridden reunion in the tiny town of Dumpster\, Arkansas\, as they attempt to entertain their rich relatives from San Diego. The Main Thing comedy trio brings the quirky family to life by portraying all the relatives and townspeople needed to create the illusion of a bustling Christmas get-together.
URL:https://argentaartsdistrict.org/event/the-main-things-a-fertile-holiday/2024-12-27/
LOCATION:The Joint\, 301 Main St #102\, North Little Rock\, AR\, 72114\, United States
CATEGORIES:Comedy,Live Performance,Storytelling
ATTACH;FMTTYPE=image/webp:https://argentaartsdistrict.org/wp-content/uploads/2024/11/Fertile-Holiday-Image.webp
END:VEVENT
BEGIN:VEVENT
DTSTART;TZID=America/Chicago:20241221T200000
DTEND;TZID=America/Chicago:20241221T220000
DTSTAMP:20260424T185344
CREATED:20241113T175945Z
LAST-MODIFIED:20241113T180540Z
UID:10000718-1734811200-1734818400@argentaartsdistrict.org
SUMMARY:The Main Thing's "A Fertle Holiday"
DESCRIPTION:November 29th thru December 28th \nThis original two-act comedy chronicles the Fertle Family’s trouble-ridden reunion in the tiny town of Dumpster\, Arkansas\, as they attempt to entertain their rich relatives from San Diego. The Main Thing comedy trio brings the quirky family to life by portraying all the relatives and townspeople needed to create the illusion of a bustling Christmas get-together.
URL:https://argentaartsdistrict.org/event/the-main-things-a-fertile-holiday/2024-12-21/
LOCATION:The Joint\, 301 Main St #102\, North Little Rock\, AR\, 72114\, United States
CATEGORIES:Comedy,Live Performance,Storytelling
ATTACH;FMTTYPE=image/webp:https://argentaartsdistrict.org/wp-content/uploads/2024/11/Fertile-Holiday-Image.webp
END:VEVENT
BEGIN:VEVENT
DTSTART;TZID=America/Chicago:20241220T200000
DTEND;TZID=America/Chicago:20241220T220000
DTSTAMP:20260424T185344
CREATED:20241113T175945Z
LAST-MODIFIED:20241113T180540Z
UID:10000717-1734724800-1734732000@argentaartsdistrict.org
SUMMARY:The Main Thing's "A Fertle Holiday"
DESCRIPTION:November 29th thru December 28th \nThis original two-act comedy chronicles the Fertle Family’s trouble-ridden reunion in the tiny town of Dumpster\, Arkansas\, as they attempt to entertain their rich relatives from San Diego. The Main Thing comedy trio brings the quirky family to life by portraying all the relatives and townspeople needed to create the illusion of a bustling Christmas get-together.
URL:https://argentaartsdistrict.org/event/the-main-things-a-fertile-holiday/2024-12-20/
LOCATION:The Joint\, 301 Main St #102\, North Little Rock\, AR\, 72114\, United States
CATEGORIES:Comedy,Live Performance,Storytelling
ATTACH;FMTTYPE=image/webp:https://argentaartsdistrict.org/wp-content/uploads/2024/11/Fertile-Holiday-Image.webp
END:VEVENT
BEGIN:VEVENT
DTSTART;TZID=America/Chicago:20241214T200000
DTEND;TZID=America/Chicago:20241214T220000
DTSTAMP:20260424T185344
CREATED:20241113T175945Z
LAST-MODIFIED:20241113T180540Z
UID:10000716-1734206400-1734213600@argentaartsdistrict.org
SUMMARY:The Main Thing's "A Fertle Holiday"
DESCRIPTION:November 29th thru December 28th \nThis original two-act comedy chronicles the Fertle Family’s trouble-ridden reunion in the tiny town of Dumpster\, Arkansas\, as they attempt to entertain their rich relatives from San Diego. The Main Thing comedy trio brings the quirky family to life by portraying all the relatives and townspeople needed to create the illusion of a bustling Christmas get-together.
URL:https://argentaartsdistrict.org/event/the-main-things-a-fertile-holiday/2024-12-14/
LOCATION:The Joint\, 301 Main St #102\, North Little Rock\, AR\, 72114\, United States
CATEGORIES:Comedy,Live Performance,Storytelling
ATTACH;FMTTYPE=image/webp:https://argentaartsdistrict.org/wp-content/uploads/2024/11/Fertile-Holiday-Image.webp
END:VEVENT
BEGIN:VEVENT
DTSTART;TZID=America/Chicago:20241213T200000
DTEND;TZID=America/Chicago:20241213T220000
DTSTAMP:20260424T185344
CREATED:20241113T175945Z
LAST-MODIFIED:20241113T180540Z
UID:10000715-1734120000-1734127200@argentaartsdistrict.org
SUMMARY:The Main Thing's "A Fertle Holiday"
DESCRIPTION:November 29th thru December 28th \nThis original two-act comedy chronicles the Fertle Family’s trouble-ridden reunion in the tiny town of Dumpster\, Arkansas\, as they attempt to entertain their rich relatives from San Diego. The Main Thing comedy trio brings the quirky family to life by portraying all the relatives and townspeople needed to create the illusion of a bustling Christmas get-together.
URL:https://argentaartsdistrict.org/event/the-main-things-a-fertile-holiday/2024-12-13/
LOCATION:The Joint\, 301 Main St #102\, North Little Rock\, AR\, 72114\, United States
CATEGORIES:Comedy,Live Performance,Storytelling
ATTACH;FMTTYPE=image/webp:https://argentaartsdistrict.org/wp-content/uploads/2024/11/Fertile-Holiday-Image.webp
END:VEVENT
BEGIN:VEVENT
DTSTART;TZID=America/Chicago:20241207T200000
DTEND;TZID=America/Chicago:20241207T220000
DTSTAMP:20260424T185344
CREATED:20241113T175945Z
LAST-MODIFIED:20241113T180540Z
UID:10000714-1733601600-1733608800@argentaartsdistrict.org
SUMMARY:The Main Thing's "A Fertle Holiday"
DESCRIPTION:November 29th thru December 28th \nThis original two-act comedy chronicles the Fertle Family’s trouble-ridden reunion in the tiny town of Dumpster\, Arkansas\, as they attempt to entertain their rich relatives from San Diego. The Main Thing comedy trio brings the quirky family to life by portraying all the relatives and townspeople needed to create the illusion of a bustling Christmas get-together.
URL:https://argentaartsdistrict.org/event/the-main-things-a-fertile-holiday/2024-12-07/
LOCATION:The Joint\, 301 Main St #102\, North Little Rock\, AR\, 72114\, United States
CATEGORIES:Comedy,Live Performance,Storytelling
ATTACH;FMTTYPE=image/webp:https://argentaartsdistrict.org/wp-content/uploads/2024/11/Fertile-Holiday-Image.webp
END:VEVENT
BEGIN:VEVENT
DTSTART;TZID=America/Chicago:20241206T200000
DTEND;TZID=America/Chicago:20241206T220000
DTSTAMP:20260424T185344
CREATED:20241113T175945Z
LAST-MODIFIED:20241113T180540Z
UID:10000713-1733515200-1733522400@argentaartsdistrict.org
SUMMARY:The Main Thing's "A Fertle Holiday"
DESCRIPTION:November 29th thru December 28th \nThis original two-act comedy chronicles the Fertle Family’s trouble-ridden reunion in the tiny town of Dumpster\, Arkansas\, as they attempt to entertain their rich relatives from San Diego. The Main Thing comedy trio brings the quirky family to life by portraying all the relatives and townspeople needed to create the illusion of a bustling Christmas get-together.
URL:https://argentaartsdistrict.org/event/the-main-things-a-fertile-holiday/2024-12-06/
LOCATION:The Joint\, 301 Main St #102\, North Little Rock\, AR\, 72114\, United States
CATEGORIES:Comedy,Live Performance,Storytelling
ATTACH;FMTTYPE=image/webp:https://argentaartsdistrict.org/wp-content/uploads/2024/11/Fertile-Holiday-Image.webp
END:VEVENT
BEGIN:VEVENT
DTSTART;TZID=America/Chicago:20241130T200000
DTEND;TZID=America/Chicago:20241130T220000
DTSTAMP:20260424T185344
CREATED:20241113T175945Z
LAST-MODIFIED:20241113T180540Z
UID:10000712-1732996800-1733004000@argentaartsdistrict.org
SUMMARY:The Main Thing's "A Fertle Holiday"
DESCRIPTION:November 29th thru December 28th \nThis original two-act comedy chronicles the Fertle Family’s trouble-ridden reunion in the tiny town of Dumpster\, Arkansas\, as they attempt to entertain their rich relatives from San Diego. The Main Thing comedy trio brings the quirky family to life by portraying all the relatives and townspeople needed to create the illusion of a bustling Christmas get-together.
URL:https://argentaartsdistrict.org/event/the-main-things-a-fertile-holiday/2024-11-30/
LOCATION:The Joint\, 301 Main St #102\, North Little Rock\, AR\, 72114\, United States
CATEGORIES:Comedy,Live Performance,Storytelling
ATTACH;FMTTYPE=image/webp:https://argentaartsdistrict.org/wp-content/uploads/2024/11/Fertile-Holiday-Image.webp
END:VEVENT
BEGIN:VEVENT
DTSTART;TZID=America/Chicago:20241129T200000
DTEND;TZID=America/Chicago:20241129T220000
DTSTAMP:20260424T185344
CREATED:20241113T175945Z
LAST-MODIFIED:20241113T180540Z
UID:10000711-1732910400-1732917600@argentaartsdistrict.org
SUMMARY:The Main Thing's "A Fertle Holiday"
DESCRIPTION:November 29th thru December 28th \nThis original two-act comedy chronicles the Fertle Family’s trouble-ridden reunion in the tiny town of Dumpster\, Arkansas\, as they attempt to entertain their rich relatives from San Diego. The Main Thing comedy trio brings the quirky family to life by portraying all the relatives and townspeople needed to create the illusion of a bustling Christmas get-together.
URL:https://argentaartsdistrict.org/event/the-main-things-a-fertile-holiday/2024-11-29/
LOCATION:The Joint\, 301 Main St #102\, North Little Rock\, AR\, 72114\, United States
CATEGORIES:Comedy,Live Performance,Storytelling
ATTACH;FMTTYPE=image/webp:https://argentaartsdistrict.org/wp-content/uploads/2024/11/Fertile-Holiday-Image.webp
END:VEVENT
BEGIN:VEVENT
DTSTART;TZID=America/Chicago:20241024T190000
DTEND;TZID=America/Chicago:20241024T190000
DTSTAMP:20260424T185344
CREATED:20240930T204605Z
LAST-MODIFIED:20240930T204605Z
UID:10000696-1729796400-1729796400@argentaartsdistrict.org
SUMMARY:Potluck & Poison Ivy: An Evening with Sybil Hampton
DESCRIPTION:Dr. Sybil Jordan Hampton\, a distinguished educator and advocate\, has held key roles in education and philanthropy. Her impactful work spans consulting\, public speaking\, and global engagements on racial equality. As one of the first African American graduates of Little Rock Central High School\, her personal experiences fuel discussions on inclusivity and social justice worldwide.
URL:https://argentaartsdistrict.org/event/potluck-poison-ivy-an-evening-with-sybil-hampton/
LOCATION:The Joint\, 301 Main St #102\, North Little Rock\, AR\, 72114\, United States
CATEGORIES:Food,Storytelling
ATTACH;FMTTYPE=image/jpeg:https://argentaartsdistrict.org/wp-content/uploads/2024/09/SybalHampton_f-uai-421x421-1.jpg
END:VEVENT
END:VCALENDAR