BEGIN:VCALENDAR
VERSION:2.0
PRODID:-//Argenta Arts District - ECPv6.15.20//NONSGML v1.0//EN
CALSCALE:GREGORIAN
METHOD:PUBLISH
X-ORIGINAL-URL:https://argentaartsdistrict.org
X-WR-CALDESC:Events for Argenta Arts District
REFRESH-INTERVAL;VALUE=DURATION:PT1H
X-Robots-Tag:noindex
X-PUBLISHED-TTL:PT1H
BEGIN:VTIMEZONE
TZID:America/Chicago
BEGIN:DAYLIGHT
TZOFFSETFROM:-0600
TZOFFSETTO:-0500
TZNAME:CDT
DTSTART:20250309T080000
END:DAYLIGHT
BEGIN:STANDARD
TZOFFSETFROM:-0500
TZOFFSETTO:-0600
TZNAME:CST
DTSTART:20251102T070000
END:STANDARD
BEGIN:DAYLIGHT
TZOFFSETFROM:-0600
TZOFFSETTO:-0500
TZNAME:CDT
DTSTART:20260308T080000
END:DAYLIGHT
BEGIN:STANDARD
TZOFFSETFROM:-0500
TZOFFSETTO:-0600
TZNAME:CST
DTSTART:20261101T070000
END:STANDARD
BEGIN:DAYLIGHT
TZOFFSETFROM:-0600
TZOFFSETTO:-0500
TZNAME:CDT
DTSTART:20270314T080000
END:DAYLIGHT
BEGIN:STANDARD
TZOFFSETFROM:-0500
TZOFFSETTO:-0600
TZNAME:CST
DTSTART:20271107T070000
END:STANDARD
END:VTIMEZONE
BEGIN:VEVENT
DTSTART;TZID=America/Chicago:20260911T160000
DTEND;TZID=America/Chicago:20260912T220000
DTSTAMP:20260424T184626
CREATED:20260128T210433Z
LAST-MODIFIED:20260128T210707Z
UID:10000926-1789142400-1789250400@argentaartsdistrict.org
SUMMARY:Dogtown Throwdown
DESCRIPTION:FREE COMMUNITY EVENT!\n\n\nJoin us for Argenta Dogtown Throwdown!\n\n\n\n\nFRIDAY\, SEPTEMBER 114-10 pm\n\nSATURDAY\, SEPTEMBER 127 am-10 pm\n\n\n\nSAVE THE DATE FOR OUR FINAL DOGTOWN THROWDOWN!October 9-10
URL:https://argentaartsdistrict.org/event/dogtown-throwdown-15/
LOCATION:AR
CATEGORIES:Art,Food,Live Performance
ATTACH;FMTTYPE=image/png:https://argentaartsdistrict.org/wp-content/uploads/2024/01/ARGENTA-EVENTS-1.png
END:VEVENT
BEGIN:VEVENT
DTSTART;TZID=America/Chicago:20260918T170000
DTEND;TZID=America/Chicago:20260918T200000
DTSTAMP:20260424T184626
CREATED:20230729T172306Z
LAST-MODIFIED:20250130T184651Z
UID:10000342-1789750800-1789761600@argentaartsdistrict.org
SUMMARY:Third Friday Night Art Walk
DESCRIPTION:About the Event \nTake a stroll through Argenta\, down Main Street\, where many of our Argenta venues feature original art from local and regional artists. Be sure and stay for dinner at one of our local restaurants after! \nDon’t forget! Argenta is an Entertainment District. So\, grab a drink to go from one of our local restaurants and carry it with you while you take in the art. \nView the list of venues for this month and learn more about participating as an artist: argentaartsdistrict.org/art-walk \n 
URL:https://argentaartsdistrict.org/event/third-friday-night-art-walk-3/2026-09-18/
LOCATION:AR
CATEGORIES:Art
ATTACH;FMTTYPE=image/png:https://argentaartsdistrict.org/wp-content/uploads/2022/10/Third-Friday-Art-Walk-Events-Argenta-Arts-District.png
END:VEVENT
BEGIN:VEVENT
DTSTART;TZID=America/Chicago:20260919T183000
DTEND;TZID=America/Chicago:20260919T210000
DTSTAMP:20260424T184626
CREATED:20260128T204918Z
LAST-MODIFIED:20260128T204918Z
UID:10000918-1789842600-1789851600@argentaartsdistrict.org
SUMMARY:Argenta Vibe Music Series
DESCRIPTION:Argenta Vibe Music Series Continues! Join us for an unforgettable night of music under the starts in Argenta. \nPerformers Announced Soon! \nThe event is free and open to the public. Chairs and blankets encouraged. Food and drinks will be available for purchase from local vendors.  \nSchedule: \n6:30 PM: Family Activities\, Opening Act \n7:30 PM: Main Act \nDon’t forget! Argenta is an entertainment district. Get here early\, grab a drink or bite to eat from one of our amazing local restaurants\, and pick out the perfect spot to watch the show. \nVIP EXPERIENCE \nJoin us in the Argenta Vibe Music Series VIP area. \nYour $50 VIP experience includes: \n– Tito’s Handmade Vodka Specialty Cocktail\, Local Beer and Food from Four Quarter Bar \n– Special VIP Seating \n– And the best view and dance floor at the event!
URL:https://argentaartsdistrict.org/event/argenta-vibe-music-series-12/
LOCATION:Argenta Plaza\, 510 N. Main St.\, North Little Rock\, AR\, 72114\, United States
CATEGORIES:Live Performance
ATTACH;FMTTYPE=image/png:https://argentaartsdistrict.org/wp-content/uploads/2025/01/AVMS_final-03-2.png
END:VEVENT
END:VCALENDAR