BEGIN:VCALENDAR
VERSION:2.0
PRODID:-//Argenta Arts District - ECPv6.15.20//NONSGML v1.0//EN
CALSCALE:GREGORIAN
METHOD:PUBLISH
X-ORIGINAL-URL:https://argentaartsdistrict.org
X-WR-CALDESC:Events for Argenta Arts District
REFRESH-INTERVAL;VALUE=DURATION:PT1H
X-Robots-Tag:noindex
X-PUBLISHED-TTL:PT1H
BEGIN:VTIMEZONE
TZID:America/Chicago
BEGIN:DAYLIGHT
TZOFFSETFROM:-0600
TZOFFSETTO:-0500
TZNAME:CDT
DTSTART:20250309T080000
END:DAYLIGHT
BEGIN:STANDARD
TZOFFSETFROM:-0500
TZOFFSETTO:-0600
TZNAME:CST
DTSTART:20251102T070000
END:STANDARD
BEGIN:DAYLIGHT
TZOFFSETFROM:-0600
TZOFFSETTO:-0500
TZNAME:CDT
DTSTART:20260308T080000
END:DAYLIGHT
BEGIN:STANDARD
TZOFFSETFROM:-0500
TZOFFSETTO:-0600
TZNAME:CST
DTSTART:20261101T070000
END:STANDARD
BEGIN:DAYLIGHT
TZOFFSETFROM:-0600
TZOFFSETTO:-0500
TZNAME:CDT
DTSTART:20270314T080000
END:DAYLIGHT
BEGIN:STANDARD
TZOFFSETFROM:-0500
TZOFFSETTO:-0600
TZNAME:CST
DTSTART:20271107T070000
END:STANDARD
END:VTIMEZONE
BEGIN:VEVENT
DTSTART;TZID=America/Chicago:20261009T160000
DTEND;TZID=America/Chicago:20261010T220000
DTSTAMP:20260424T201315
CREATED:20260128T211020Z
LAST-MODIFIED:20260128T211020Z
UID:10000928-1791561600-1791669600@argentaartsdistrict.org
SUMMARY:Dogtown Throwdown
DESCRIPTION:FREE COMMUNITY EVENT!\n\n\nDon’t Miss the Last Argenta Dogtown Throwdown of 2026!\n\n\n\n\nFRIDAY\, OCTOBER 94-10 pm\n\nSATURDAY\, OCTOBER 107 am-10 pm
URL:https://argentaartsdistrict.org/event/dogtown-throwdown-16/
LOCATION:AR
CATEGORIES:Art,Food,Live Performance
ATTACH;FMTTYPE=image/png:https://argentaartsdistrict.org/wp-content/uploads/2024/01/ARGENTA-EVENTS-1.png
END:VEVENT
BEGIN:VEVENT
DTSTART;TZID=America/Chicago:20261016T170000
DTEND;TZID=America/Chicago:20261016T200000
DTSTAMP:20260424T201315
CREATED:20230729T172306Z
LAST-MODIFIED:20250130T184651Z
UID:10000343-1792170000-1792180800@argentaartsdistrict.org
SUMMARY:Third Friday Night Art Walk
DESCRIPTION:About the Event \nTake a stroll through Argenta\, down Main Street\, where many of our Argenta venues feature original art from local and regional artists. Be sure and stay for dinner at one of our local restaurants after! \nDon’t forget! Argenta is an Entertainment District. So\, grab a drink to go from one of our local restaurants and carry it with you while you take in the art. \nView the list of venues for this month and learn more about participating as an artist: argentaartsdistrict.org/art-walk \n 
URL:https://argentaartsdistrict.org/event/third-friday-night-art-walk-3/2026-10-16/
LOCATION:AR
CATEGORIES:Art
ATTACH;FMTTYPE=image/png:https://argentaartsdistrict.org/wp-content/uploads/2022/10/Third-Friday-Art-Walk-Events-Argenta-Arts-District.png
END:VEVENT
BEGIN:VEVENT
DTSTART;TZID=America/Chicago:20261017T183000
DTEND;TZID=America/Chicago:20261017T210000
DTSTAMP:20260424T201315
CREATED:20260128T205055Z
LAST-MODIFIED:20260128T205055Z
UID:10000919-1792261800-1792270800@argentaartsdistrict.org
SUMMARY:Argenta Vibe Music Series
DESCRIPTION:Join us for the final show of the 2026 Argenta Vibe Music Series! \nPerformers Announced Soon! \nThe event is free and open to the public. Chairs and blankets encouraged. Food and drinks will be available for purchase from local vendors.  \nSchedule: \n6:30 PM: Family Activities\, Opening Act \n7:30 PM: Main Act \nDon’t forget! Argenta is an entertainment district. Get here early\, grab a drink or bite to eat from one of our amazing local restaurants\, and pick out the perfect spot to watch the show. \nVIP EXPERIENCE \nJoin us in the Argenta Vibe Music Series VIP area. \nYour $50 VIP experience includes: \n– Tito’s Handmade Vodka Specialty Cocktail\, Local Beer and Food from Four Quarter Bar \n– Special VIP Seating \n– And the best view and dance floor at the event!
URL:https://argentaartsdistrict.org/event/argenta-vibe-music-series-13/
LOCATION:Argenta Plaza\, 510 N. Main St.\, North Little Rock\, AR\, 72114\, United States
CATEGORIES:Live Performance
ATTACH;FMTTYPE=image/png:https://argentaartsdistrict.org/wp-content/uploads/2025/01/AVMS_final-03-2.png
END:VEVENT
END:VCALENDAR