BEGIN:VCALENDAR
VERSION:2.0
PRODID:-//Argenta Arts District - ECPv6.15.20//NONSGML v1.0//EN
CALSCALE:GREGORIAN
METHOD:PUBLISH
X-WR-CALNAME:Argenta Arts District
X-ORIGINAL-URL:https://argentaartsdistrict.org
X-WR-CALDESC:Events for Argenta Arts District
REFRESH-INTERVAL;VALUE=DURATION:PT1H
X-Robots-Tag:noindex
X-PUBLISHED-TTL:PT1H
BEGIN:VTIMEZONE
TZID:America/Chicago
BEGIN:DAYLIGHT
TZOFFSETFROM:-0600
TZOFFSETTO:-0500
TZNAME:CDT
DTSTART:20240310T080000
END:DAYLIGHT
BEGIN:STANDARD
TZOFFSETFROM:-0500
TZOFFSETTO:-0600
TZNAME:CST
DTSTART:20241103T070000
END:STANDARD
BEGIN:DAYLIGHT
TZOFFSETFROM:-0600
TZOFFSETTO:-0500
TZNAME:CDT
DTSTART:20250309T080000
END:DAYLIGHT
BEGIN:STANDARD
TZOFFSETFROM:-0500
TZOFFSETTO:-0600
TZNAME:CST
DTSTART:20251102T070000
END:STANDARD
BEGIN:DAYLIGHT
TZOFFSETFROM:-0600
TZOFFSETTO:-0500
TZNAME:CDT
DTSTART:20260308T080000
END:DAYLIGHT
BEGIN:STANDARD
TZOFFSETFROM:-0500
TZOFFSETTO:-0600
TZNAME:CST
DTSTART:20261101T070000
END:STANDARD
END:VTIMEZONE
BEGIN:VEVENT
DTSTART;VALUE=DATE:20250101
DTEND;VALUE=DATE:20250201
DTSTAMP:20260425T111654
CREATED:20250109T192011Z
LAST-MODIFIED:20250109T192011Z
UID:10000832-1735689600-1738367999@argentaartsdistrict.org
SUMMARY:North Little Rock Restaurant Month
DESCRIPTION:The North Little Rock Tourism invites you to share your love for North Little Rock restaurants during North Little Rock Restaurant Month. Dine out during Restaurant Month and save your receipts to earn entries into a raffle for fun North Little Rock prizes.
URL:https://argentaartsdistrict.org/event/north-little-rock-restaurant-month/
LOCATION:North Little Rock\, North Little Rock\, United States
CATEGORIES:Family-Friendly,Food
ATTACH;FMTTYPE=image/webp:https://argentaartsdistrict.org/wp-content/uploads/2025/01/NLR_Restaurant_Month_Half-page.png.webp
END:VEVENT
END:VCALENDAR