BEGIN:VCALENDAR
VERSION:2.0
PRODID:-//Argenta Arts District - ECPv6.15.20//NONSGML v1.0//EN
CALSCALE:GREGORIAN
METHOD:PUBLISH
X-ORIGINAL-URL:https://argentaartsdistrict.org
X-WR-CALDESC:Events for Argenta Arts District
REFRESH-INTERVAL;VALUE=DURATION:PT1H
X-Robots-Tag:noindex
X-PUBLISHED-TTL:PT1H
BEGIN:VTIMEZONE
TZID:America/Chicago
BEGIN:DAYLIGHT
TZOFFSETFROM:-0600
TZOFFSETTO:-0500
TZNAME:CDT
DTSTART:20230312T080000
END:DAYLIGHT
BEGIN:STANDARD
TZOFFSETFROM:-0500
TZOFFSETTO:-0600
TZNAME:CST
DTSTART:20231105T070000
END:STANDARD
BEGIN:DAYLIGHT
TZOFFSETFROM:-0600
TZOFFSETTO:-0500
TZNAME:CDT
DTSTART:20240310T080000
END:DAYLIGHT
BEGIN:STANDARD
TZOFFSETFROM:-0500
TZOFFSETTO:-0600
TZNAME:CST
DTSTART:20241103T070000
END:STANDARD
BEGIN:DAYLIGHT
TZOFFSETFROM:-0600
TZOFFSETTO:-0500
TZNAME:CDT
DTSTART:20250309T080000
END:DAYLIGHT
BEGIN:STANDARD
TZOFFSETFROM:-0500
TZOFFSETTO:-0600
TZNAME:CST
DTSTART:20251102T070000
END:STANDARD
END:VTIMEZONE
BEGIN:VEVENT
DTSTART;TZID=America/Chicago:20241001T200000
DTEND;TZID=America/Chicago:20241001T200000
DTSTAMP:20260425T213251
CREATED:20240830T175712Z
LAST-MODIFIED:20240830T175712Z
UID:10000675-1727812800-1727812800@argentaartsdistrict.org
SUMMARY:Godsmack - Best of Times World Tour
DESCRIPTION:Visit the link to purchase your tickets.
URL:https://argentaartsdistrict.org/event/godsmack-best-of-times-world-tour/
LOCATION:Simmons Bank Arena\, 1 Simmons Bank Arena Drive\, North Little Rock\, AR\, 72114\, United States
CATEGORIES:Live Performance,Music
ATTACH;FMTTYPE=image/jpeg:https://argentaartsdistrict.org/wp-content/uploads/2024/08/gswebsitehomepage_copy.jpg
END:VEVENT
BEGIN:VEVENT
DTSTART;VALUE=DATE:20241009
DTEND;VALUE=DATE:20241020
DTSTAMP:20260425T213251
CREATED:20240930T201327Z
LAST-MODIFIED:20240930T201935Z
UID:10000693-1728432000-1729382399@argentaartsdistrict.org
SUMMARY:My Fair Lady
DESCRIPTION:Eliza Doolittle is a young flower seller with an unmistakable Cockney accent which keeps her in the lower rungs of Edwardian society. When Professor Henry Higgins tries to teach her how to speak like a proper lady\, an unlikely friendship begins to flourish. \nBased on George Bernard Shaw’s play Pygmalion\, My Fair Lady is that rare musical by which all others are measured. The tale of a cockney flower girl transformed into an elegant lady features one of musical theatre’s greatest scores\, including: “Wouldn’t It Be Loverly?\,” “With a Little Bit of Luck\,” “The Rain in Spain\,” “I Could Have Danced All Night\,” “On the Street Where You Live\,” “Get Me to the Church on Time\,” and “I’ve Grown Accustomed to Her Face.” \nWhen Lerner and Loewe’s My Fair Lady opened on Broadway\, it collected six Tony Awards\, including Best Musical\, while the film version took home eight Oscars\, including Best Picture.
URL:https://argentaartsdistrict.org/event/my-fair-lady/
LOCATION:Argenta Contemporary Theater\, 405 Main St.\, North Little Rock\, 72114\, United States
CATEGORIES:Live Performance,Musical
ATTACH;FMTTYPE=image/png:https://argentaartsdistrict.org/wp-content/uploads/2024/09/My-Fair-Lady-400x500-1.png
ORGANIZER;CN="Argenta Contemporary Theater":MAILTO:info@argentacommunitytheater.org
END:VEVENT
BEGIN:VEVENT
DTSTART;TZID=America/Chicago:20241010T193000
DTEND;TZID=America/Chicago:20241010T193000
DTSTAMP:20260425T213251
CREATED:20240930T202643Z
LAST-MODIFIED:20240930T202643Z
UID:10000694-1728588600-1728588600@argentaartsdistrict.org
SUMMARY:Jazz at the Joint: Bruce Forman
DESCRIPTION:Bruce Forman’s life and musical journey provide an American saga that is still in full swing. His Texas origins\, his early career in San Francisco and New York\, and his years on the road\, all contribute to the unique and highly personal vision that he demonstrates today.
URL:https://argentaartsdistrict.org/event/jazz-at-the-joint-bruce-forman/
LOCATION:The Joint\, 301 Main St #102\, North Little Rock\, AR\, 72114\, United States
CATEGORIES:Jazz Music,Live Performance,Music
ATTACH;FMTTYPE=image/webp:https://argentaartsdistrict.org/wp-content/uploads/2024/09/IMG_0808-uai-560x560-1.webp
END:VEVENT
BEGIN:VEVENT
DTSTART;TZID=America/Chicago:20241022T190000
DTEND;TZID=America/Chicago:20241022T190000
DTSTAMP:20260425T213251
CREATED:20240930T215200Z
LAST-MODIFIED:20240930T215200Z
UID:10000698-1729623600-1729623600@argentaartsdistrict.org
SUMMARY:Jelly Roll: Beautifully Broken Tour
DESCRIPTION:Award-winning\, Grammy nominated Nashville native singer/songwriter Jelly Roll (Jason DeFord) debuted Top 3 on the Billboard 200 All Genre Chart and #2 on the Top Country Album charts with his debut Country Album\, Whitsitt Chapel – earning the biggest Country debut album in Billboard Consumption Chart history. Following his sweep at the 2023 CMT Music Awards where he earned 3 awards to become the most awarded artist of the night\, the Billboard Country Power List Cover star and “country’s ‘most authentic’ new artist” (The New Yorker) received Billboard’s 2023 Breakthrough Award and the People’s Choice Award for Male Country Artist of the Year.
URL:https://argentaartsdistrict.org/event/jelly-roll-beautifully-broken-tour/
LOCATION:Simmons Bank Arena\, 1 Simmons Bank Arena Drive\, North Little Rock\, AR\, 72114\, United States
CATEGORIES:Live Performance,Music
ATTACH;FMTTYPE=image/jpeg:https://argentaartsdistrict.org/wp-content/uploads/2024/09/jellywebsitehomepage_copy.jpg
END:VEVENT
BEGIN:VEVENT
DTSTART;TZID=America/Chicago:20241025T180000
DTEND;TZID=America/Chicago:20241025T213000
DTSTAMP:20260425T213251
CREATED:20240129T204527Z
LAST-MODIFIED:20241021T162137Z
UID:10000510-1729879200-1729891800@argentaartsdistrict.org
SUMMARY:Argenta Vibe Music Series
DESCRIPTION:FREE COMMUNITY EVENT!\nRSVP at the Facebook Event\n\nJoin us for a night with Nick Shoulders! Hailing from Fayetteville\, AR\, Nick’s songs share hard truths while inspiring joyful abandon\, reflecting years of travel and a deep respect for country music’s roots. His unique music blends early country styles with infectious harmonies\, Cajun waltzes\, and surf-rock bluesy ballads— all tied together by a voice seemingly out of place in this century.\nTo open the night\, we have Nashville artist Jack Studer. Bring the kids to enjoy the music and check out all the activities in our Kids Zone! It’s a night out with the whole family!\nThis event is free and open to the public. Chairs and blankets encouraged. Food and drinks will be available for purchase from local vendors or Argenta restaurants.\nJack Studer 6:30 pmNick Shoulders 8 pm\nThank you to our amazing sponsors: Tito’s Handmade Vodka\, Applied Technology Group\, Draft + Table Argenta\, NLR Tourism\, Ben E. Keith Foods\, CFO Network\, 107 Liquor\, ACANSA Arts Festival of the South\, Alessi Keyes Construction\, Centennial Bank\, Dogtowne Dry Goods\, Flyway Brewing\, The City of North Little Rock and The Argenta Downtown Council. \nVIP EXPERIENCEJoin us in the Argenta Vibe Music Series VIP area.Your $50 VIP experience includes:– Tito’s Handmade Vodka Specialty Cocktail– Beer by Flyway Brewing– Food by Four Quarter Bar– Special VIP Seating– And the best view and dance floor at the event!\nPurchase VIP Tickets Here
URL:https://argentaartsdistrict.org/event/argenta-vibe-music-series-5/
LOCATION:Argenta Plaza\, 510 N. Main St.\, North Little Rock\, AR\, 72114\, United States
CATEGORIES:Live Performance
ATTACH;FMTTYPE=image/png:https://argentaartsdistrict.org/wp-content/uploads/2024/01/AVMS-Square-Images-1080-x-1080-px-2.png
END:VEVENT
BEGIN:VEVENT
DTSTART;VALUE=DATE:20241026
DTEND;VALUE=DATE:20241028
DTSTAMP:20260425T213251
CREATED:20240930T220352Z
LAST-MODIFIED:20240930T220352Z
UID:10000699-1729900800-1730073599@argentaartsdistrict.org
SUMMARY:Hot Wheels Monster Trucks Live Glow Party
DESCRIPTION:Power Smashers™ Pre-Party\nHot Wheels fans also have the chance to participate in the Hot Wheels Power Smashers™ Pre-Show\, held two-and a-half hours prior to every performance. The unique experience provides fans access to the competition floor where they can see the outrageous designs and epic size of the Hot Wheels Monster Trucks along with autograph signings from their favorite drivers and performers. Each Hot Wheels Power Smashers™ Pre-show ticket includes an autograph card\, glow stick\, souvenir pass\, and a lanyard exclusive to Hot Wheels Power Smashers™ Pre-show attendees. Passes will be available to purchase while supplies last. \nSaturday\, October 26 10AM – 11:15AM\nSaturday\, October 26 5PM – 6:15PM\nSunday\, October 27 12PM – 1:15PM \n*Must also have event ticket \nClick here for more information and to purchase Power Smashers™ tickets. \n\nPre-Show VIP Backstage Experience\nThe new Pre-Show VIP Backstage Experience is an exclusive tour guided by the hosts of Hot Wheels Monster Trucks Live! Experience what happens behind the scenes before all of the smashing and crashing goes down. See the Hot Wheels Monster Trucks up close and personal\, get your VIP merch bundle and receive early access into the Hot Wheels Power Smashers™ Pre-show! VIP passes are limited and available to purchase while supplies last. \nSaturday\, October 26 9:30AM – 10AM\nSaturday\, October 26 4:30PM – 5PM\nSunday\, October 27 11:30PM – 12PM \n*Must also have event ticket \nClick here for more information and to purchase Pre-Show VIP Backstage Experience tickets. \n\n*PLEASE CONFIRM THE TIME AND DATE LISTED ON YOUR TICKET*\nDoors are scheduled to open:\nSaturday\, 10/26 at 11:30am for the 12:30pm event\nSaturday\, 10/26 at 6:30pm for the 7:30pm event\nSunday\, 10/27at 1:30pm for the 2:30pm event \n\nPower Smashers™ Pre-Show Pass Purchasers:\nPlease meet at the Main Entrance. This add-on will last for 1 hour and 15 minutes. \nSaturday\, October 26 10AM – 11:15AM\nSaturday\, October 26 5PM – 6:15PM\nSunday\, October 27 12PM – 1:15PM \n*Fans who arrive late may not have access to the competition floor but will still receive Exclusive Power Smashers Pre-Show Souvenirs.*
URL:https://argentaartsdistrict.org/event/hot-wheels-monster-trucks-live-glow-party/
LOCATION:Simmons Bank Arena\, 1 Simmons Bank Arena Drive\, North Little Rock\, AR\, 72114\, United States
CATEGORIES:Family-Friendly,Live Performance
ATTACH;FMTTYPE=image/jpeg:https://argentaartsdistrict.org/wp-content/uploads/2024/09/hw24websitehomepage_copy.jpg
END:VEVENT
END:VCALENDAR