BEGIN:VCALENDAR
VERSION:2.0
PRODID:-//Argenta Arts District - ECPv6.15.20//NONSGML v1.0//EN
CALSCALE:GREGORIAN
METHOD:PUBLISH
X-WR-CALNAME:Argenta Arts District
X-ORIGINAL-URL:https://argentaartsdistrict.org
X-WR-CALDESC:Events for Argenta Arts District
REFRESH-INTERVAL;VALUE=DURATION:PT1H
X-Robots-Tag:noindex
X-PUBLISHED-TTL:PT1H
BEGIN:VTIMEZONE
TZID:America/Chicago
BEGIN:DAYLIGHT
TZOFFSETFROM:-0600
TZOFFSETTO:-0500
TZNAME:CDT
DTSTART:20240310T080000
END:DAYLIGHT
BEGIN:STANDARD
TZOFFSETFROM:-0500
TZOFFSETTO:-0600
TZNAME:CST
DTSTART:20241103T070000
END:STANDARD
BEGIN:DAYLIGHT
TZOFFSETFROM:-0600
TZOFFSETTO:-0500
TZNAME:CDT
DTSTART:20250309T080000
END:DAYLIGHT
BEGIN:STANDARD
TZOFFSETFROM:-0500
TZOFFSETTO:-0600
TZNAME:CST
DTSTART:20251102T070000
END:STANDARD
BEGIN:DAYLIGHT
TZOFFSETFROM:-0600
TZOFFSETTO:-0500
TZNAME:CDT
DTSTART:20260308T080000
END:DAYLIGHT
BEGIN:STANDARD
TZOFFSETFROM:-0500
TZOFFSETTO:-0600
TZNAME:CST
DTSTART:20261101T070000
END:STANDARD
END:VTIMEZONE
BEGIN:VEVENT
DTSTART;TZID=America/Chicago:20250206T190000
DTEND;TZID=America/Chicago:20250206T190000
DTSTAMP:20260425T120428
CREATED:20250109T202838Z
LAST-MODIFIED:20250109T202838Z
UID:10000835-1738868400-1738868400@argentaartsdistrict.org
SUMMARY:TOBYMAC's Hits Deep Tour 2025
DESCRIPTION:What’s it like to have an epic dance party with thousands of new friends? Experience it live at TobyMac’s Hits Deep 2025! With a stellar lineup that includes TobyMac\, Crowder\, CAIN\, Ryan Stevenson\, and Terrian\, this show promises to be an unforgettable night like no other. You’ll be on your feet\, singing your heart out\, feeling the pure energy in the room. Get your tickets now\, and we’ll see you at TobyMac’s Hits Deep 2025! \n*Artist Line Up Subject to Change
URL:https://argentaartsdistrict.org/event/tobymacs-hits-deep-tour-2025/
LOCATION:Simmons Bank Arena\, 1 Simmons Bank Arena Drive\, North Little Rock\, AR\, 72114\, United States
CATEGORIES:Live Performance,Music
ATTACH;FMTTYPE=image/jpeg:https://argentaartsdistrict.org/wp-content/uploads/2025/01/newtm25websitehomepage_copy.jpg
END:VEVENT
BEGIN:VEVENT
DTSTART;TZID=America/Chicago:20250213T193000
DTEND;TZID=America/Chicago:20250213T193000
DTSTAMP:20260425T120428
CREATED:20250206T194546Z
LAST-MODIFIED:20250206T194546Z
UID:10000898-1739475000-1739475000@argentaartsdistrict.org
SUMMARY:Jazz at The Joint: Rahsaan Barber
DESCRIPTION:Rahsaan Barber is a saxophonist\, composer\, educator\, and entrepreneur known for his versatility across jazz\, blues\, funk\, classical\, Latin\, and more. A professor at UNC since 2020\, he has performed worldwide with top artists. He leads jazz and Latin ensembles\, runs Jazz Music City\, and tours extensively while championing music education.
URL:https://argentaartsdistrict.org/event/jazz-at-the-joint-rahsaan-barber/
LOCATION:The Joint\, 301 Main St #102\, North Little Rock\, AR\, 72114\, United States
CATEGORIES:Jazz Music,Live Performance,Music
ATTACH;FMTTYPE=image/png:https://argentaartsdistrict.org/wp-content/uploads/2025/02/Rahsaan-Barber-uai-940x940-1.png
END:VEVENT
BEGIN:VEVENT
DTSTART;TZID=America/Chicago:20250222T190000
DTEND;TZID=America/Chicago:20250222T210000
DTSTAMP:20260425T120428
CREATED:20250206T180922Z
LAST-MODIFIED:20250206T181122Z
UID:10000875-1740250800-1740258000@argentaartsdistrict.org
SUMMARY:Monster Jam 2025
DESCRIPTION:TICKETS ON SALE NOW!\n*There is an 8 ticket limit per household \n**Ages 2 & up require a ticket. \n*** No costumes for guests 14 & older. \n(Ticket prices and competitors subject to change) \nGroups of 10+ email mstonecipher@simmonsbankarena.com. \nEar plugs for sale at guest services at main entrance. \nTRUCK LINEUP: \nGrave Digger® driven by Matt Cody\nEl Toro Loco® driven by Fernando Martinez\nSparkle Smash® driven by Jamie Sullivan\nMegalodon® driven by Angelina Nock\nZombie® driven by Jon Zimmer\, Sr.\nTerminal Velocity driven by Jon Zimmer\, Jr.\nKrazy Train driven by Triton Robbins\nPlane Krazy driven by Montana Robbins \n**Truck and driver line-up subject to change
URL:https://argentaartsdistrict.org/event/monster-jam-2025/2025-02-22/
LOCATION:Simmons Bank Arena\, 1 Simmons Bank Arena Drive\, North Little Rock\, AR\, 72114\, United States
CATEGORIES:Live Performance
ATTACH;FMTTYPE=image/jpeg:https://argentaartsdistrict.org/wp-content/uploads/2025/02/mjamw-owords25websitehomepage_copy_2.jpg
END:VEVENT
BEGIN:VEVENT
DTSTART;TZID=America/Chicago:20250223T150000
DTEND;TZID=America/Chicago:20250223T170000
DTSTAMP:20260425T120428
CREATED:20250206T180922Z
LAST-MODIFIED:20250206T181122Z
UID:10000876-1740322800-1740330000@argentaartsdistrict.org
SUMMARY:Monster Jam 2025
DESCRIPTION:TICKETS ON SALE NOW!\n*There is an 8 ticket limit per household \n**Ages 2 & up require a ticket. \n*** No costumes for guests 14 & older. \n(Ticket prices and competitors subject to change) \nGroups of 10+ email mstonecipher@simmonsbankarena.com. \nEar plugs for sale at guest services at main entrance. \nTRUCK LINEUP: \nGrave Digger® driven by Matt Cody\nEl Toro Loco® driven by Fernando Martinez\nSparkle Smash® driven by Jamie Sullivan\nMegalodon® driven by Angelina Nock\nZombie® driven by Jon Zimmer\, Sr.\nTerminal Velocity driven by Jon Zimmer\, Jr.\nKrazy Train driven by Triton Robbins\nPlane Krazy driven by Montana Robbins \n**Truck and driver line-up subject to change
URL:https://argentaartsdistrict.org/event/monster-jam-2025/2025-02-23/
LOCATION:Simmons Bank Arena\, 1 Simmons Bank Arena Drive\, North Little Rock\, AR\, 72114\, United States
CATEGORIES:Live Performance
ATTACH;FMTTYPE=image/jpeg:https://argentaartsdistrict.org/wp-content/uploads/2025/02/mjamw-owords25websitehomepage_copy_2.jpg
END:VEVENT
END:VCALENDAR