BEGIN:VCALENDAR
VERSION:2.0
PRODID:-//Argenta Arts District - ECPv6.15.20//NONSGML v1.0//EN
CALSCALE:GREGORIAN
METHOD:PUBLISH
X-WR-CALNAME:Argenta Arts District
X-ORIGINAL-URL:https://argentaartsdistrict.org
X-WR-CALDESC:Events for Argenta Arts District
REFRESH-INTERVAL;VALUE=DURATION:PT1H
X-Robots-Tag:noindex
X-PUBLISHED-TTL:PT1H
BEGIN:VTIMEZONE
TZID:America/Chicago
BEGIN:DAYLIGHT
TZOFFSETFROM:-0600
TZOFFSETTO:-0500
TZNAME:CDT
DTSTART:20230312T080000
END:DAYLIGHT
BEGIN:STANDARD
TZOFFSETFROM:-0500
TZOFFSETTO:-0600
TZNAME:CST
DTSTART:20231105T070000
END:STANDARD
BEGIN:DAYLIGHT
TZOFFSETFROM:-0600
TZOFFSETTO:-0500
TZNAME:CDT
DTSTART:20240310T080000
END:DAYLIGHT
BEGIN:STANDARD
TZOFFSETFROM:-0500
TZOFFSETTO:-0600
TZNAME:CST
DTSTART:20241103T070000
END:STANDARD
BEGIN:DAYLIGHT
TZOFFSETFROM:-0600
TZOFFSETTO:-0500
TZNAME:CDT
DTSTART:20250309T080000
END:DAYLIGHT
BEGIN:STANDARD
TZOFFSETFROM:-0500
TZOFFSETTO:-0600
TZNAME:CST
DTSTART:20251102T070000
END:STANDARD
END:VTIMEZONE
BEGIN:VEVENT
DTSTART;VALUE=DATE:20241123
DTEND;VALUE=DATE:20241209
DTSTAMP:20260425T213309
CREATED:20240930T222259Z
LAST-MODIFIED:20240930T222259Z
UID:10000700-1732320000-1733702399@argentaartsdistrict.org
SUMMARY:Piccolo Zoppé Winter Circus
DESCRIPTION:What better time than the Christmas season to gather your family and indulge in live entertainment at its finest. \nPiccolo Zoppé Winter Circus\, is a magical European circus that is sure to capture your heart. The Zoppé  family has been performing since 1842. 181 years have passed and we would like for you to meet our family under our beautiful intimate theater tent. \nWhen you arrive you’ll be greeted by some of our performers in our gathering tent where you’ll be entertained by them and invited to emerge in the surroundings\, stepping back in time\, and indulging  in European pastries\, popcorn\, cotton candy\, and other delectable delights. \nAs you enter the main tent you will soon become aware that our circus is ardently different. Petite and unique. You will become enchanted with our performance and before you leave you will be part of our family. \nPlease join us for a most unforgettable experience. \nPiccolo Zoppé is now in it’s Winter Season.\n​We hope to see you this Holiday.
URL:https://argentaartsdistrict.org/event/piccolo-zoppe-winter-circus-2/
LOCATION:Argenta Green Park\, 100 Bishop Lindsey Ave.\, North Little Rock\, United States
CATEGORIES:Family-Friendly,Live Performance
ATTACH;FMTTYPE=image/jpeg:https://argentaartsdistrict.org/wp-content/uploads/2024/09/441521966_866954155445128_1932086627953157579_n.jpg
END:VEVENT
BEGIN:VEVENT
DTSTART;VALUE=DATE:20241204
DTEND;VALUE=DATE:20241223
DTSTAMP:20260425T213309
CREATED:20241029T173630Z
LAST-MODIFIED:20241029T173630Z
UID:10000709-1733270400-1734911999@argentaartsdistrict.org
SUMMARY:A Christmas Story: The Musical
DESCRIPTION:Set in the 1940s in the fictional town of Hohman\, Indiana\, the musical follows 9-year-old Ralphie Parker and his quest for the Holy Grail of Christmas gifts—an Official Red Ryder carbine-action 200-shot Range Model air rifle. Rebuffed at every turn with a similar echoing response\, Ralphie plots numerous schemes to achieve his desperate desire for the coveted BB gun. \nThis musical\, which received rave reviews on its Broadway run\, is based on the movie classic that runs round-the-clock on television every Christmas. All the iconic scenes from the movie are here: Ralphie’s friend\, Flick\, getting his tongue stuck to the flagpole; his brother\, Randy\, getting dressed in his snowsuit; the bullies\, Farkus and Dill; the leg lamp award; the bunny suit; Christmas dinner; and many others.
URL:https://argentaartsdistrict.org/event/a-christmas-story-the-musical/
LOCATION:Argenta Contemporary Theater\, 405 Main St\, North Little Rock\, AR\, 72114\, United States
CATEGORIES:Live Performance,Music,Musical
ATTACH;FMTTYPE=image/png:https://argentaartsdistrict.org/wp-content/uploads/2024/10/A-Christmas-Story.png
ORGANIZER;CN="Argenta Contemporary Theater":MAILTO:info@argentacommunitytheater.org
END:VEVENT
BEGIN:VEVENT
DTSTART;TZID=America/Chicago:20241206T200000
DTEND;TZID=America/Chicago:20241206T200000
DTSTAMP:20260425T213309
CREATED:20241029T170557Z
LAST-MODIFIED:20241029T170557Z
UID:10000707-1733515200-1733515200@argentaartsdistrict.org
SUMMARY:Gabriel Iglesias: Don't Worry Be Fluffy
DESCRIPTION:Gabriel “Fluffy” Iglesias is one of the world’s most successful stand-up comedians. He recently became the second highest grossing touring comedian and is one of the most watched comedians on YouTube with over 1.1 billion views and over 25 million fans on social media. \nIglesias has been included in The Hollywood Reporter’s “Top 40 Comedy Players” issue alongside comedy giants Jerry Seinfeld\, Chris Rock and Lorne Michaels. He was also recently honored with the cover of Variety’s comedy issue. The comedian has had the distinct honor of being one of the few to headline and sell-out Madison Square Garden in New York\, Crypto.com Arena in Los Angeles and The Sydney Opera House in Australia. \nGabriel Iglesias is the youngest of six children\, raised by a single mother in Long Beach\, CA. It was during his childhood that he developed a strong sense of humor to deal with the obstacles he faced. In 1997\, he set out to hone his comedic skills\, and performed stand-up anywhere he could find an audience; including biker bars and hole-in the-wall joints. Gabriel’s stand-up comedy is a mixture of storytelling\, parodies\, characters and sound effects that bring his personal experiences to life. His unique and animated comedy style has made him popular among fans of all ages.
URL:https://argentaartsdistrict.org/event/gabriel-iglesias-dont-worry-be-fluffy/
LOCATION:Simmons Bank Arena\, 1 Simmons Bank Arena Drive\, North Little Rock\, AR\, 72114\, United States
CATEGORIES:Comedy
ATTACH;FMTTYPE=image/jpeg:https://argentaartsdistrict.org/wp-content/uploads/2024/10/giwebsitehomepage_copy.jpg
END:VEVENT
END:VCALENDAR