BEGIN:VCALENDAR
VERSION:2.0
PRODID:-//Argenta Arts District - ECPv6.15.20//NONSGML v1.0//EN
CALSCALE:GREGORIAN
METHOD:PUBLISH
X-ORIGINAL-URL:https://argentaartsdistrict.org
X-WR-CALDESC:Events for Argenta Arts District
REFRESH-INTERVAL;VALUE=DURATION:PT1H
X-Robots-Tag:noindex
X-PUBLISHED-TTL:PT1H
BEGIN:VTIMEZONE
TZID:America/Chicago
BEGIN:DAYLIGHT
TZOFFSETFROM:-0600
TZOFFSETTO:-0500
TZNAME:CDT
DTSTART:20240310T080000
END:DAYLIGHT
BEGIN:STANDARD
TZOFFSETFROM:-0500
TZOFFSETTO:-0600
TZNAME:CST
DTSTART:20241103T070000
END:STANDARD
BEGIN:DAYLIGHT
TZOFFSETFROM:-0600
TZOFFSETTO:-0500
TZNAME:CDT
DTSTART:20250309T080000
END:DAYLIGHT
BEGIN:STANDARD
TZOFFSETFROM:-0500
TZOFFSETTO:-0600
TZNAME:CST
DTSTART:20251102T070000
END:STANDARD
BEGIN:DAYLIGHT
TZOFFSETFROM:-0600
TZOFFSETTO:-0500
TZNAME:CDT
DTSTART:20260308T080000
END:DAYLIGHT
BEGIN:STANDARD
TZOFFSETFROM:-0500
TZOFFSETTO:-0600
TZNAME:CST
DTSTART:20261101T070000
END:STANDARD
END:VTIMEZONE
BEGIN:VEVENT
DTSTART;TZID=America/Chicago:20250920T180000
DTEND;TZID=America/Chicago:20250920T210000
DTSTAMP:20260425T054327
CREATED:20250130T182835Z
LAST-MODIFIED:20250826T170147Z
UID:10000845-1758391200-1758402000@argentaartsdistrict.org
SUMMARY:Argenta Vibe Music Series-Pura Coco
DESCRIPTION:Join us for a FREE\, family-friendly evening combining culture\, rhythm\, and southern charm at the Argenta Vibe Music Series—proudly presented in partnership with Seis Puentes and the ACANSA Arts Festival of the South! In honor of Hispanic Heritage Month\, we’re excited to bring you TWO incredible performances this month by Pura Coco and Larry & Joe! \nPura Coco is an alternative R&B and soul artist who blends the grit and soul of her NYC upbringing with the warmth and rhythm of her Southern influence. She’ll perform backed by her full band and DJ Raquel. But before she takes the stage you’ll get to hear from Larry & Joe\, the Grammy‑nominated “latingrass” duo. Both men are versatile multi-instrumentalists and singer-songwriters on a mission to show that music has no borders. As a duo they perform a fusion of Venezuelan and Appalachian folk music on harp\, banjo\, cuatro\, fiddle\, maracas\, guitar\, upright bass\, and whatever else they decide to throw in the van. \nLearn More about Pura Coco\nLearn More about Larry & Joe\nThe event is free and open to the public. Chairs and blankets encouraged. Food and drinks will be available for purchase from local vendors.  \nPLEASE NOTE: We’ll be starting a little earlier this month!\n4 pm-Hispanic Heritage Festival presented by Seis Puentes\nWith performances by Ballet Folklorico Quetzalli\, local authentic food from Tacos Godoy and Taco Mexicano and more!\n5:30 pm-Larry & Joe presented by ACANSA Arts Festival\nMore details from ACANSA: https://acansa.org/hispanic-heritage-festival-2025/\n7:30 pm-Pura Coco with her full band and DJ Raquel \nDon’t forget! Argenta is an entertainment district. Get here early\, grab a drink or bite to eat from one of our amazing local restaurants\, and pick out the perfect spot to watch the show. \nVIP EXPERIENCE \nJoin us in the Argenta Vibe Music Series VIP area. \nYour $50 VIP experience includes: \n– Tito’s Handmade Vodka Specialty Cocktail \n– Beer by Flyway Brewing \n– Food by Four Quarter Bar \n– Special VIP Seating \n– And the best view and dance floor at the event! \nPurchase VIP Tickets
URL:https://argentaartsdistrict.org/event/argenta-vibe-music-series-8/
LOCATION:Argenta Plaza\, 510 N. Main St.\, North Little Rock\, AR\, 72114\, United States
CATEGORIES:Live Performance
ATTACH;FMTTYPE=image/png:https://argentaartsdistrict.org/wp-content/uploads/2025/01/AVMS_final-03-2.png
END:VEVENT
END:VCALENDAR