BEGIN:VCALENDAR
VERSION:2.0
PRODID:-//Argenta Arts District - ECPv6.15.20//NONSGML v1.0//EN
CALSCALE:GREGORIAN
METHOD:PUBLISH
X-ORIGINAL-URL:https://argentaartsdistrict.org
X-WR-CALDESC:Events for Argenta Arts District
REFRESH-INTERVAL;VALUE=DURATION:PT1H
X-Robots-Tag:noindex
X-PUBLISHED-TTL:PT1H
BEGIN:VTIMEZONE
TZID:America/Chicago
BEGIN:DAYLIGHT
TZOFFSETFROM:-0600
TZOFFSETTO:-0500
TZNAME:CDT
DTSTART:20220313T080000
END:DAYLIGHT
BEGIN:STANDARD
TZOFFSETFROM:-0500
TZOFFSETTO:-0600
TZNAME:CST
DTSTART:20221106T070000
END:STANDARD
BEGIN:DAYLIGHT
TZOFFSETFROM:-0600
TZOFFSETTO:-0500
TZNAME:CDT
DTSTART:20230312T080000
END:DAYLIGHT
BEGIN:STANDARD
TZOFFSETFROM:-0500
TZOFFSETTO:-0600
TZNAME:CST
DTSTART:20231105T070000
END:STANDARD
BEGIN:DAYLIGHT
TZOFFSETFROM:-0600
TZOFFSETTO:-0500
TZNAME:CDT
DTSTART:20240310T080000
END:DAYLIGHT
BEGIN:STANDARD
TZOFFSETFROM:-0500
TZOFFSETTO:-0600
TZNAME:CST
DTSTART:20241103T070000
END:STANDARD
BEGIN:DAYLIGHT
TZOFFSETFROM:-0600
TZOFFSETTO:-0500
TZNAME:CDT
DTSTART:20250309T080000
END:DAYLIGHT
BEGIN:STANDARD
TZOFFSETFROM:-0500
TZOFFSETTO:-0600
TZNAME:CST
DTSTART:20251102T070000
END:STANDARD
END:VTIMEZONE
BEGIN:VEVENT
DTSTART;TZID=America/Chicago:20240919T193000
DTEND;TZID=America/Chicago:20240919T193000
DTSTAMP:20260424T151306
CREATED:20240830T171947Z
LAST-MODIFIED:20240830T171947Z
UID:10000670-1726774200-1726774200@argentaartsdistrict.org
SUMMARY:Tennessee Rising: The Dawn of Tennessee Williams
DESCRIPTION:Written and performed by Jacob Storms\, Tennessee Rising sheds light on the unexplored\, formative years (1939-1945) of Tom Williams as he metamorphoses into his most iconic character – America’s acclaimed playwright\, Tennessee Williams – and grapples with first love\, professional triumph and torment\, heartbreak\, and ultimately “the catastrophe of success.” The play was originally directed for the stage by Alan Cumming. https://www.jacobstorms.net/
URL:https://argentaartsdistrict.org/event/tennessee-rising-the-dawn-of-tennessee-williams/
LOCATION:The Joint\, 301 Main St #102\, North Little Rock\, AR\, 72114\, United States
CATEGORIES:Live Performance
ATTACH;FMTTYPE=image/png:https://argentaartsdistrict.org/wp-content/uploads/2024/08/10-Tennessee-Rising.png
END:VEVENT
BEGIN:VEVENT
DTSTART;TZID=America/Chicago:20240916T140000
DTEND;TZID=America/Chicago:20240916T140000
DTSTAMP:20260424T151306
CREATED:20240830T164251Z
LAST-MODIFIED:20240830T164251Z
UID:10000662-1726495200-1726495200@argentaartsdistrict.org
SUMMARY:The Sunshine Boys
DESCRIPTION:Al and Willie as “Lewis and Clark” were top-billed vaudevillians for over forty years. Now they aren’t even speaking. When CBS requests them for a “History of Comedy” retrospective\, a grudging reunion brings the two back together\, along with a flood of memories\, miseries\, and laughs. \nThe story follows the attempt by a young theatrical agent to reunite his elderly uncle\, a former vaudevillian great\, with his long-time stage partner for a TV reunion. Despite their celebrated reputation\, the two old men have not spoken in twelve years. Besides remastering their sketch\, the two men have numerous issues to work out before they are ready to return to the public eye.
URL:https://argentaartsdistrict.org/event/the-sunshine-boys/2024-09-16/
LOCATION:Argenta Contemporary Theater\, 405 Main St.\, North Little Rock\, 72114\, United States
CATEGORIES:Art,Comedy,Live Performance
ATTACH;FMTTYPE=image/png:https://argentaartsdistrict.org/wp-content/uploads/2024/08/6-Sunshine-Boys-with-frame-800x800-1.png
END:VEVENT
BEGIN:VEVENT
DTSTART;TZID=America/Chicago:20240914T190000
DTEND;TZID=America/Chicago:20240914T190000
DTSTAMP:20260424T151306
CREATED:20240830T171426Z
LAST-MODIFIED:20240830T171426Z
UID:10000668-1726340400-1726340400@argentaartsdistrict.org
SUMMARY:Gangstagrass
DESCRIPTION:Gangstagrass is the Emmy-nominated\, Billboard-charting band known for its dynamism and spontaneity – and the theme song for Justified\, the FX television show. Led by Rench\, these MCs and pickers are the pioneers of an authentic\, paradigm-shifting bluegrass and hip-hop genre. Gangstagrass. It’s not what you think. gangstagrass.com \nTHIS EVENT IS FREE.
URL:https://argentaartsdistrict.org/event/gangstagrass/
LOCATION:Argenta Arts District
CATEGORIES:Family-Friendly,Food,Live Performance,Music
ATTACH;FMTTYPE=image/png:https://argentaartsdistrict.org/wp-content/uploads/2024/08/9-Gangstagrass.png
END:VEVENT
BEGIN:VEVENT
DTSTART;TZID=America/Chicago:20240912T193000
DTEND;TZID=America/Chicago:20240912T193000
DTSTAMP:20260424T151306
CREATED:20240830T165544Z
LAST-MODIFIED:20240830T165544Z
UID:10000663-1726169400-1726169400@argentaartsdistrict.org
SUMMARY:Potluck & Poison Ivy: tripliciti
DESCRIPTION:Piloted by world renowned guitar titan Andy McKee\, this fingerstyle supergroup includes rising stars Calum Graham and Trevor Gordon Hall\, culminating in a chemistry that captures the imagination and intellect of musicians and non-musicians alike.  Tripliciti pushes the edges of acoustic music through dizzying technical command of their instruments\, rich sonic textures\, memorable melodies and soulful arrangements\, offering an igniting live musical experience for audiences around the world that is real\, inviting\, lasting\, tangible and powerful. \nHaving each individually contributed to the standards of must-know Fingerstyle Guitar repertoire\, the merging of these 3 breath-taking solo performers into an electrifying live band leaves no aspect of the guitars’ potential out of reach.  The inspiration found in traveling as solo acts across the world performing thousands of concerts on various stages from castles in Luxembourg\, jazz clubs in Paris\, or sports arenas in Brisbane\, has merged into a wholly unique sound that blends flavors of Americana\, Jazz\, Flamenco\, New Age\, and Rock music ideals. With textures combining steel string guitars\, electric guitars\, high strung guitars\, low pitched baritone guitars\, and even a hybrid invention known as the “Kalimbatar”\, triplicitidoesn’t overcomplicate or indulge in the fretboard gymnastics for its own sake but carefully navigates these sounds with creativity\, curating every melody\, harmony and rhythm for the listener and guiding them into a fully immersive experience that must be heard and seen to be believed.  This is a celebration of the history and future of the most iconic instrument in the world still waiting for new sonic and compositional possibilities to be discovered.
URL:https://argentaartsdistrict.org/event/potluck-poison-ivy-tripliciti/
LOCATION:The Joint\, 301 Main St #102\, North Little Rock\, AR\, 72114\, United States
CATEGORIES:Food,Live Performance,Music
ATTACH;FMTTYPE=image/png:https://argentaartsdistrict.org/wp-content/uploads/2024/08/7-Tripliciti.png
END:VEVENT
BEGIN:VEVENT
DTSTART;TZID=America/Chicago:20240911T193000
DTEND;TZID=America/Chicago:20240921T193000
DTSTAMP:20260424T151306
CREATED:20240830T164251Z
LAST-MODIFIED:20240830T164251Z
UID:10000661-1726083000-1726947000@argentaartsdistrict.org
SUMMARY:The Sunshine Boys
DESCRIPTION:Al and Willie as “Lewis and Clark” were top-billed vaudevillians for over forty years. Now they aren’t even speaking. When CBS requests them for a “History of Comedy” retrospective\, a grudging reunion brings the two back together\, along with a flood of memories\, miseries\, and laughs. \nThe story follows the attempt by a young theatrical agent to reunite his elderly uncle\, a former vaudevillian great\, with his long-time stage partner for a TV reunion. Despite their celebrated reputation\, the two old men have not spoken in twelve years. Besides remastering their sketch\, the two men have numerous issues to work out before they are ready to return to the public eye.
URL:https://argentaartsdistrict.org/event/the-sunshine-boys/2024-09-11/
LOCATION:Argenta Contemporary Theater\, 405 Main St.\, North Little Rock\, 72114\, United States
CATEGORIES:Art,Comedy,Live Performance
ATTACH;FMTTYPE=image/png:https://argentaartsdistrict.org/wp-content/uploads/2024/08/6-Sunshine-Boys-with-frame-800x800-1.png
END:VEVENT
BEGIN:VEVENT
DTSTART;TZID=America/Chicago:20240909T193000
DTEND;TZID=America/Chicago:20240909T193000
DTSTAMP:20260424T151306
CREATED:20240830T162226Z
LAST-MODIFIED:20240830T162226Z
UID:10000660-1725910200-1725910200@argentaartsdistrict.org
SUMMARY:Jazz at The Joint: John Hébert
DESCRIPTION:Bassist John Hébert\, a native of New Orleans\, Louisiana\, and leader of Byzantine Monkey\, is known for his unique playing style and lush compositions. His Blue Note Records release\, Time Lines\, was awarded “Record of the Year” by Downbeat’s Jazz Critics Poll. Performing around the globe with world famous artists\, John now calls New York home\, where he has performed at such venues as Village Vanguard\, Blue Note\, The Jazz Standard\, Birdland\, and The Iridium. allaboutjazz.com \njazzatthejoint.org/john-hebert/
URL:https://argentaartsdistrict.org/event/jazz-at-the-joint-john-hebert/
LOCATION:The Joint\, 301 Main St #102\, North Little Rock\, AR\, 72114\, United States
CATEGORIES:Jazz Music,Live Performance,Music
ATTACH;FMTTYPE=image/png:https://argentaartsdistrict.org/wp-content/uploads/2024/08/5-John-Hebert.png
END:VEVENT
BEGIN:VEVENT
DTSTART;TZID=America/Chicago:20240907T100000
DTEND;TZID=America/Chicago:20240907T140000
DTSTAMP:20260424T151306
CREATED:20240830T161328Z
LAST-MODIFIED:20240830T161328Z
UID:10000659-1725703200-1725717600@argentaartsdistrict.org
SUMMARY:Family Arts Day featuring Buckets N Boards
DESCRIPTION:Family Arts Day\nFeaturing Buckets N Boards \nIn partnership with UA-PTC\, ACANSA welcomes all ages to a fun-filled arts exploration featuring creative\, hands-on activities for the young and young at heart. Buckets N Boards – a hilarious and high-energy show chock-full of amazing percussion\, ridiculous songs\, spectacular tap dancing\, inventive instrumentation and an incredible variety of musical talents – takes the stage at 12 noon. bucketsnboards.com \nUAPTC.edu \nTHIS EVENT IS FREE.
URL:https://argentaartsdistrict.org/event/family-arts-day-featuring-buckets-n-boards/
LOCATION:Argenta Plaza\, 510 N. Main St.\, North Little Rock\, AR\, 72114\, United States
CATEGORIES:Art,Family-Friendly,Live Performance,Music
ATTACH;FMTTYPE=image/png:https://argentaartsdistrict.org/wp-content/uploads/2024/08/3-Family-Arts-Day-1.png
END:VEVENT
BEGIN:VEVENT
DTSTART;VALUE=DATE:20230907
DTEND;VALUE=DATE:20230924
DTSTAMP:20260424T151306
CREATED:20230630T150301Z
LAST-MODIFIED:20230630T154725Z
UID:10000221-1694044800-1695513599@argentaartsdistrict.org
SUMMARY:ACANSA ARTS FESTIVAL
DESCRIPTION:ACANSA exists as a visual and performing arts festival dedicated to building a more dynamic and engaging community through the arts and enriching the cultural vitality of the region. By fostering creative collaborations among artists\, patrons\, businesses\, and community institutions\, we facilitate the creation and presentation of more compelling art that encourages public dialogue\, and economic innovation\, exposes people to a wider array of artistic experiences and makes our community a stronger and more vibrant place to live.
URL:https://argentaartsdistrict.org/event/acansa-arts-festival/
CATEGORIES:Art
END:VEVENT
END:VCALENDAR