BEGIN:VCALENDAR
VERSION:2.0
PRODID:-//Argenta Arts District - ECPv6.15.20//NONSGML v1.0//EN
CALSCALE:GREGORIAN
METHOD:PUBLISH
X-ORIGINAL-URL:https://argentaartsdistrict.org
X-WR-CALDESC:Events for Argenta Arts District
REFRESH-INTERVAL;VALUE=DURATION:PT1H
X-Robots-Tag:noindex
X-PUBLISHED-TTL:PT1H
BEGIN:VTIMEZONE
TZID:America/Chicago
BEGIN:DAYLIGHT
TZOFFSETFROM:-0600
TZOFFSETTO:-0500
TZNAME:CDT
DTSTART:20230312T080000
END:DAYLIGHT
BEGIN:STANDARD
TZOFFSETFROM:-0500
TZOFFSETTO:-0600
TZNAME:CST
DTSTART:20231105T070000
END:STANDARD
BEGIN:DAYLIGHT
TZOFFSETFROM:-0600
TZOFFSETTO:-0500
TZNAME:CDT
DTSTART:20240310T080000
END:DAYLIGHT
BEGIN:STANDARD
TZOFFSETFROM:-0500
TZOFFSETTO:-0600
TZNAME:CST
DTSTART:20241103T070000
END:STANDARD
BEGIN:DAYLIGHT
TZOFFSETFROM:-0600
TZOFFSETTO:-0500
TZNAME:CDT
DTSTART:20250309T080000
END:DAYLIGHT
BEGIN:STANDARD
TZOFFSETFROM:-0500
TZOFFSETTO:-0600
TZNAME:CST
DTSTART:20251102T070000
END:STANDARD
END:VTIMEZONE
BEGIN:VEVENT
DTSTART;VALUE=DATE:20241204
DTEND;VALUE=DATE:20241223
DTSTAMP:20260424T163715
CREATED:20241029T173630Z
LAST-MODIFIED:20241029T173630Z
UID:10000709-1733270400-1734911999@argentaartsdistrict.org
SUMMARY:A Christmas Story: The Musical
DESCRIPTION:Set in the 1940s in the fictional town of Hohman\, Indiana\, the musical follows 9-year-old Ralphie Parker and his quest for the Holy Grail of Christmas gifts—an Official Red Ryder carbine-action 200-shot Range Model air rifle. Rebuffed at every turn with a similar echoing response\, Ralphie plots numerous schemes to achieve his desperate desire for the coveted BB gun. \nThis musical\, which received rave reviews on its Broadway run\, is based on the movie classic that runs round-the-clock on television every Christmas. All the iconic scenes from the movie are here: Ralphie’s friend\, Flick\, getting his tongue stuck to the flagpole; his brother\, Randy\, getting dressed in his snowsuit; the bullies\, Farkus and Dill; the leg lamp award; the bunny suit; Christmas dinner; and many others.
URL:https://argentaartsdistrict.org/event/a-christmas-story-the-musical/
LOCATION:Argenta Contemporary Theater\, 405 Main St\, North Little Rock\, AR\, 72114\, United States
CATEGORIES:Live Performance,Music,Musical
ATTACH;FMTTYPE=image/png:https://argentaartsdistrict.org/wp-content/uploads/2024/10/A-Christmas-Story.png
ORGANIZER;CN="Argenta Contemporary Theater":MAILTO:info@argentacommunitytheater.org
END:VEVENT
BEGIN:VEVENT
DTSTART;VALUE=DATE:20241009
DTEND;VALUE=DATE:20241020
DTSTAMP:20260424T163715
CREATED:20240930T201327Z
LAST-MODIFIED:20240930T201935Z
UID:10000693-1728432000-1729382399@argentaartsdistrict.org
SUMMARY:My Fair Lady
DESCRIPTION:Eliza Doolittle is a young flower seller with an unmistakable Cockney accent which keeps her in the lower rungs of Edwardian society. When Professor Henry Higgins tries to teach her how to speak like a proper lady\, an unlikely friendship begins to flourish. \nBased on George Bernard Shaw’s play Pygmalion\, My Fair Lady is that rare musical by which all others are measured. The tale of a cockney flower girl transformed into an elegant lady features one of musical theatre’s greatest scores\, including: “Wouldn’t It Be Loverly?\,” “With a Little Bit of Luck\,” “The Rain in Spain\,” “I Could Have Danced All Night\,” “On the Street Where You Live\,” “Get Me to the Church on Time\,” and “I’ve Grown Accustomed to Her Face.” \nWhen Lerner and Loewe’s My Fair Lady opened on Broadway\, it collected six Tony Awards\, including Best Musical\, while the film version took home eight Oscars\, including Best Picture.
URL:https://argentaartsdistrict.org/event/my-fair-lady/
LOCATION:Argenta Contemporary Theater\, 405 Main St.\, North Little Rock\, 72114\, United States
CATEGORIES:Live Performance,Musical
ATTACH;FMTTYPE=image/png:https://argentaartsdistrict.org/wp-content/uploads/2024/09/My-Fair-Lady-400x500-1.png
ORGANIZER;CN="Argenta Contemporary Theater":MAILTO:info@argentacommunitytheater.org
END:VEVENT
BEGIN:VEVENT
DTSTART;TZID=America/Chicago:20240916T140000
DTEND;TZID=America/Chicago:20240916T140000
DTSTAMP:20260424T163715
CREATED:20240830T164251Z
LAST-MODIFIED:20240830T164251Z
UID:10000662-1726495200-1726495200@argentaartsdistrict.org
SUMMARY:The Sunshine Boys
DESCRIPTION:Al and Willie as “Lewis and Clark” were top-billed vaudevillians for over forty years. Now they aren’t even speaking. When CBS requests them for a “History of Comedy” retrospective\, a grudging reunion brings the two back together\, along with a flood of memories\, miseries\, and laughs. \nThe story follows the attempt by a young theatrical agent to reunite his elderly uncle\, a former vaudevillian great\, with his long-time stage partner for a TV reunion. Despite their celebrated reputation\, the two old men have not spoken in twelve years. Besides remastering their sketch\, the two men have numerous issues to work out before they are ready to return to the public eye.
URL:https://argentaartsdistrict.org/event/the-sunshine-boys/2024-09-16/
LOCATION:Argenta Contemporary Theater\, 405 Main St.\, North Little Rock\, 72114\, United States
CATEGORIES:Art,Comedy,Live Performance
ATTACH;FMTTYPE=image/png:https://argentaartsdistrict.org/wp-content/uploads/2024/08/6-Sunshine-Boys-with-frame-800x800-1.png
END:VEVENT
BEGIN:VEVENT
DTSTART;TZID=America/Chicago:20240911T193000
DTEND;TZID=America/Chicago:20240921T193000
DTSTAMP:20260424T163715
CREATED:20240830T164251Z
LAST-MODIFIED:20240830T164251Z
UID:10000661-1726083000-1726947000@argentaartsdistrict.org
SUMMARY:The Sunshine Boys
DESCRIPTION:Al and Willie as “Lewis and Clark” were top-billed vaudevillians for over forty years. Now they aren’t even speaking. When CBS requests them for a “History of Comedy” retrospective\, a grudging reunion brings the two back together\, along with a flood of memories\, miseries\, and laughs. \nThe story follows the attempt by a young theatrical agent to reunite his elderly uncle\, a former vaudevillian great\, with his long-time stage partner for a TV reunion. Despite their celebrated reputation\, the two old men have not spoken in twelve years. Besides remastering their sketch\, the two men have numerous issues to work out before they are ready to return to the public eye.
URL:https://argentaartsdistrict.org/event/the-sunshine-boys/2024-09-11/
LOCATION:Argenta Contemporary Theater\, 405 Main St.\, North Little Rock\, 72114\, United States
CATEGORIES:Art,Comedy,Live Performance
ATTACH;FMTTYPE=image/png:https://argentaartsdistrict.org/wp-content/uploads/2024/08/6-Sunshine-Boys-with-frame-800x800-1.png
END:VEVENT
BEGIN:VEVENT
DTSTART;VALUE=DATE:20240724
DTEND;VALUE=DATE:20240805
DTSTAMP:20260424T163715
CREATED:20240701T161333Z
LAST-MODIFIED:20240701T161333Z
UID:10000626-1721779200-1722815999@argentaartsdistrict.org
SUMMARY:Grease: The Musical
DESCRIPTION:Here is Rydell High’s senior class of 1959: duck-tailed\, hot-rodding “Burger Palace Boys” and their gum-snapping\, hip-shaking “Pink Ladies” in bobby sox and pedal pushers\, evoking the look and sound of the 1950s in this rollicking musical. \nHead “greaser” Danny Zuko and new (good) girl Sandy Dumbrowski try to relive the high romance of their “Summer Nights” as the rest of the gang sings and dances its way through such songs as “Greased Lightnin’\,” “It’s Raining on Prom Night\,” “Alone at the Drive-In Movie” recalling the music of Buddy Holly\, Little Richard\, and Elvis Presley that became the soundtrack of a generation.
URL:https://argentaartsdistrict.org/event/grease-the-musical/
LOCATION:Argenta Contemporary Theater\, 405 Main St.\, North Little Rock\, 72114\, United States
CATEGORIES:Live Performance,Musical
ATTACH;FMTTYPE=image/png:https://argentaartsdistrict.org/wp-content/uploads/2024/07/Grease-2-1-400x500-1.png
ORGANIZER;CN="Argenta Contemporary Theater":MAILTO:info@argentacommunitytheater.org
END:VEVENT
END:VCALENDAR