BEGIN:VCALENDAR
VERSION:2.0
PRODID:-//Argenta Arts District - ECPv6.15.20//NONSGML v1.0//EN
CALSCALE:GREGORIAN
METHOD:PUBLISH
X-WR-CALNAME:Argenta Arts District
X-ORIGINAL-URL:https://argentaartsdistrict.org
X-WR-CALDESC:Events for Argenta Arts District
REFRESH-INTERVAL;VALUE=DURATION:PT1H
X-Robots-Tag:noindex
X-PUBLISHED-TTL:PT1H
BEGIN:VTIMEZONE
TZID:America/Chicago
BEGIN:DAYLIGHT
TZOFFSETFROM:-0600
TZOFFSETTO:-0500
TZNAME:CDT
DTSTART:20220313T080000
END:DAYLIGHT
BEGIN:STANDARD
TZOFFSETFROM:-0500
TZOFFSETTO:-0600
TZNAME:CST
DTSTART:20221106T070000
END:STANDARD
BEGIN:DAYLIGHT
TZOFFSETFROM:-0600
TZOFFSETTO:-0500
TZNAME:CDT
DTSTART:20230312T080000
END:DAYLIGHT
BEGIN:STANDARD
TZOFFSETFROM:-0500
TZOFFSETTO:-0600
TZNAME:CST
DTSTART:20231105T070000
END:STANDARD
BEGIN:DAYLIGHT
TZOFFSETFROM:-0600
TZOFFSETTO:-0500
TZNAME:CDT
DTSTART:20240310T080000
END:DAYLIGHT
BEGIN:STANDARD
TZOFFSETFROM:-0500
TZOFFSETTO:-0600
TZNAME:CST
DTSTART:20241103T070000
END:STANDARD
BEGIN:DAYLIGHT
TZOFFSETFROM:-0600
TZOFFSETTO:-0500
TZNAME:CDT
DTSTART:20250309T080000
END:DAYLIGHT
BEGIN:STANDARD
TZOFFSETFROM:-0500
TZOFFSETTO:-0600
TZNAME:CST
DTSTART:20251102T070000
END:STANDARD
END:VTIMEZONE
BEGIN:VEVENT
DTSTART;TZID=America/Chicago:20240329T180000
DTEND;TZID=America/Chicago:20240329T210000
DTSTAMP:20260424T180430
CREATED:20240109T180623Z
LAST-MODIFIED:20240205T170555Z
UID:10000481-1711735200-1711746000@argentaartsdistrict.org
SUMMARY:Arkansas Times Craft Beer Festival
DESCRIPTION:The 11th Annual Arkansas Times Craft Beer Festival\nArgenta Plaza on Friday\, March 29\, 2024\nBenefitting The Argenta Arts District of North Little Rock \n  \nWe will have 150 craft beers for you to try and a whole section dedicated to Seltzers.\nFood to Purchase from some of our favorite food trucks! \nThank you to our supporting sponsors Charlotte Potts State Farm Agency and Edwards Food Giant \nGeneral Admission $40 (tickets will be available at the door) \nVIP Tickets $100 (only 100 being sold)\nIncludes: access to special beers\, VIP seating\, early entry @ 5:30 p.m.\,\nprivate bathroom\, original menu from Mr. Cajuns Kitchen! \nMusic by\nDJ MIKE POE\nand many more surprises!
URL:https://argentaartsdistrict.org/event/arkansas-times-craft-beer-festival/
LOCATION:Argenta Plaza\, 510 N. Main St.\, North Little Rock\, AR\, 72114\, United States
CATEGORIES:Food
ATTACH;FMTTYPE=image/jpeg:https://argentaartsdistrict.org/wp-content/uploads/2024/01/Craft-Beer-Festival-2024.jpeg
END:VEVENT
BEGIN:VEVENT
DTSTART;TZID=America/Chicago:20240209T170000
DTEND;TZID=America/Chicago:20240209T200000
DTSTAMP:20260424T180430
CREATED:20240129T180559Z
LAST-MODIFIED:20240129T180559Z
UID:10000484-1707498000-1707508800@argentaartsdistrict.org
SUMMARY:Art Show at E.O. Manees House
DESCRIPTION:Hello Queens and Kings! Come and meet some amazing artist queens Friday\, February 9 at an art show hosted by: Catherine Wood Burton\, Art E Cobb\, Jamie Finch Freyaldenhoven\, Meg.madeit\, Michelle Renee the Artist\n\nWe hope to see your faces at the Manees!
URL:https://argentaartsdistrict.org/event/art-show-at-e-o-manees-house/
LOCATION:E.O. Manees House\, 216 W 4th St\, North Little Rock\, Arkansas\, 72114
CATEGORIES:Art,Live Performance
ATTACH;FMTTYPE=image/png:https://argentaartsdistrict.org/wp-content/uploads/2024/01/Argenta_Website-Events_EO-Art-Show.png
END:VEVENT
BEGIN:VEVENT
DTSTART;TZID=America/Chicago:20231215T170000
DTEND;TZID=America/Chicago:20231216T200000
DTSTAMP:20260424T180430
CREATED:20231214T182345Z
LAST-MODIFIED:20231214T182345Z
UID:10000458-1702659600-1702756800@argentaartsdistrict.org
SUMMARY:Make it Merry-Biggest Hub Party of the Year
DESCRIPTION:Get ready to Make It Merry at our BIGGEST PARTY of the year!  Join us on December 15th (5:00 PM – 8:00 PM) & December 16th (10:00 AM – 3:00 PM) at the Arkansas Regional Innovation Hub! We will have 50+ local vendors and food trucks!  Come celebrate with us this festive season and support local businesses. We hope to see you there!\n\nWHAT: Biggest two-day holiday party of the year with local vendors and food trucks!\nWHEN: Friday\, Dec. 15 from 5:00 p.m. to 8:00 p.m. and Saturday\, Dec. 16 from 10:00 a.m. to 3:00 p.m.\nWHERE: 204 E. 4th Street. North Little Rock\, AR 72114\n\nSee you there and tell your friends!
URL:https://argentaartsdistrict.org/event/make-it-merry-biggest-hub-party-of-the-year/
LOCATION:204 E. 4th Street\, 204 E. 4th Street\, North Little Rock\, Arkansas\, 72114
CATEGORIES:Food
ATTACH;FMTTYPE=image/png:https://argentaartsdistrict.org/wp-content/uploads/2023/12/Website-Events_Make-It-Merry.png
END:VEVENT
BEGIN:VEVENT
DTSTART;TZID=America/Chicago:20231215T150000
DTEND;TZID=America/Chicago:20231215T190000
DTSTAMP:20260424T180430
CREATED:20231127T153145Z
LAST-MODIFIED:20231127T153145Z
UID:10000457-1702652400-1702666800@argentaartsdistrict.org
SUMMARY:The Frontier Circus with Justin Bank and the BBB's
DESCRIPTION:The Frontier Circus Rides Again! This time as a special addition to Argenta’s monthly Art Walk. Come join us for a rare opportunity to check out the interior of the historic Elk’s Lodge in NLR which is normally closed to the public. Come have an abnormal night with us and our special guest Justin Bank and the Bijou Boogie Boys (BBB). It won’t be the same without you.
URL:https://argentaartsdistrict.org/event/the-frontier-circus-with-justin-bank-and-the-bbbs/
LOCATION:The Elks Lodge\, 123 E Broadway\, North Little Rock\, Arkansas
CATEGORIES:Live Performance
ATTACH;FMTTYPE=image/png:https://argentaartsdistrict.org/wp-content/uploads/2023/11/Website-Events_Frontier-Circus.png
END:VEVENT
BEGIN:VEVENT
DTSTART;TZID=America/Chicago:20231106T180000
DTEND;TZID=America/Chicago:20231106T210000
DTSTAMP:20260424T180430
CREATED:20230906T195940Z
LAST-MODIFIED:20230906T195940Z
UID:10000436-1699293600-1699304400@argentaartsdistrict.org
SUMMARY:All Arkansas Craft Beer\, Wine & Spirits Festival
DESCRIPTION:Arkansas products Lost 40\, Rock Town\, Vino’s\, SQZBX\, Flyway\, Crystal Ridge\, Point Remove\, Rusty Tractor\, Diamond Bear\, Superior Bathhouse\, Norfork\, Bentonville Brewing\, Bloody Darn Good\, Elrod’s Old Fashioned\, and more! \nSo come on out and support Arkansas’ own craft breweries & spirit-makers and enjoy the fruits of their passion! \nVIP tickets are available for $100 and allows access to the VIP section with catered food\, great beers and reserved seating. \n$30 general admission \n*Must be 21 and over\nFor more information contact donavan@arktimes.com
URL:https://argentaartsdistrict.org/event/all-arkansas-craft-beer-wine-spirits-festival/
LOCATION:Argenta Plaza\, 510 N. Main St.\, North Little Rock\, AR\, 72114\, United States
ATTACH;FMTTYPE=image/png:https://argentaartsdistrict.org/wp-content/uploads/2023/09/Website-Events_craft-beer-spirits.png
END:VEVENT
BEGIN:VEVENT
DTSTART;TZID=America/Chicago:20231013T160000
DTEND;TZID=America/Chicago:20231014T220000
DTSTAMP:20260424T180430
CREATED:20230905T172657Z
LAST-MODIFIED:20231003T231356Z
UID:10000430-1697212800-1697320800@argentaartsdistrict.org
SUMMARY:Dogtown Throwdown
DESCRIPTION:You’re invited to the Dogtown Throwdown where we close down the streets for the best block party ever!
URL:https://argentaartsdistrict.org/event/dogtown-throwdown-3/
CATEGORIES:Food,Live Performance
ATTACH;FMTTYPE=image/png:https://argentaartsdistrict.org/wp-content/uploads/2022/10/Dogtown-Throwdown-Events-Argenta-Arts-District.png
END:VEVENT
BEGIN:VEVENT
DTSTART;TZID=America/Chicago:20230909T190000
DTEND;TZID=America/Chicago:20230909T190000
DTSTAMP:20260424T180430
CREATED:20230905T164733Z
LAST-MODIFIED:20230905T165147Z
UID:10000413-1694286000-1694286000@argentaartsdistrict.org
SUMMARY:MAYDAY BY MIDNIGHT AT DOGTOWN THROWDOWN
DESCRIPTION:It’s Dogtown Throwdown weekend! We’ll be closing off the streets again and providing outdoor dining and seating.\nTonight we have Mayday By Midnight \n7:00 pm\nFREE SHOW!
URL:https://argentaartsdistrict.org/event/mayday-by-midnight-at-dogtown-throwdown/
LOCATION:Four Quarter Bar\, 415 Main St\, North Little Rock\, AR\, 72114\, United States
CATEGORIES:Food,Live Performance
ATTACH;FMTTYPE=image/png:https://argentaartsdistrict.org/wp-content/uploads/2023/09/Website-Events_Dogtown.png
END:VEVENT
BEGIN:VEVENT
DTSTART;TZID=America/Chicago:20230908T183000
DTEND;TZID=America/Chicago:20230908T213000
DTSTAMP:20260424T180430
CREATED:20230905T165618Z
LAST-MODIFIED:20230905T165618Z
UID:10000414-1694197800-1694208600@argentaartsdistrict.org
SUMMARY:Dogtown Throwdown w/ Woody & Sunshine
DESCRIPTION:It’s Dogtown Throwdown weekend! We’ll be closing off the streets again and providing outdoor dining and seating.\nTonight we have Woody & Sunshine\n6:30\nFREE SHOW!
URL:https://argentaartsdistrict.org/event/dogtown-throwdown-w-woody-sunshine/
LOCATION:Four Quarter Bar\, 415 Main St\, North Little Rock\, AR\, 72114\, United States
CATEGORIES:Live Performance
ATTACH;FMTTYPE=image/png:https://argentaartsdistrict.org/wp-content/uploads/2023/09/Website-Events_Dogtown-Woody-Sunshine.png
END:VEVENT
BEGIN:VEVENT
DTSTART;TZID=America/Chicago:20230908T160000
DTEND;TZID=America/Chicago:20230909T220000
DTSTAMP:20260424T180430
CREATED:20230630T150618Z
LAST-MODIFIED:20230630T154709Z
UID:10000222-1694188800-1694296800@argentaartsdistrict.org
SUMMARY:Dogtown Throwdown
DESCRIPTION:Kick-off the weekend with Happy Hour in Argenta on Friday at 4:00 PM and enjoy music\, entertainment\, food\, drinks and more through Saturday at 10:00 PM. \nDogtown Throwdown runs from April to October on the second weekend.
URL:https://argentaartsdistrict.org/event/dogtown-throwdown-2/
CATEGORIES:Food,Live Performance
ATTACH;FMTTYPE=image/png:https://argentaartsdistrict.org/wp-content/uploads/2022/10/Dogtown-Throwdown-Events-Argenta-Arts-District.png
END:VEVENT
BEGIN:VEVENT
DTSTART;TZID=America/Chicago:20230906T000000
DTEND;TZID=America/Chicago:20230910T000000
DTSTAMP:20260424T180430
CREATED:20230905T170310Z
LAST-MODIFIED:20230905T172218Z
UID:10000415-1693958400-1694304000@argentaartsdistrict.org
SUMMARY:Live at the Plaza  - Culture in the Community
DESCRIPTION:Performances are FREE and open to the public. \nSponsored by North Little Rock Tourism and the City of North Little Rock\, Ballet Arkansas Presents Live at the Plaza performances includes works of classical and contemporary dance by world-renowned choreographers and make use of the stage\, water features and open spaces in Argenta Plaza. \nFRIDAY & SATURDAY performances will coincide with Argenta Dogtown Throwdown\, during which Main Street will be closed for outdoor dining and entertainment. Plan to come early or stay after the performance! \nSCHEDULE:\nWednesday\, Sept. 6 – 7 p.m.\nThursday\, Sept. 7 – 7 p.m.\nFriday\, Sept. 8 – 7 p.m.\nSaturday\, Sept. 9 – 7 p.m.\nSunday\, Sept. 10 – 6 p.m.
URL:https://argentaartsdistrict.org/event/live-at-the-plaza-culture-in-the-community/
LOCATION:Argenta Plaza\, 510 N. Main St.\, North Little Rock\, AR\, 72114\, United States
CATEGORIES:Live Performance
ATTACH;FMTTYPE=image/png:https://argentaartsdistrict.org/wp-content/uploads/2023/09/Website-Events_Ballet.png
END:VEVENT
BEGIN:VEVENT
DTSTART;TZID=America/Chicago:20230817T193000
DTEND;TZID=America/Chicago:20230817T193000
DTSTAMP:20260424T180430
CREATED:20230630T145231Z
LAST-MODIFIED:20230729T165636Z
UID:10000219-1692300600-1692300600@argentaartsdistrict.org
SUMMARY:Argenta Acoustic Music — MICHAEL CHAPDELAINE
DESCRIPTION:
URL:https://argentaartsdistrict.org/event/argenta-acoustic-music-michael-chapdelaine/
LOCATION:The Joint\, 301 Main St #102\, North Little Rock\, AR\, 72114\, United States
CATEGORIES:Live Performance
ATTACH;FMTTYPE=image/jpeg:https://argentaartsdistrict.org/wp-content/uploads/2023/06/Michael-Chapdelaine3-uai-428x428-1.jpg
END:VEVENT
BEGIN:VEVENT
DTSTART;TZID=America/Chicago:20230816T193000
DTEND;TZID=America/Chicago:20230816T230000
DTSTAMP:20260424T180430
CREATED:20230730T123719Z
LAST-MODIFIED:20230730T123719Z
UID:10000365-1692214200-1692226800@argentaartsdistrict.org
SUMMARY:Snoop Dogg With Special Guests - SIMMONS BANK ARENA
DESCRIPTION:Snoop Dogg\, the seven-time Platinum selling Artist\, Movie Star\, and Cultural Icon announces his upcoming tour featuring an incredible night of hits from a star-studded lineup! Joining Snoop on this Tour are other transformational artists like Wiz Khalifa\, Ying Yang Twins\, and other special guests. After performing at one of the most epic half time shows in history\, Snoop went on tour earlier in 2022 selling out Arenas across the Country. He is now back out on the road with an incredible lineup that will keep the party rolling all night long! This is truly a one-of-a-kind show that you do not want to miss! Multi-platinum selling\, GRAMMY and Golden Globe nominated recording artist Wiz Khalifa burst onto the mainstream scene with the release of his first major label debut album\, ROLLING PAPERS‎ in 2011. From there he released massive\, hugely successful hits “Black and Yellow\,” “Roll Up\,” “No Sleep\,” “We DemBoyz\,” and “See You Again\,” off the FURIOUS 7 soundtrack which catapulted to the top of the charts across 95 countries and earned him a Golden Globes nomination for “Best Original Song”. In July 2022\, Wiz released his full-length solo album MULTIVERSE\, to rave reviews. Wiz stars as George Clinton in the motion picture\, “Spinning Gold” which was released in March 2023. Wiz’s new album WIZZLEMANIA is out this summer.
URL:https://argentaartsdistrict.org/event/snoop-dogg-with-special-guests-simmons-bank-arena/
LOCATION:Simmons Bank Arena\, 1 Simmons Bank Arena Drive\, North Little Rock\, AR\, 72114\, United States
CATEGORIES:Live Performance
ATTACH;FMTTYPE=image/png:https://argentaartsdistrict.org/wp-content/uploads/2023/07/SNOOP-.png
END:VEVENT
BEGIN:VEVENT
DTSTART;TZID=America/Chicago:20230720T193000
DTEND;TZID=America/Chicago:20230720T203000
DTSTAMP:20260424T180430
CREATED:20230630T142806Z
LAST-MODIFIED:20230630T155021Z
UID:10000213-1689881400-1689885000@argentaartsdistrict.org
SUMMARY:Argenta Acoustic Music — MATT THOMAS
DESCRIPTION:
URL:https://argentaartsdistrict.org/event/argenta-acoustic-music-matt-thomas/
LOCATION:The Joint\, 301 Main St #102\, North Little Rock\, AR\, 72114\, United States
CATEGORIES:Live Performance
END:VEVENT
END:VCALENDAR