BEGIN:VCALENDAR
VERSION:2.0
PRODID:-//Argenta Arts District - ECPv6.15.20//NONSGML v1.0//EN
CALSCALE:GREGORIAN
METHOD:PUBLISH
X-ORIGINAL-URL:https://argentaartsdistrict.org
X-WR-CALDESC:Events for Argenta Arts District
REFRESH-INTERVAL;VALUE=DURATION:PT1H
X-Robots-Tag:noindex
X-PUBLISHED-TTL:PT1H
BEGIN:VTIMEZONE
TZID:America/Chicago
BEGIN:DAYLIGHT
TZOFFSETFROM:-0600
TZOFFSETTO:-0500
TZNAME:CDT
DTSTART:20220313T080000
END:DAYLIGHT
BEGIN:STANDARD
TZOFFSETFROM:-0500
TZOFFSETTO:-0600
TZNAME:CST
DTSTART:20221106T070000
END:STANDARD
BEGIN:DAYLIGHT
TZOFFSETFROM:-0600
TZOFFSETTO:-0500
TZNAME:CDT
DTSTART:20230312T080000
END:DAYLIGHT
BEGIN:STANDARD
TZOFFSETFROM:-0500
TZOFFSETTO:-0600
TZNAME:CST
DTSTART:20231105T070000
END:STANDARD
BEGIN:DAYLIGHT
TZOFFSETFROM:-0600
TZOFFSETTO:-0500
TZNAME:CDT
DTSTART:20240310T080000
END:DAYLIGHT
BEGIN:STANDARD
TZOFFSETFROM:-0500
TZOFFSETTO:-0600
TZNAME:CST
DTSTART:20241103T070000
END:STANDARD
BEGIN:DAYLIGHT
TZOFFSETFROM:-0600
TZOFFSETTO:-0500
TZNAME:CDT
DTSTART:20250309T080000
END:DAYLIGHT
BEGIN:STANDARD
TZOFFSETFROM:-0500
TZOFFSETTO:-0600
TZNAME:CST
DTSTART:20251102T070000
END:STANDARD
END:VTIMEZONE
BEGIN:VEVENT
DTSTART;TZID=America/Chicago:20240519T133500
DTEND;TZID=America/Chicago:20240519T133500
DTSTAMP:20260424T184126
CREATED:20240426T184336Z
LAST-MODIFIED:20240426T184336Z
UID:10000578-1716125700-1716125700@argentaartsdistrict.org
SUMMARY:Arkansas Travelers vs. NW Arkansas Naturals
DESCRIPTION:
URL:https://argentaartsdistrict.org/event/arkansas-travelers-vs-nw-arkansas-naturals-6/
LOCATION:Dickey-Stephens\, 400 W Broadway St\, North Little Rock\, Arkansas\, 72114
CATEGORIES:Sports
END:VEVENT
BEGIN:VEVENT
DTSTART;TZID=America/Chicago:20240518T180500
DTEND;TZID=America/Chicago:20240518T180500
DTSTAMP:20260424T184126
CREATED:20240426T184308Z
LAST-MODIFIED:20240426T184308Z
UID:10000577-1716055500-1716055500@argentaartsdistrict.org
SUMMARY:Arkansas Travelers vs. NW Arkansas Naturals
DESCRIPTION:
URL:https://argentaartsdistrict.org/event/arkansas-travelers-vs-nw-arkansas-naturals-5/
LOCATION:Dickey-Stephens\, 400 W Broadway St\, North Little Rock\, Arkansas\, 72114
CATEGORIES:Sports
END:VEVENT
BEGIN:VEVENT
DTSTART;TZID=America/Chicago:20240517T190500
DTEND;TZID=America/Chicago:20240517T190500
DTSTAMP:20260424T184126
CREATED:20240426T184246Z
LAST-MODIFIED:20240426T184246Z
UID:10000576-1715972700-1715972700@argentaartsdistrict.org
SUMMARY:Arkansas Travelers vs. NW Arkansas Naturals
DESCRIPTION:
URL:https://argentaartsdistrict.org/event/arkansas-travelers-vs-nw-arkansas-naturals-4/
LOCATION:Dickey-Stephens\, 400 W Broadway St\, North Little Rock\, Arkansas\, 72114
CATEGORIES:Sports
END:VEVENT
BEGIN:VEVENT
DTSTART;TZID=America/Chicago:20240516T183000
DTEND;TZID=America/Chicago:20240516T183000
DTSTAMP:20260424T184126
CREATED:20240426T184216Z
LAST-MODIFIED:20240426T184216Z
UID:10000575-1715884200-1715884200@argentaartsdistrict.org
SUMMARY:Arkansas Travelers vs. NW Arkansas Naturals
DESCRIPTION:
URL:https://argentaartsdistrict.org/event/arkansas-travelers-vs-nw-arkansas-naturals-3/
LOCATION:Dickey-Stephens\, 400 W Broadway St\, North Little Rock\, Arkansas\, 72114
CATEGORIES:Sports
END:VEVENT
BEGIN:VEVENT
DTSTART;TZID=America/Chicago:20240515T183000
DTEND;TZID=America/Chicago:20240515T183000
DTSTAMP:20260424T184126
CREATED:20240426T184148Z
LAST-MODIFIED:20240426T184148Z
UID:10000574-1715797800-1715797800@argentaartsdistrict.org
SUMMARY:Arkansas Travelers vs. NW Arkansas Naturals
DESCRIPTION:
URL:https://argentaartsdistrict.org/event/arkansas-travelers-vs-nw-arkansas-naturals-2/
LOCATION:Dickey-Stephens\, 400 W Broadway St\, North Little Rock\, Arkansas\, 72114
CATEGORIES:Sports
END:VEVENT
BEGIN:VEVENT
DTSTART;TZID=America/Chicago:20240514T183000
DTEND;TZID=America/Chicago:20240514T183000
DTSTAMP:20260424T184126
CREATED:20240426T184106Z
LAST-MODIFIED:20240426T184106Z
UID:10000573-1715711400-1715711400@argentaartsdistrict.org
SUMMARY:Arkansas Travelers vs. NW Arkansas Naturals
DESCRIPTION:
URL:https://argentaartsdistrict.org/event/arkansas-travelers-vs-nw-arkansas-naturals/
LOCATION:Dickey-Stephens\, 400 W Broadway St\, North Little Rock\, Arkansas\, 72114
CATEGORIES:Sports
END:VEVENT
BEGIN:VEVENT
DTSTART;TZID=America/Chicago:20240505T133500
DTEND;TZID=America/Chicago:20240505T133500
DTSTAMP:20260424T184126
CREATED:20240426T183102Z
LAST-MODIFIED:20240426T183102Z
UID:10000569-1714916100-1714916100@argentaartsdistrict.org
SUMMARY:Arkansas Travelers vs. San Antonio Missions
DESCRIPTION:
URL:https://argentaartsdistrict.org/event/arkansas-travelers-vs-san-antonio-missions-7/
LOCATION:Dickey-Stephens\, 400 W Broadway St\, North Little Rock\, Arkansas\, 72114
CATEGORIES:Sports
END:VEVENT
BEGIN:VEVENT
DTSTART;TZID=America/Chicago:20240504T183500
DTEND;TZID=America/Chicago:20240504T183500
DTSTAMP:20260424T184126
CREATED:20240426T183025Z
LAST-MODIFIED:20240426T183025Z
UID:10000568-1714847700-1714847700@argentaartsdistrict.org
SUMMARY:Arkansas Travelers vs. San Antonio Missions
DESCRIPTION:
URL:https://argentaartsdistrict.org/event/arkansas-travelers-vs-san-antonio-missions-6/
LOCATION:Dickey-Stephens\, 400 W Broadway St\, North Little Rock\, Arkansas\, 72114
CATEGORIES:Sports
END:VEVENT
BEGIN:VEVENT
DTSTART;TZID=America/Chicago:20240503T190500
DTEND;TZID=America/Chicago:20240503T190500
DTSTAMP:20260424T184126
CREATED:20240426T182951Z
LAST-MODIFIED:20240426T182951Z
UID:10000567-1714763100-1714763100@argentaartsdistrict.org
SUMMARY:Arkansas Travelers vs. San Antonio Missions
DESCRIPTION:
URL:https://argentaartsdistrict.org/event/arkansas-travelers-vs-san-antonio-missions-5/
LOCATION:Dickey-Stephens\, 400 W Broadway St\, North Little Rock\, Arkansas\, 72114
CATEGORIES:Sports
END:VEVENT
BEGIN:VEVENT
DTSTART;TZID=America/Chicago:20240502T183500
DTEND;TZID=America/Chicago:20240502T183500
DTSTAMP:20260424T184126
CREATED:20240426T182925Z
LAST-MODIFIED:20240426T182925Z
UID:10000566-1714674900-1714674900@argentaartsdistrict.org
SUMMARY:Arkansas Travelers vs. San Antonio Missions
DESCRIPTION:
URL:https://argentaartsdistrict.org/event/arkansas-travelers-vs-san-antonio-missions-4/
LOCATION:Dickey-Stephens\, 400 W Broadway St\, North Little Rock\, Arkansas\, 72114
CATEGORIES:Sports
END:VEVENT
BEGIN:VEVENT
DTSTART;TZID=America/Chicago:20240501T183500
DTEND;TZID=America/Chicago:20240501T183500
DTSTAMP:20260424T184126
CREATED:20240426T182908Z
LAST-MODIFIED:20240426T182908Z
UID:10000565-1714588500-1714588500@argentaartsdistrict.org
SUMMARY:Arkansas Travelers vs. San Antonio Missions
DESCRIPTION:
URL:https://argentaartsdistrict.org/event/arkansas-travelers-vs-san-antonio-missions-3/
LOCATION:Dickey-Stephens\, 400 W Broadway St\, North Little Rock\, Arkansas\, 72114
CATEGORIES:Sports
END:VEVENT
BEGIN:VEVENT
DTSTART;TZID=America/Chicago:20240430T110500
DTEND;TZID=America/Chicago:20240430T110500
DTSTAMP:20260424T184126
CREATED:20240426T182737Z
LAST-MODIFIED:20240426T182737Z
UID:10000564-1714475100-1714475100@argentaartsdistrict.org
SUMMARY:Arkansas Travelers vs. San Antonio Missions
DESCRIPTION:
URL:https://argentaartsdistrict.org/event/arkansas-travelers-vs-san-antonio-missions-2/
LOCATION:Dickey-Stephens\, 400 W Broadway St\, North Little Rock\, Arkansas\, 72114
CATEGORIES:Sports
END:VEVENT
BEGIN:VEVENT
DTSTART;TZID=America/Chicago:20240423T180000
DTEND;TZID=America/Chicago:20240423T180000
DTSTAMP:20260424T184126
CREATED:20240105T034116Z
LAST-MODIFIED:20240129T211244Z
UID:10000523-1713895200-1713895200@argentaartsdistrict.org
SUMMARY:Razorback Baseball at Dickey-Stephens Park\, Arkansas vs. UAPB
DESCRIPTION:The Arkansas Travelers and Arkansas Razorback baseball team are proud to announce that the Razorbacks will again host a home game at Dickey-Stephens Park in North Little Rock during the 2024 season. The Razorbacks will host UAPB on Tuesday\, April 23\, at 6:00 p.m. in their yearly contest in the central part of the Diamond State. The past two seasons\, standing room only crowds have seen a pair of extra inning contests at DSP. \nTicket information for the game will be announced at a later date. Arkansas Travelers Season Ticket Holders will receive first right of refusal to purchase their seats and will be contacted after the new year by a Travelers ticket representative.
URL:https://argentaartsdistrict.org/event/razorback-baseball-at-dickey-stephens-park-arkansas-vs-uapb/
LOCATION:Dickey-Stephens\, 400 W Broadway St\, North Little Rock\, Arkansas\, 72114
ATTACH;FMTTYPE=image/png:https://argentaartsdistrict.org/wp-content/uploads/2024/01/Website-Events_Razorbacks.png
END:VEVENT
BEGIN:VEVENT
DTSTART;TZID=America/Chicago:20240421T133500
DTEND;TZID=America/Chicago:20240421T163500
DTSTAMP:20260424T184126
CREATED:20240227T194248Z
LAST-MODIFIED:20240312T153041Z
UID:10000560-1713706500-1713717300@argentaartsdistrict.org
SUMMARY:Arkansas Travelers vs. Frisco RoughRiders
DESCRIPTION:Come watch the Arkansas Travelers play! Be sure to check the Travelers website for special promotions like fireworks\, Brunch at the Ballpark\, and more!
URL:https://argentaartsdistrict.org/event/arkansas-travelers-vs-frisco-roughriders-3/2024-04-21/
LOCATION:Dickey-Stephens\, 400 W Broadway St\, North Little Rock\, Arkansas\, 72114
CATEGORIES:Food
ATTACH;FMTTYPE=image/png:https://argentaartsdistrict.org/wp-content/uploads/2023/09/Website-Events_Travlers.png
END:VEVENT
BEGIN:VEVENT
DTSTART;TZID=America/Chicago:20240420T160500
DTEND;TZID=America/Chicago:20240420T190500
DTSTAMP:20260424T184126
CREATED:20240227T194248Z
LAST-MODIFIED:20240312T153041Z
UID:10000559-1713629100-1713639900@argentaartsdistrict.org
SUMMARY:Arkansas Travelers vs. Frisco RoughRiders
DESCRIPTION:Come watch the Arkansas Travelers play! Be sure to check the Travelers website for special promotions like fireworks\, Brunch at the Ballpark\, and more!
URL:https://argentaartsdistrict.org/event/arkansas-travelers-vs-frisco-roughriders-3/2024-04-20/
LOCATION:Dickey-Stephens\, 400 W Broadway St\, North Little Rock\, Arkansas\, 72114
CATEGORIES:Food
ATTACH;FMTTYPE=image/png:https://argentaartsdistrict.org/wp-content/uploads/2023/09/Website-Events_Travlers.png
END:VEVENT
BEGIN:VEVENT
DTSTART;TZID=America/Chicago:20240419T190500
DTEND;TZID=America/Chicago:20240419T220500
DTSTAMP:20260424T184126
CREATED:20240227T194248Z
LAST-MODIFIED:20240312T153041Z
UID:10000558-1713553500-1713564300@argentaartsdistrict.org
SUMMARY:Arkansas Travelers vs. Frisco RoughRiders
DESCRIPTION:Come watch the Arkansas Travelers play! Be sure to check the Travelers website for special promotions like fireworks\, Brunch at the Ballpark\, and more!
URL:https://argentaartsdistrict.org/event/arkansas-travelers-vs-frisco-roughriders-3/2024-04-19/
LOCATION:Dickey-Stephens\, 400 W Broadway St\, North Little Rock\, Arkansas\, 72114
CATEGORIES:Food
ATTACH;FMTTYPE=image/png:https://argentaartsdistrict.org/wp-content/uploads/2023/09/Website-Events_Travlers.png
END:VEVENT
BEGIN:VEVENT
DTSTART;TZID=America/Chicago:20240418T183500
DTEND;TZID=America/Chicago:20240418T223500
DTSTAMP:20260424T184126
CREATED:20240227T194248Z
LAST-MODIFIED:20240312T153041Z
UID:10000557-1713465300-1713479700@argentaartsdistrict.org
SUMMARY:Arkansas Travelers vs. Frisco RoughRiders
DESCRIPTION:Come watch the Arkansas Travelers play! Be sure to check the Travelers website for special promotions like fireworks\, Brunch at the Ballpark\, and more!
URL:https://argentaartsdistrict.org/event/arkansas-travelers-vs-frisco-roughriders-3/2024-04-18/
LOCATION:Dickey-Stephens\, 400 W Broadway St\, North Little Rock\, Arkansas\, 72114
CATEGORIES:Food
ATTACH;FMTTYPE=image/png:https://argentaartsdistrict.org/wp-content/uploads/2023/09/Website-Events_Travlers.png
END:VEVENT
BEGIN:VEVENT
DTSTART;TZID=America/Chicago:20240417T183500
DTEND;TZID=America/Chicago:20240417T223500
DTSTAMP:20260424T184126
CREATED:20240227T194248Z
LAST-MODIFIED:20240312T153041Z
UID:10000556-1713378900-1713393300@argentaartsdistrict.org
SUMMARY:Arkansas Travelers vs. Frisco RoughRiders
DESCRIPTION:Come watch the Arkansas Travelers play! Be sure to check the Travelers website for special promotions like fireworks\, Brunch at the Ballpark\, and more!
URL:https://argentaartsdistrict.org/event/arkansas-travelers-vs-frisco-roughriders-3/2024-04-17/
LOCATION:Dickey-Stephens\, 400 W Broadway St\, North Little Rock\, Arkansas\, 72114
CATEGORIES:Food
ATTACH;FMTTYPE=image/png:https://argentaartsdistrict.org/wp-content/uploads/2023/09/Website-Events_Travlers.png
END:VEVENT
BEGIN:VEVENT
DTSTART;TZID=America/Chicago:20240416T110500
DTEND;TZID=America/Chicago:20240416T140500
DTSTAMP:20260424T184126
CREATED:20240227T194248Z
LAST-MODIFIED:20240312T153041Z
UID:10000555-1713265500-1713276300@argentaartsdistrict.org
SUMMARY:Arkansas Travelers vs. Frisco RoughRiders
DESCRIPTION:Come watch the Arkansas Travelers play! Be sure to check the Travelers website for special promotions like fireworks\, Brunch at the Ballpark\, and more!
URL:https://argentaartsdistrict.org/event/arkansas-travelers-vs-frisco-roughriders-3/2024-04-16/
LOCATION:Dickey-Stephens\, 400 W Broadway St\, North Little Rock\, Arkansas\, 72114
CATEGORIES:Food
ATTACH;FMTTYPE=image/png:https://argentaartsdistrict.org/wp-content/uploads/2023/09/Website-Events_Travlers.png
END:VEVENT
BEGIN:VEVENT
DTSTART;TZID=America/Chicago:20240408T110000
DTEND;TZID=America/Chicago:20240408T140000
DTSTAMP:20260424T184126
CREATED:20240105T033111Z
LAST-MODIFIED:20240312T150817Z
UID:10000473-1712574000-1712584800@argentaartsdistrict.org
SUMMARY:Arkansas Travelers: Total Eclipse of the Park
DESCRIPTION:Join the Travs at Dickey-Stephens Park on Monday\, April 8\, for an exclusive viewing of the rare total eclipse! This total solar eclipse will begin at 12:30 PM\, where it will progress to totality at 1:51 PM\, and is expected to last for approximately two minutes and 30 seconds. \nAdmission to the ballpark on April 8 is FREE! Parking adjacent to the stadium will be available for purchase on that date. Concessions will also be available for purchase inside the park. Further activities preceding and following the eclipse will be announced at a later date and will be out of this world! \nPersonal telescopes will be allowed into the stadium for the eclipse event\, but all cases and equipment must be pre-registered and will be subject to search in accordance with Dickey-Stephens Park’s Clear Bag Policy. Pre-registration information will be available soon! \n\n\nSnapple Elements® Eclipse Glasses Giveaway\n\n\n\n\n\n\n\n\n\n\nOn Saturday\, April 6\, and Sunday\, April 7\, we will be giving away special edition Travelers-themed eclipse glasses\, presented by Snapple Elements®. This giveaway is available to the first 1\,000 attendees on each night. \nWe will be giving away an additional 1\,000 glasses on the day of April 8.
URL:https://argentaartsdistrict.org/event/arkansas-travelers-total-eclipse-of-the-park/
LOCATION:Dickey-Stephens\, 400 W Broadway St\, North Little Rock\, Arkansas\, 72114
ATTACH;FMTTYPE=image/png:https://argentaartsdistrict.org/wp-content/uploads/2024/01/Website-Events_Eclipse-of-the-Park.png
END:VEVENT
BEGIN:VEVENT
DTSTART;TZID=America/Chicago:20240407T133500
DTEND;TZID=America/Chicago:20240407T163500
DTSTAMP:20260424T184126
CREATED:20240105T032714Z
LAST-MODIFIED:20240312T151916Z
UID:10000554-1712496900-1712507700@argentaartsdistrict.org
SUMMARY:Arkansas Travelers vs. Springfield Cardinals
DESCRIPTION:Come cheer on the Arkansas Travelers at their opening weekend!
URL:https://argentaartsdistrict.org/event/arkansas-travelers-season-opener/2024-04-07/
LOCATION:Dickey-Stephens\, 400 W Broadway St\, North Little Rock\, Arkansas\, 72114
ATTACH;FMTTYPE=image/png:https://argentaartsdistrict.org/wp-content/uploads/2024/01/Ark_Travelers.png
END:VEVENT
BEGIN:VEVENT
DTSTART;TZID=America/Chicago:20240406T180500
DTEND;TZID=America/Chicago:20240406T210500
DTSTAMP:20260424T184126
CREATED:20240105T032714Z
LAST-MODIFIED:20240312T151916Z
UID:10000553-1712426700-1712437500@argentaartsdistrict.org
SUMMARY:Arkansas Travelers vs. Springfield Cardinals
DESCRIPTION:Come cheer on the Arkansas Travelers at their opening weekend!
URL:https://argentaartsdistrict.org/event/arkansas-travelers-season-opener/2024-04-06/
LOCATION:Dickey-Stephens\, 400 W Broadway St\, North Little Rock\, Arkansas\, 72114
ATTACH;FMTTYPE=image/png:https://argentaartsdistrict.org/wp-content/uploads/2024/01/Ark_Travelers.png
END:VEVENT
BEGIN:VEVENT
DTSTART;TZID=America/Chicago:20240405T190500
DTEND;TZID=America/Chicago:20240405T220500
DTSTAMP:20260424T184126
CREATED:20240105T032714Z
LAST-MODIFIED:20240312T151916Z
UID:10000552-1712343900-1712354700@argentaartsdistrict.org
SUMMARY:Arkansas Travelers vs. Springfield Cardinals
DESCRIPTION:Come cheer on the Arkansas Travelers at their opening weekend!
URL:https://argentaartsdistrict.org/event/arkansas-travelers-season-opener/2024-04-05/
LOCATION:Dickey-Stephens\, 400 W Broadway St\, North Little Rock\, Arkansas\, 72114
ATTACH;FMTTYPE=image/png:https://argentaartsdistrict.org/wp-content/uploads/2024/01/Ark_Travelers.png
END:VEVENT
BEGIN:VEVENT
DTSTART;TZID=America/Chicago:20230910T132800
DTEND;TZID=America/Chicago:20230910T132800
DTSTAMP:20260424T184126
CREATED:20240227T193548Z
LAST-MODIFIED:20240227T193724Z
UID:10000549-1694352480-1694352480@argentaartsdistrict.org
SUMMARY:Arkansas Travelers vs. Frisco RoughRiders
DESCRIPTION:Come watch the Arkansas Travelers play! Be sure to check the Travelers website for special promotions like fireworks\, Brunch at the Ballpark\, and more!
URL:https://argentaartsdistrict.org/event/arkansas-travelers-vs-frisco-roughriders-2/
LOCATION:Dickey-Stephens\, 400 W Broadway St\, North Little Rock\, Arkansas\, 72114
CATEGORIES:Food
ATTACH;FMTTYPE=image/png:https://argentaartsdistrict.org/wp-content/uploads/2023/09/Website-Events_Travlers.png
END:VEVENT
BEGIN:VEVENT
DTSTART;TZID=America/Chicago:20230910T121639
DTEND;TZID=America/Chicago:20230910T121639
DTSTAMP:20260424T184126
CREATED:20230905T171622Z
LAST-MODIFIED:20230905T171622Z
UID:10000429-1694348199-1694348199@argentaartsdistrict.org
SUMMARY:Arkansas Travlers vs. Amarillo Sod Poodles
DESCRIPTION:Come watch the Arkansas Travelers play! Be sure to check the Travelers website for special promotions like fireworks\, Brunch at the Ballpark\, and more!
URL:https://argentaartsdistrict.org/event/arkansas-travlers-vs-amarillo-sod-poodles/2023-09-10/
LOCATION:Dickey-Stephens\, 400 W Broadway St\, North Little Rock\, Arkansas\, 72114
CATEGORIES:Food
ATTACH;FMTTYPE=image/png:https://argentaartsdistrict.org/wp-content/uploads/2023/09/Website-Events_Travlers.png
END:VEVENT
BEGIN:VEVENT
DTSTART;TZID=America/Chicago:20230909T121639
DTEND;TZID=America/Chicago:20230909T121639
DTSTAMP:20260424T184126
CREATED:20230905T171622Z
LAST-MODIFIED:20230905T171622Z
UID:10000428-1694261799-1694261799@argentaartsdistrict.org
SUMMARY:Arkansas Travlers vs. Amarillo Sod Poodles
DESCRIPTION:Come watch the Arkansas Travelers play! Be sure to check the Travelers website for special promotions like fireworks\, Brunch at the Ballpark\, and more!
URL:https://argentaartsdistrict.org/event/arkansas-travlers-vs-amarillo-sod-poodles/2023-09-09/
LOCATION:Dickey-Stephens\, 400 W Broadway St\, North Little Rock\, Arkansas\, 72114
CATEGORIES:Food
ATTACH;FMTTYPE=image/png:https://argentaartsdistrict.org/wp-content/uploads/2023/09/Website-Events_Travlers.png
END:VEVENT
BEGIN:VEVENT
DTSTART;TZID=America/Chicago:20230908T132853
DTEND;TZID=America/Chicago:20230908T132853
DTSTAMP:20260424T184126
CREATED:20240227T193045Z
LAST-MODIFIED:20240312T152414Z
UID:10000547-1694179733-1694179733@argentaartsdistrict.org
SUMMARY:Arkansas Travelers vs. Frisco RoughRiders
DESCRIPTION:Come watch the Arkansas Travelers play! Be sure to check the Travelers website for special promotions like fireworks\, Brunch at the Ballpark\, and more!
URL:https://argentaartsdistrict.org/event/arkansas-travelers-vs-frisco-roughriders/2023-09-08/
LOCATION:Dickey-Stephens\, 400 W Broadway St\, North Little Rock\, Arkansas\, 72114
CATEGORIES:Food
ATTACH;FMTTYPE=image/png:https://argentaartsdistrict.org/wp-content/uploads/2023/09/Website-Events_Travlers.png
END:VEVENT
BEGIN:VEVENT
DTSTART;TZID=America/Chicago:20230908T121639
DTEND;TZID=America/Chicago:20230908T121639
DTSTAMP:20260424T184126
CREATED:20230905T171622Z
LAST-MODIFIED:20230905T171622Z
UID:10000427-1694175399-1694175399@argentaartsdistrict.org
SUMMARY:Arkansas Travlers vs. Amarillo Sod Poodles
DESCRIPTION:Come watch the Arkansas Travelers play! Be sure to check the Travelers website for special promotions like fireworks\, Brunch at the Ballpark\, and more!
URL:https://argentaartsdistrict.org/event/arkansas-travlers-vs-amarillo-sod-poodles/2023-09-08/
LOCATION:Dickey-Stephens\, 400 W Broadway St\, North Little Rock\, Arkansas\, 72114
CATEGORIES:Food
ATTACH;FMTTYPE=image/png:https://argentaartsdistrict.org/wp-content/uploads/2023/09/Website-Events_Travlers.png
END:VEVENT
BEGIN:VEVENT
DTSTART;TZID=America/Chicago:20230907T132853
DTEND;TZID=America/Chicago:20230907T132853
DTSTAMP:20260424T184126
CREATED:20240227T193045Z
LAST-MODIFIED:20240312T152414Z
UID:10000546-1694093333-1694093333@argentaartsdistrict.org
SUMMARY:Arkansas Travelers vs. Frisco RoughRiders
DESCRIPTION:Come watch the Arkansas Travelers play! Be sure to check the Travelers website for special promotions like fireworks\, Brunch at the Ballpark\, and more!
URL:https://argentaartsdistrict.org/event/arkansas-travelers-vs-frisco-roughriders/2023-09-07/
LOCATION:Dickey-Stephens\, 400 W Broadway St\, North Little Rock\, Arkansas\, 72114
CATEGORIES:Food
ATTACH;FMTTYPE=image/png:https://argentaartsdistrict.org/wp-content/uploads/2023/09/Website-Events_Travlers.png
END:VEVENT
BEGIN:VEVENT
DTSTART;TZID=America/Chicago:20230907T121639
DTEND;TZID=America/Chicago:20230907T121639
DTSTAMP:20260424T184126
CREATED:20230905T171622Z
LAST-MODIFIED:20230905T171622Z
UID:10000426-1694088999-1694088999@argentaartsdistrict.org
SUMMARY:Arkansas Travlers vs. Amarillo Sod Poodles
DESCRIPTION:Come watch the Arkansas Travelers play! Be sure to check the Travelers website for special promotions like fireworks\, Brunch at the Ballpark\, and more!
URL:https://argentaartsdistrict.org/event/arkansas-travlers-vs-amarillo-sod-poodles/2023-09-07/
LOCATION:Dickey-Stephens\, 400 W Broadway St\, North Little Rock\, Arkansas\, 72114
CATEGORIES:Food
ATTACH;FMTTYPE=image/png:https://argentaartsdistrict.org/wp-content/uploads/2023/09/Website-Events_Travlers.png
END:VEVENT
END:VCALENDAR