BEGIN:VCALENDAR
VERSION:2.0
PRODID:-//Argenta Arts District - ECPv6.15.20//NONSGML v1.0//EN
CALSCALE:GREGORIAN
METHOD:PUBLISH
X-ORIGINAL-URL:https://argentaartsdistrict.org
X-WR-CALDESC:Events for Argenta Arts District
REFRESH-INTERVAL;VALUE=DURATION:PT1H
X-Robots-Tag:noindex
X-PUBLISHED-TTL:PT1H
BEGIN:VTIMEZONE
TZID:America/Chicago
BEGIN:DAYLIGHT
TZOFFSETFROM:-0600
TZOFFSETTO:-0500
TZNAME:CDT
DTSTART:20220313T080000
END:DAYLIGHT
BEGIN:STANDARD
TZOFFSETFROM:-0500
TZOFFSETTO:-0600
TZNAME:CST
DTSTART:20221106T070000
END:STANDARD
BEGIN:DAYLIGHT
TZOFFSETFROM:-0600
TZOFFSETTO:-0500
TZNAME:CDT
DTSTART:20230312T080000
END:DAYLIGHT
BEGIN:STANDARD
TZOFFSETFROM:-0500
TZOFFSETTO:-0600
TZNAME:CST
DTSTART:20231105T070000
END:STANDARD
BEGIN:DAYLIGHT
TZOFFSETFROM:-0600
TZOFFSETTO:-0500
TZNAME:CDT
DTSTART:20240310T080000
END:DAYLIGHT
BEGIN:STANDARD
TZOFFSETFROM:-0500
TZOFFSETTO:-0600
TZNAME:CST
DTSTART:20241103T070000
END:STANDARD
END:VTIMEZONE
BEGIN:VEVENT
DTSTART;TZID=America/Chicago:20230922T090000
DTEND;TZID=America/Chicago:20230922T160000
DTSTAMP:20260424T193758
CREATED:20230905T175857Z
LAST-MODIFIED:20230905T175857Z
UID:10000434-1695373200-1695398400@argentaartsdistrict.org
SUMMARY:Little Rock/North Little Rock Vegfest
DESCRIPTION:LR/NLR Vegfest is a magnificent day filled with food\, fun and inspiration. \nThe combination of delicious food \, great live music\, empowering speakers on health\, kids corner\, environmental\, humanitarian\, and animal topics\, kids’ activities\, animal adoptions\, an eco-marketplace with over 100 vendors\, and more\, make for an unforgettable earth-friendly experience that is sure to be enjoyable for all!
URL:https://argentaartsdistrict.org/event/little-rock-north-little-rock-vegfest/
LOCATION:Argenta Plaza\, 510 N. Main St.\, North Little Rock\, AR\, 72114\, United States
CATEGORIES:Art,Food,Live Performance
ATTACH;FMTTYPE=image/png:https://argentaartsdistrict.org/wp-content/uploads/2023/09/Website-Events_Veg-Fest.png
END:VEVENT
END:VCALENDAR