BEGIN:VCALENDAR
VERSION:2.0
PRODID:-//Argenta Arts District - ECPv6.15.20//NONSGML v1.0//EN
CALSCALE:GREGORIAN
METHOD:PUBLISH
X-ORIGINAL-URL:https://argentaartsdistrict.org
X-WR-CALDESC:Events for Argenta Arts District
REFRESH-INTERVAL;VALUE=DURATION:PT1H
X-Robots-Tag:noindex
X-PUBLISHED-TTL:PT1H
BEGIN:VTIMEZONE
TZID:America/Chicago
BEGIN:DAYLIGHT
TZOFFSETFROM:-0600
TZOFFSETTO:-0500
TZNAME:CDT
DTSTART:20220313T080000
END:DAYLIGHT
BEGIN:STANDARD
TZOFFSETFROM:-0500
TZOFFSETTO:-0600
TZNAME:CST
DTSTART:20221106T070000
END:STANDARD
BEGIN:DAYLIGHT
TZOFFSETFROM:-0600
TZOFFSETTO:-0500
TZNAME:CDT
DTSTART:20230312T080000
END:DAYLIGHT
BEGIN:STANDARD
TZOFFSETFROM:-0500
TZOFFSETTO:-0600
TZNAME:CST
DTSTART:20231105T070000
END:STANDARD
BEGIN:DAYLIGHT
TZOFFSETFROM:-0600
TZOFFSETTO:-0500
TZNAME:CDT
DTSTART:20240310T080000
END:DAYLIGHT
BEGIN:STANDARD
TZOFFSETFROM:-0500
TZOFFSETTO:-0600
TZNAME:CST
DTSTART:20241103T070000
END:STANDARD
BEGIN:DAYLIGHT
TZOFFSETFROM:-0600
TZOFFSETTO:-0500
TZNAME:CDT
DTSTART:20250309T080000
END:DAYLIGHT
BEGIN:STANDARD
TZOFFSETFROM:-0500
TZOFFSETTO:-0600
TZNAME:CST
DTSTART:20251102T070000
END:STANDARD
END:VTIMEZONE
BEGIN:VEVENT
DTSTART;VALUE=DATE:20240406
DTEND;VALUE=DATE:20240409
DTSTAMP:20260424T195542
CREATED:20240227T192416Z
LAST-MODIFIED:20240227T192416Z
UID:10000543-1712361600-1712620799@argentaartsdistrict.org
SUMMARY:Moon Block Party at Argenta Plaza
DESCRIPTION:Moon Block Party is hosted by North Little Rock Tourism and Argenta Plaza\nComing from out-of-town to experience the 2024 Solar Eclipse? North Little Rock Tourism welcomes you to Argenta Plaza\, our city’s “front porch\,” to enjoy food trucks\, entertainment and eclipse activities before and after totality. Free and open to the public.\nActivities will be going on in Argenta Plaza all weekend\, so beat the traffic\, come early and have fun in North Little Rock.\nFood trucks and Flyway Brewing will be set up Saturday\, Sunday and Monday.\nSaturday\, April 6:\n– Vendor market 11 a.m. – 4 p.m.\n– Silent Disco (maximum 100 capacity at a time) – 6 p.m. – 9 p.m.\nSunday\, April 7:\n– pop-up fitness activities\n– Mayday by Midnight (live music) – 7 p.m. – 9 p.m.\nMonday\, April 8:\n– Main Street from Broadway to 6th closed for pedestrians\n– Food trucks & vendors open at 11 a.m.\n– The Six Piece Suits (live music) 12 p.m. – 4 p.m.\n– Eclipse: 12:34 p.m. – 3:12 p.m
URL:https://argentaartsdistrict.org/event/moon-block-party-at-argenta-plaza/
LOCATION:Argenta Plaza\, 510 N. Main St.\, North Little Rock\, AR\, 72114\, United States
CATEGORIES:Food,Live Performance
ATTACH;FMTTYPE=image/jpeg:https://argentaartsdistrict.org/wp-content/uploads/2024/02/Moon-Block-Party.jpeg
END:VEVENT
BEGIN:VEVENT
DTSTART;TZID=America/Chicago:20240122T000000
DTEND;TZID=America/Chicago:20240204T000000
DTSTAMP:20260424T195542
CREATED:20231214T190210Z
LAST-MODIFIED:20240129T172453Z
UID:10000468-1705881600-1707004800@argentaartsdistrict.org
SUMMARY:North Little Rock Restaurant Week
DESCRIPTION:The North Little Rock Tourism invites you to share your love for North Little Rock restaurants during North Little Rock Restaurant Week January 22 – February 4\, 2024. Dine out during Restaurant Week and save your receipts to earn entries into a raffle for fun North Little Rock prizes. \nDon’t forget to share your food adventure with us! Use hashtags #exploreNLR #SettingtheTableNLR \nThe purposes of North Little Rock Restaurant Week are to raise awareness of the North Little Rock dining scene and stimulate economic activity for North Little Rock restaurants. North Little Rock Restaurant Week is hosted by the North Little Rock Tourism and is a project of North Little Rock’s “Setting the Table” Culinary Initiative.
URL:https://argentaartsdistrict.org/event/north-little-rock-restaurant-week/
ATTACH;FMTTYPE=image/png:https://argentaartsdistrict.org/wp-content/uploads/2023/12/Website-Events_Restsurant-Week.png
END:VEVENT
BEGIN:VEVENT
DTSTART;TZID=America/Chicago:20231203T140000
DTEND;TZID=America/Chicago:20231203T160000
DTSTAMP:20260424T195542
CREATED:20231121T193354Z
LAST-MODIFIED:20231121T193354Z
UID:10000454-1701612000-1701619200@argentaartsdistrict.org
SUMMARY:NLR Christmas Parade
DESCRIPTION:Hosted by the City of North Little Rock\, the North Little Rock Sertoma Club and North Little Rock Tourism\, the annual Christmas parade highlights the local community and encourages all to get in the holiday spirit.
URL:https://argentaartsdistrict.org/event/nlr-christmas-parade/
LOCATION:Argenta Plaza\, 510 N. Main St.\, North Little Rock\, AR\, 72114\, United States
ATTACH;FMTTYPE=image/jpeg:https://argentaartsdistrict.org/wp-content/uploads/2023/11/ad2bc3a6-797c-478f-ad8d-a5a722a42f10.jpg
END:VEVENT
BEGIN:VEVENT
DTSTART;TZID=America/Chicago:20231119T154218
DTEND;TZID=America/Chicago:20231119T154218
DTSTAMP:20260424T195542
CREATED:20230906T204212Z
LAST-MODIFIED:20230906T204212Z
UID:10000447-1700408538-1700408538@argentaartsdistrict.org
SUMMARY:Piccolo Zoppé Winter Circus
DESCRIPTION:Attenzione! Attenzione! \nNot just any Circus is coming to town. North Little Rock Tourism is proud to present the Piccolo Zoppé Winter Circus in North Little Rock November 9 – November 19. \nThe Zoppé family have been enchanting audiences around the world since traveling the cobblestone roads of Italy in 1842. Their passion for performing their art and sharing their hearts with their audiences remains true. Piccolo zoppé is an intimate European style circus classic in its beauty. No audience member is more than 18 feet away from the ring. Feeling the rush of the Zoppé horses galloping by is an experience young and old will not soon forget. \nJoin us this holiday season for an unforgettable show where you will laugh\, you will cry\, and you will become part of our family. \nTickets go on sale October 9.\nPERFORMANCE SCHEDULE:\nThursday\, Nov. 9\, 6 p.m.\nFriday\, Nov. 10\, 7:30 pm\nSaturday\, Nov. 11\, 4:30 p.m. & 7:30 p.m.\nSunday\, Nov. 12\, 2:00 p.m. & 5:30 p.m.\nMonday\, Nov. 13\, 6:30 p.m.\nTuesday\, Nov. 14\, 6:30 p.m.\nWednesday\, Nov. 15\, 6:30 p.m.\nThursday\, Nov. 16\, 6:30 p.m.\nFriday\, Nov. 17\, 7:30 pm\nSaturday\, Nov. 18\, 4:30 p.m. & 7:30 p.m.\nSunday\, Nov. 19\, 2:00 p.m. & 5:30 p.m. \nFor more information visit piccolozoppe.com
URL:https://argentaartsdistrict.org/event/piccolo-zoppe-winter-circus/2023-11-19/
LOCATION:7th Street & Magnolia Street\, 256 Bishop Lindsey Ave\, North Little Rock\, Arkansas\, 72114
CATEGORIES:Live Performance
ATTACH;FMTTYPE=image/png:https://argentaartsdistrict.org/wp-content/uploads/2023/09/Website-Events_Air-Supply-2.png
END:VEVENT
BEGIN:VEVENT
DTSTART;TZID=America/Chicago:20231118T154218
DTEND;TZID=America/Chicago:20231118T154218
DTSTAMP:20260424T195542
CREATED:20230906T204212Z
LAST-MODIFIED:20230906T204212Z
UID:10000446-1700322138-1700322138@argentaartsdistrict.org
SUMMARY:Piccolo Zoppé Winter Circus
DESCRIPTION:Attenzione! Attenzione! \nNot just any Circus is coming to town. North Little Rock Tourism is proud to present the Piccolo Zoppé Winter Circus in North Little Rock November 9 – November 19. \nThe Zoppé family have been enchanting audiences around the world since traveling the cobblestone roads of Italy in 1842. Their passion for performing their art and sharing their hearts with their audiences remains true. Piccolo zoppé is an intimate European style circus classic in its beauty. No audience member is more than 18 feet away from the ring. Feeling the rush of the Zoppé horses galloping by is an experience young and old will not soon forget. \nJoin us this holiday season for an unforgettable show where you will laugh\, you will cry\, and you will become part of our family. \nTickets go on sale October 9.\nPERFORMANCE SCHEDULE:\nThursday\, Nov. 9\, 6 p.m.\nFriday\, Nov. 10\, 7:30 pm\nSaturday\, Nov. 11\, 4:30 p.m. & 7:30 p.m.\nSunday\, Nov. 12\, 2:00 p.m. & 5:30 p.m.\nMonday\, Nov. 13\, 6:30 p.m.\nTuesday\, Nov. 14\, 6:30 p.m.\nWednesday\, Nov. 15\, 6:30 p.m.\nThursday\, Nov. 16\, 6:30 p.m.\nFriday\, Nov. 17\, 7:30 pm\nSaturday\, Nov. 18\, 4:30 p.m. & 7:30 p.m.\nSunday\, Nov. 19\, 2:00 p.m. & 5:30 p.m. \nFor more information visit piccolozoppe.com
URL:https://argentaartsdistrict.org/event/piccolo-zoppe-winter-circus/2023-11-18/
LOCATION:7th Street & Magnolia Street\, 256 Bishop Lindsey Ave\, North Little Rock\, Arkansas\, 72114
CATEGORIES:Live Performance
ATTACH;FMTTYPE=image/png:https://argentaartsdistrict.org/wp-content/uploads/2023/09/Website-Events_Air-Supply-2.png
END:VEVENT
BEGIN:VEVENT
DTSTART;TZID=America/Chicago:20231118T150000
DTEND;TZID=America/Chicago:20231118T190000
DTSTAMP:20260424T195542
CREATED:20230906T204534Z
LAST-MODIFIED:20230906T204534Z
UID:10000448-1700319600-1700334000@argentaartsdistrict.org
SUMMARY:Northern Lights Holiday Festival in North Little Rock
DESCRIPTION:North Little Rock’s annual holiday festival returns to Argenta Plaza November 18\, 2023! Free\, family-friendly holiday fun includes photos with Santa\, live entertainment and kids’ holiday activities.
URL:https://argentaartsdistrict.org/event/northern-lights-holiday-festival-in-north-little-rock/
LOCATION:Argenta Plaza\, 510 N. Main St.\, North Little Rock\, AR\, 72114\, United States
CATEGORIES:Art,Food
ATTACH;FMTTYPE=image/png:https://argentaartsdistrict.org/wp-content/uploads/2023/09/Website-Events_Air-Supply-3.png
END:VEVENT
BEGIN:VEVENT
DTSTART;TZID=America/Chicago:20231117T154218
DTEND;TZID=America/Chicago:20231117T154218
DTSTAMP:20260424T195542
CREATED:20230906T204212Z
LAST-MODIFIED:20230906T204212Z
UID:10000445-1700235738-1700235738@argentaartsdistrict.org
SUMMARY:Piccolo Zoppé Winter Circus
DESCRIPTION:Attenzione! Attenzione! \nNot just any Circus is coming to town. North Little Rock Tourism is proud to present the Piccolo Zoppé Winter Circus in North Little Rock November 9 – November 19. \nThe Zoppé family have been enchanting audiences around the world since traveling the cobblestone roads of Italy in 1842. Their passion for performing their art and sharing their hearts with their audiences remains true. Piccolo zoppé is an intimate European style circus classic in its beauty. No audience member is more than 18 feet away from the ring. Feeling the rush of the Zoppé horses galloping by is an experience young and old will not soon forget. \nJoin us this holiday season for an unforgettable show where you will laugh\, you will cry\, and you will become part of our family. \nTickets go on sale October 9.\nPERFORMANCE SCHEDULE:\nThursday\, Nov. 9\, 6 p.m.\nFriday\, Nov. 10\, 7:30 pm\nSaturday\, Nov. 11\, 4:30 p.m. & 7:30 p.m.\nSunday\, Nov. 12\, 2:00 p.m. & 5:30 p.m.\nMonday\, Nov. 13\, 6:30 p.m.\nTuesday\, Nov. 14\, 6:30 p.m.\nWednesday\, Nov. 15\, 6:30 p.m.\nThursday\, Nov. 16\, 6:30 p.m.\nFriday\, Nov. 17\, 7:30 pm\nSaturday\, Nov. 18\, 4:30 p.m. & 7:30 p.m.\nSunday\, Nov. 19\, 2:00 p.m. & 5:30 p.m. \nFor more information visit piccolozoppe.com
URL:https://argentaartsdistrict.org/event/piccolo-zoppe-winter-circus/2023-11-17/
LOCATION:7th Street & Magnolia Street\, 256 Bishop Lindsey Ave\, North Little Rock\, Arkansas\, 72114
CATEGORIES:Live Performance
ATTACH;FMTTYPE=image/png:https://argentaartsdistrict.org/wp-content/uploads/2023/09/Website-Events_Air-Supply-2.png
END:VEVENT
BEGIN:VEVENT
DTSTART;TZID=America/Chicago:20231116T154218
DTEND;TZID=America/Chicago:20231116T154218
DTSTAMP:20260424T195542
CREATED:20230906T204212Z
LAST-MODIFIED:20230906T204212Z
UID:10000444-1700149338-1700149338@argentaartsdistrict.org
SUMMARY:Piccolo Zoppé Winter Circus
DESCRIPTION:Attenzione! Attenzione! \nNot just any Circus is coming to town. North Little Rock Tourism is proud to present the Piccolo Zoppé Winter Circus in North Little Rock November 9 – November 19. \nThe Zoppé family have been enchanting audiences around the world since traveling the cobblestone roads of Italy in 1842. Their passion for performing their art and sharing their hearts with their audiences remains true. Piccolo zoppé is an intimate European style circus classic in its beauty. No audience member is more than 18 feet away from the ring. Feeling the rush of the Zoppé horses galloping by is an experience young and old will not soon forget. \nJoin us this holiday season for an unforgettable show where you will laugh\, you will cry\, and you will become part of our family. \nTickets go on sale October 9.\nPERFORMANCE SCHEDULE:\nThursday\, Nov. 9\, 6 p.m.\nFriday\, Nov. 10\, 7:30 pm\nSaturday\, Nov. 11\, 4:30 p.m. & 7:30 p.m.\nSunday\, Nov. 12\, 2:00 p.m. & 5:30 p.m.\nMonday\, Nov. 13\, 6:30 p.m.\nTuesday\, Nov. 14\, 6:30 p.m.\nWednesday\, Nov. 15\, 6:30 p.m.\nThursday\, Nov. 16\, 6:30 p.m.\nFriday\, Nov. 17\, 7:30 pm\nSaturday\, Nov. 18\, 4:30 p.m. & 7:30 p.m.\nSunday\, Nov. 19\, 2:00 p.m. & 5:30 p.m. \nFor more information visit piccolozoppe.com
URL:https://argentaartsdistrict.org/event/piccolo-zoppe-winter-circus/2023-11-16/
LOCATION:7th Street & Magnolia Street\, 256 Bishop Lindsey Ave\, North Little Rock\, Arkansas\, 72114
CATEGORIES:Live Performance
ATTACH;FMTTYPE=image/png:https://argentaartsdistrict.org/wp-content/uploads/2023/09/Website-Events_Air-Supply-2.png
END:VEVENT
BEGIN:VEVENT
DTSTART;TZID=America/Chicago:20231115T154218
DTEND;TZID=America/Chicago:20231115T154218
DTSTAMP:20260424T195542
CREATED:20230906T204212Z
LAST-MODIFIED:20230906T204212Z
UID:10000443-1700062938-1700062938@argentaartsdistrict.org
SUMMARY:Piccolo Zoppé Winter Circus
DESCRIPTION:Attenzione! Attenzione! \nNot just any Circus is coming to town. North Little Rock Tourism is proud to present the Piccolo Zoppé Winter Circus in North Little Rock November 9 – November 19. \nThe Zoppé family have been enchanting audiences around the world since traveling the cobblestone roads of Italy in 1842. Their passion for performing their art and sharing their hearts with their audiences remains true. Piccolo zoppé is an intimate European style circus classic in its beauty. No audience member is more than 18 feet away from the ring. Feeling the rush of the Zoppé horses galloping by is an experience young and old will not soon forget. \nJoin us this holiday season for an unforgettable show where you will laugh\, you will cry\, and you will become part of our family. \nTickets go on sale October 9.\nPERFORMANCE SCHEDULE:\nThursday\, Nov. 9\, 6 p.m.\nFriday\, Nov. 10\, 7:30 pm\nSaturday\, Nov. 11\, 4:30 p.m. & 7:30 p.m.\nSunday\, Nov. 12\, 2:00 p.m. & 5:30 p.m.\nMonday\, Nov. 13\, 6:30 p.m.\nTuesday\, Nov. 14\, 6:30 p.m.\nWednesday\, Nov. 15\, 6:30 p.m.\nThursday\, Nov. 16\, 6:30 p.m.\nFriday\, Nov. 17\, 7:30 pm\nSaturday\, Nov. 18\, 4:30 p.m. & 7:30 p.m.\nSunday\, Nov. 19\, 2:00 p.m. & 5:30 p.m. \nFor more information visit piccolozoppe.com
URL:https://argentaartsdistrict.org/event/piccolo-zoppe-winter-circus/2023-11-15/
LOCATION:7th Street & Magnolia Street\, 256 Bishop Lindsey Ave\, North Little Rock\, Arkansas\, 72114
CATEGORIES:Live Performance
ATTACH;FMTTYPE=image/png:https://argentaartsdistrict.org/wp-content/uploads/2023/09/Website-Events_Air-Supply-2.png
END:VEVENT
BEGIN:VEVENT
DTSTART;TZID=America/Chicago:20231114T154218
DTEND;TZID=America/Chicago:20231114T154218
DTSTAMP:20260424T195542
CREATED:20230906T204212Z
LAST-MODIFIED:20230906T204212Z
UID:10000442-1699976538-1699976538@argentaartsdistrict.org
SUMMARY:Piccolo Zoppé Winter Circus
DESCRIPTION:Attenzione! Attenzione! \nNot just any Circus is coming to town. North Little Rock Tourism is proud to present the Piccolo Zoppé Winter Circus in North Little Rock November 9 – November 19. \nThe Zoppé family have been enchanting audiences around the world since traveling the cobblestone roads of Italy in 1842. Their passion for performing their art and sharing their hearts with their audiences remains true. Piccolo zoppé is an intimate European style circus classic in its beauty. No audience member is more than 18 feet away from the ring. Feeling the rush of the Zoppé horses galloping by is an experience young and old will not soon forget. \nJoin us this holiday season for an unforgettable show where you will laugh\, you will cry\, and you will become part of our family. \nTickets go on sale October 9.\nPERFORMANCE SCHEDULE:\nThursday\, Nov. 9\, 6 p.m.\nFriday\, Nov. 10\, 7:30 pm\nSaturday\, Nov. 11\, 4:30 p.m. & 7:30 p.m.\nSunday\, Nov. 12\, 2:00 p.m. & 5:30 p.m.\nMonday\, Nov. 13\, 6:30 p.m.\nTuesday\, Nov. 14\, 6:30 p.m.\nWednesday\, Nov. 15\, 6:30 p.m.\nThursday\, Nov. 16\, 6:30 p.m.\nFriday\, Nov. 17\, 7:30 pm\nSaturday\, Nov. 18\, 4:30 p.m. & 7:30 p.m.\nSunday\, Nov. 19\, 2:00 p.m. & 5:30 p.m. \nFor more information visit piccolozoppe.com
URL:https://argentaartsdistrict.org/event/piccolo-zoppe-winter-circus/2023-11-14/
LOCATION:7th Street & Magnolia Street\, 256 Bishop Lindsey Ave\, North Little Rock\, Arkansas\, 72114
CATEGORIES:Live Performance
ATTACH;FMTTYPE=image/png:https://argentaartsdistrict.org/wp-content/uploads/2023/09/Website-Events_Air-Supply-2.png
END:VEVENT
BEGIN:VEVENT
DTSTART;TZID=America/Chicago:20231113T154218
DTEND;TZID=America/Chicago:20231113T154218
DTSTAMP:20260424T195542
CREATED:20230906T204212Z
LAST-MODIFIED:20230906T204212Z
UID:10000441-1699890138-1699890138@argentaartsdistrict.org
SUMMARY:Piccolo Zoppé Winter Circus
DESCRIPTION:Attenzione! Attenzione! \nNot just any Circus is coming to town. North Little Rock Tourism is proud to present the Piccolo Zoppé Winter Circus in North Little Rock November 9 – November 19. \nThe Zoppé family have been enchanting audiences around the world since traveling the cobblestone roads of Italy in 1842. Their passion for performing their art and sharing their hearts with their audiences remains true. Piccolo zoppé is an intimate European style circus classic in its beauty. No audience member is more than 18 feet away from the ring. Feeling the rush of the Zoppé horses galloping by is an experience young and old will not soon forget. \nJoin us this holiday season for an unforgettable show where you will laugh\, you will cry\, and you will become part of our family. \nTickets go on sale October 9.\nPERFORMANCE SCHEDULE:\nThursday\, Nov. 9\, 6 p.m.\nFriday\, Nov. 10\, 7:30 pm\nSaturday\, Nov. 11\, 4:30 p.m. & 7:30 p.m.\nSunday\, Nov. 12\, 2:00 p.m. & 5:30 p.m.\nMonday\, Nov. 13\, 6:30 p.m.\nTuesday\, Nov. 14\, 6:30 p.m.\nWednesday\, Nov. 15\, 6:30 p.m.\nThursday\, Nov. 16\, 6:30 p.m.\nFriday\, Nov. 17\, 7:30 pm\nSaturday\, Nov. 18\, 4:30 p.m. & 7:30 p.m.\nSunday\, Nov. 19\, 2:00 p.m. & 5:30 p.m. \nFor more information visit piccolozoppe.com
URL:https://argentaartsdistrict.org/event/piccolo-zoppe-winter-circus/2023-11-13/
LOCATION:7th Street & Magnolia Street\, 256 Bishop Lindsey Ave\, North Little Rock\, Arkansas\, 72114
CATEGORIES:Live Performance
ATTACH;FMTTYPE=image/png:https://argentaartsdistrict.org/wp-content/uploads/2023/09/Website-Events_Air-Supply-2.png
END:VEVENT
BEGIN:VEVENT
DTSTART;TZID=America/Chicago:20231112T154218
DTEND;TZID=America/Chicago:20231112T154218
DTSTAMP:20260424T195542
CREATED:20230906T204212Z
LAST-MODIFIED:20230906T204212Z
UID:10000440-1699803738-1699803738@argentaartsdistrict.org
SUMMARY:Piccolo Zoppé Winter Circus
DESCRIPTION:Attenzione! Attenzione! \nNot just any Circus is coming to town. North Little Rock Tourism is proud to present the Piccolo Zoppé Winter Circus in North Little Rock November 9 – November 19. \nThe Zoppé family have been enchanting audiences around the world since traveling the cobblestone roads of Italy in 1842. Their passion for performing their art and sharing their hearts with their audiences remains true. Piccolo zoppé is an intimate European style circus classic in its beauty. No audience member is more than 18 feet away from the ring. Feeling the rush of the Zoppé horses galloping by is an experience young and old will not soon forget. \nJoin us this holiday season for an unforgettable show where you will laugh\, you will cry\, and you will become part of our family. \nTickets go on sale October 9.\nPERFORMANCE SCHEDULE:\nThursday\, Nov. 9\, 6 p.m.\nFriday\, Nov. 10\, 7:30 pm\nSaturday\, Nov. 11\, 4:30 p.m. & 7:30 p.m.\nSunday\, Nov. 12\, 2:00 p.m. & 5:30 p.m.\nMonday\, Nov. 13\, 6:30 p.m.\nTuesday\, Nov. 14\, 6:30 p.m.\nWednesday\, Nov. 15\, 6:30 p.m.\nThursday\, Nov. 16\, 6:30 p.m.\nFriday\, Nov. 17\, 7:30 pm\nSaturday\, Nov. 18\, 4:30 p.m. & 7:30 p.m.\nSunday\, Nov. 19\, 2:00 p.m. & 5:30 p.m. \nFor more information visit piccolozoppe.com
URL:https://argentaartsdistrict.org/event/piccolo-zoppe-winter-circus/2023-11-12/
LOCATION:7th Street & Magnolia Street\, 256 Bishop Lindsey Ave\, North Little Rock\, Arkansas\, 72114
CATEGORIES:Live Performance
ATTACH;FMTTYPE=image/png:https://argentaartsdistrict.org/wp-content/uploads/2023/09/Website-Events_Air-Supply-2.png
END:VEVENT
BEGIN:VEVENT
DTSTART;TZID=America/Chicago:20231111T154218
DTEND;TZID=America/Chicago:20231111T154218
DTSTAMP:20260424T195542
CREATED:20230906T204212Z
LAST-MODIFIED:20230906T204212Z
UID:10000439-1699717338-1699717338@argentaartsdistrict.org
SUMMARY:Piccolo Zoppé Winter Circus
DESCRIPTION:Attenzione! Attenzione! \nNot just any Circus is coming to town. North Little Rock Tourism is proud to present the Piccolo Zoppé Winter Circus in North Little Rock November 9 – November 19. \nThe Zoppé family have been enchanting audiences around the world since traveling the cobblestone roads of Italy in 1842. Their passion for performing their art and sharing their hearts with their audiences remains true. Piccolo zoppé is an intimate European style circus classic in its beauty. No audience member is more than 18 feet away from the ring. Feeling the rush of the Zoppé horses galloping by is an experience young and old will not soon forget. \nJoin us this holiday season for an unforgettable show where you will laugh\, you will cry\, and you will become part of our family. \nTickets go on sale October 9.\nPERFORMANCE SCHEDULE:\nThursday\, Nov. 9\, 6 p.m.\nFriday\, Nov. 10\, 7:30 pm\nSaturday\, Nov. 11\, 4:30 p.m. & 7:30 p.m.\nSunday\, Nov. 12\, 2:00 p.m. & 5:30 p.m.\nMonday\, Nov. 13\, 6:30 p.m.\nTuesday\, Nov. 14\, 6:30 p.m.\nWednesday\, Nov. 15\, 6:30 p.m.\nThursday\, Nov. 16\, 6:30 p.m.\nFriday\, Nov. 17\, 7:30 pm\nSaturday\, Nov. 18\, 4:30 p.m. & 7:30 p.m.\nSunday\, Nov. 19\, 2:00 p.m. & 5:30 p.m. \nFor more information visit piccolozoppe.com
URL:https://argentaartsdistrict.org/event/piccolo-zoppe-winter-circus/2023-11-11/
LOCATION:7th Street & Magnolia Street\, 256 Bishop Lindsey Ave\, North Little Rock\, Arkansas\, 72114
CATEGORIES:Live Performance
ATTACH;FMTTYPE=image/png:https://argentaartsdistrict.org/wp-content/uploads/2023/09/Website-Events_Air-Supply-2.png
END:VEVENT
BEGIN:VEVENT
DTSTART;TZID=America/Chicago:20231110T154218
DTEND;TZID=America/Chicago:20231110T154218
DTSTAMP:20260424T195542
CREATED:20230906T204212Z
LAST-MODIFIED:20230906T204212Z
UID:10000438-1699630938-1699630938@argentaartsdistrict.org
SUMMARY:Piccolo Zoppé Winter Circus
DESCRIPTION:Attenzione! Attenzione! \nNot just any Circus is coming to town. North Little Rock Tourism is proud to present the Piccolo Zoppé Winter Circus in North Little Rock November 9 – November 19. \nThe Zoppé family have been enchanting audiences around the world since traveling the cobblestone roads of Italy in 1842. Their passion for performing their art and sharing their hearts with their audiences remains true. Piccolo zoppé is an intimate European style circus classic in its beauty. No audience member is more than 18 feet away from the ring. Feeling the rush of the Zoppé horses galloping by is an experience young and old will not soon forget. \nJoin us this holiday season for an unforgettable show where you will laugh\, you will cry\, and you will become part of our family. \nTickets go on sale October 9.\nPERFORMANCE SCHEDULE:\nThursday\, Nov. 9\, 6 p.m.\nFriday\, Nov. 10\, 7:30 pm\nSaturday\, Nov. 11\, 4:30 p.m. & 7:30 p.m.\nSunday\, Nov. 12\, 2:00 p.m. & 5:30 p.m.\nMonday\, Nov. 13\, 6:30 p.m.\nTuesday\, Nov. 14\, 6:30 p.m.\nWednesday\, Nov. 15\, 6:30 p.m.\nThursday\, Nov. 16\, 6:30 p.m.\nFriday\, Nov. 17\, 7:30 pm\nSaturday\, Nov. 18\, 4:30 p.m. & 7:30 p.m.\nSunday\, Nov. 19\, 2:00 p.m. & 5:30 p.m. \nFor more information visit piccolozoppe.com
URL:https://argentaartsdistrict.org/event/piccolo-zoppe-winter-circus/2023-11-10/
LOCATION:7th Street & Magnolia Street\, 256 Bishop Lindsey Ave\, North Little Rock\, Arkansas\, 72114
CATEGORIES:Live Performance
ATTACH;FMTTYPE=image/png:https://argentaartsdistrict.org/wp-content/uploads/2023/09/Website-Events_Air-Supply-2.png
END:VEVENT
BEGIN:VEVENT
DTSTART;TZID=America/Chicago:20231109T000000
DTEND;TZID=America/Chicago:20231109T000000
DTSTAMP:20260424T195542
CREATED:20230906T204212Z
LAST-MODIFIED:20230906T204212Z
UID:10000437-1699488000-1699488000@argentaartsdistrict.org
SUMMARY:Piccolo Zoppé Winter Circus
DESCRIPTION:Attenzione! Attenzione! \nNot just any Circus is coming to town. North Little Rock Tourism is proud to present the Piccolo Zoppé Winter Circus in North Little Rock November 9 – November 19. \nThe Zoppé family have been enchanting audiences around the world since traveling the cobblestone roads of Italy in 1842. Their passion for performing their art and sharing their hearts with their audiences remains true. Piccolo zoppé is an intimate European style circus classic in its beauty. No audience member is more than 18 feet away from the ring. Feeling the rush of the Zoppé horses galloping by is an experience young and old will not soon forget. \nJoin us this holiday season for an unforgettable show where you will laugh\, you will cry\, and you will become part of our family. \nTickets go on sale October 9.\nPERFORMANCE SCHEDULE:\nThursday\, Nov. 9\, 6 p.m.\nFriday\, Nov. 10\, 7:30 pm\nSaturday\, Nov. 11\, 4:30 p.m. & 7:30 p.m.\nSunday\, Nov. 12\, 2:00 p.m. & 5:30 p.m.\nMonday\, Nov. 13\, 6:30 p.m.\nTuesday\, Nov. 14\, 6:30 p.m.\nWednesday\, Nov. 15\, 6:30 p.m.\nThursday\, Nov. 16\, 6:30 p.m.\nFriday\, Nov. 17\, 7:30 pm\nSaturday\, Nov. 18\, 4:30 p.m. & 7:30 p.m.\nSunday\, Nov. 19\, 2:00 p.m. & 5:30 p.m. \nFor more information visit piccolozoppe.com
URL:https://argentaartsdistrict.org/event/piccolo-zoppe-winter-circus/2023-11-09/
LOCATION:7th Street & Magnolia Street\, 256 Bishop Lindsey Ave\, North Little Rock\, Arkansas\, 72114
CATEGORIES:Live Performance
ATTACH;FMTTYPE=image/png:https://argentaartsdistrict.org/wp-content/uploads/2023/09/Website-Events_Air-Supply-2.png
END:VEVENT
BEGIN:VEVENT
DTSTART;TZID=America/Chicago:20230906T000000
DTEND;TZID=America/Chicago:20230910T000000
DTSTAMP:20260424T195542
CREATED:20230905T170310Z
LAST-MODIFIED:20230905T172218Z
UID:10000415-1693958400-1694304000@argentaartsdistrict.org
SUMMARY:Live at the Plaza  - Culture in the Community
DESCRIPTION:Performances are FREE and open to the public. \nSponsored by North Little Rock Tourism and the City of North Little Rock\, Ballet Arkansas Presents Live at the Plaza performances includes works of classical and contemporary dance by world-renowned choreographers and make use of the stage\, water features and open spaces in Argenta Plaza. \nFRIDAY & SATURDAY performances will coincide with Argenta Dogtown Throwdown\, during which Main Street will be closed for outdoor dining and entertainment. Plan to come early or stay after the performance! \nSCHEDULE:\nWednesday\, Sept. 6 – 7 p.m.\nThursday\, Sept. 7 – 7 p.m.\nFriday\, Sept. 8 – 7 p.m.\nSaturday\, Sept. 9 – 7 p.m.\nSunday\, Sept. 10 – 6 p.m.
URL:https://argentaartsdistrict.org/event/live-at-the-plaza-culture-in-the-community/
LOCATION:Argenta Plaza\, 510 N. Main St.\, North Little Rock\, AR\, 72114\, United States
CATEGORIES:Live Performance
ATTACH;FMTTYPE=image/png:https://argentaartsdistrict.org/wp-content/uploads/2023/09/Website-Events_Ballet.png
END:VEVENT
END:VCALENDAR