BEGIN:VCALENDAR
VERSION:2.0
PRODID:-//Argenta Arts District - ECPv6.15.20//NONSGML v1.0//EN
CALSCALE:GREGORIAN
METHOD:PUBLISH
X-ORIGINAL-URL:https://argentaartsdistrict.org
X-WR-CALDESC:Events for Argenta Arts District
REFRESH-INTERVAL;VALUE=DURATION:PT1H
X-Robots-Tag:noindex
X-PUBLISHED-TTL:PT1H
BEGIN:VTIMEZONE
TZID:America/Chicago
BEGIN:DAYLIGHT
TZOFFSETFROM:-0600
TZOFFSETTO:-0500
TZNAME:CDT
DTSTART:20210314T080000
END:DAYLIGHT
BEGIN:STANDARD
TZOFFSETFROM:-0500
TZOFFSETTO:-0600
TZNAME:CST
DTSTART:20211107T070000
END:STANDARD
BEGIN:DAYLIGHT
TZOFFSETFROM:-0600
TZOFFSETTO:-0500
TZNAME:CDT
DTSTART:20220313T080000
END:DAYLIGHT
BEGIN:STANDARD
TZOFFSETFROM:-0500
TZOFFSETTO:-0600
TZNAME:CST
DTSTART:20221106T070000
END:STANDARD
BEGIN:DAYLIGHT
TZOFFSETFROM:-0600
TZOFFSETTO:-0500
TZNAME:CDT
DTSTART:20230312T080000
END:DAYLIGHT
BEGIN:STANDARD
TZOFFSETFROM:-0500
TZOFFSETTO:-0600
TZNAME:CST
DTSTART:20231105T070000
END:STANDARD
BEGIN:DAYLIGHT
TZOFFSETFROM:-0600
TZOFFSETTO:-0500
TZNAME:CDT
DTSTART:20240310T080000
END:DAYLIGHT
BEGIN:STANDARD
TZOFFSETFROM:-0500
TZOFFSETTO:-0600
TZNAME:CST
DTSTART:20241103T070000
END:STANDARD
BEGIN:DAYLIGHT
TZOFFSETFROM:-0600
TZOFFSETTO:-0500
TZNAME:CDT
DTSTART:20250309T080000
END:DAYLIGHT
BEGIN:STANDARD
TZOFFSETFROM:-0500
TZOFFSETTO:-0600
TZNAME:CST
DTSTART:20251102T070000
END:STANDARD
BEGIN:DAYLIGHT
TZOFFSETFROM:-0600
TZOFFSETTO:-0500
TZNAME:CDT
DTSTART:20260308T080000
END:DAYLIGHT
BEGIN:STANDARD
TZOFFSETFROM:-0500
TZOFFSETTO:-0600
TZNAME:CST
DTSTART:20261101T070000
END:STANDARD
END:VTIMEZONE
BEGIN:VEVENT
DTSTART;TZID=America/Chicago:20250327T190000
DTEND;TZID=America/Chicago:20250327T190000
DTSTAMP:20260424T151707
CREATED:20250227T173217Z
LAST-MODIFIED:20250227T173217Z
UID:10000913-1743102000-1743102000@argentaartsdistrict.org
SUMMARY:Potluck & Poison Ivy: An Evening with David Ware
DESCRIPTION:David Ware has served as state historian and director of the Arkansas State Archives since January 2021. Before this\, he spent over 18 years as a historian of the Arkansas State Capitol.  He is a native of Washington\, DC\, grew up in Nebraska\, and earned his Ph.D. in American history from Arizona State University. His career has included academic and public history\, busking\, rough carpentry\, and an extended stretch in the oil patch.  He lives in Little Rock with his librarian-turned-archivist-turned-librarian wife\, daughter (when she is home from university)\, and their elderly Airedales in a small house filled with vintage model trains\, veteran musical instruments\, old cameras\, even older clocks\, and many books.
URL:https://argentaartsdistrict.org/event/potluck-poison-ivy-an-evening-with-david-ware/
LOCATION:The Joint\, 301 Main St #102\, North Little Rock\, AR\, 72114\, United States
CATEGORIES:Food,Live Performance,Storytelling
ATTACH;FMTTYPE=image/jpeg:https://argentaartsdistrict.org/wp-content/uploads/2025/02/porch-2-1-uai-1032x1032-1.jpg
END:VEVENT
BEGIN:VEVENT
DTSTART;TZID=America/Chicago:20241024T190000
DTEND;TZID=America/Chicago:20241024T190000
DTSTAMP:20260424T151707
CREATED:20240930T204605Z
LAST-MODIFIED:20240930T204605Z
UID:10000696-1729796400-1729796400@argentaartsdistrict.org
SUMMARY:Potluck & Poison Ivy: An Evening with Sybil Hampton
DESCRIPTION:Dr. Sybil Jordan Hampton\, a distinguished educator and advocate\, has held key roles in education and philanthropy. Her impactful work spans consulting\, public speaking\, and global engagements on racial equality. As one of the first African American graduates of Little Rock Central High School\, her personal experiences fuel discussions on inclusivity and social justice worldwide.
URL:https://argentaartsdistrict.org/event/potluck-poison-ivy-an-evening-with-sybil-hampton/
LOCATION:The Joint\, 301 Main St #102\, North Little Rock\, AR\, 72114\, United States
CATEGORIES:Food,Storytelling
ATTACH;FMTTYPE=image/jpeg:https://argentaartsdistrict.org/wp-content/uploads/2024/09/SybalHampton_f-uai-421x421-1.jpg
END:VEVENT
BEGIN:VEVENT
DTSTART;TZID=America/Chicago:20240912T193000
DTEND;TZID=America/Chicago:20240912T193000
DTSTAMP:20260424T151707
CREATED:20240830T165544Z
LAST-MODIFIED:20240830T165544Z
UID:10000663-1726169400-1726169400@argentaartsdistrict.org
SUMMARY:Potluck & Poison Ivy: tripliciti
DESCRIPTION:Piloted by world renowned guitar titan Andy McKee\, this fingerstyle supergroup includes rising stars Calum Graham and Trevor Gordon Hall\, culminating in a chemistry that captures the imagination and intellect of musicians and non-musicians alike.  Tripliciti pushes the edges of acoustic music through dizzying technical command of their instruments\, rich sonic textures\, memorable melodies and soulful arrangements\, offering an igniting live musical experience for audiences around the world that is real\, inviting\, lasting\, tangible and powerful. \nHaving each individually contributed to the standards of must-know Fingerstyle Guitar repertoire\, the merging of these 3 breath-taking solo performers into an electrifying live band leaves no aspect of the guitars’ potential out of reach.  The inspiration found in traveling as solo acts across the world performing thousands of concerts on various stages from castles in Luxembourg\, jazz clubs in Paris\, or sports arenas in Brisbane\, has merged into a wholly unique sound that blends flavors of Americana\, Jazz\, Flamenco\, New Age\, and Rock music ideals. With textures combining steel string guitars\, electric guitars\, high strung guitars\, low pitched baritone guitars\, and even a hybrid invention known as the “Kalimbatar”\, triplicitidoesn’t overcomplicate or indulge in the fretboard gymnastics for its own sake but carefully navigates these sounds with creativity\, curating every melody\, harmony and rhythm for the listener and guiding them into a fully immersive experience that must be heard and seen to be believed.  This is a celebration of the history and future of the most iconic instrument in the world still waiting for new sonic and compositional possibilities to be discovered.
URL:https://argentaartsdistrict.org/event/potluck-poison-ivy-tripliciti/
LOCATION:The Joint\, 301 Main St #102\, North Little Rock\, AR\, 72114\, United States
CATEGORIES:Food,Live Performance,Music
ATTACH;FMTTYPE=image/png:https://argentaartsdistrict.org/wp-content/uploads/2024/08/7-Tripliciti.png
END:VEVENT
BEGIN:VEVENT
DTSTART;TZID=America/Chicago:20240523T190000
DTEND;TZID=America/Chicago:20240523T190000
DTSTAMP:20260424T151707
CREATED:20240426T184648Z
LAST-MODIFIED:20240426T184648Z
UID:10000579-1716490800-1716490800@argentaartsdistrict.org
SUMMARY:Potluck & Poison Ivy: An Evening with Steve Davison & Finger Food
DESCRIPTION:Finger Food is a feast not only for guitar lovers\, but also for anyone with a passion for acoustic music. The guitarists perform “in the round” and trade songs and stories about their compositions and their approach to the guitar in a casual concert setting. The music focuses on contemporary instrumental American Fingerstyle Guitar with folk\, jazz\, Celtic\, classical and blues influences. \n  \nFULL BIO: \nThe guitarists are very different stylistically and these different styles contribute to an evening of broad musical tastes. They will play solo\, duets and trio work.  The guitarists also will be performing on some very unique custom built instruments and historic instruments. \nDanny Dozier is a legendary guitarist in the state of Arkansas. Danny’s solo performances showcase his wide range of guitar styles and his superb choice of material. He has performed at the Ozark Folk Center in many configurations over the years\, fronts the Danny Dozier Band at gigs around the state and the country and is the two-time winner of the Merle Travis Fingerstyle Guitar Championship at the Ozark Folk Center. Danny has just released a CD with fiddler extraordinaire and producer Tim Crouch. \nSteve Davison is a Little Rock guitarist who performs on the 6 and 12 string guitar. He tours the country with artists such as Ken Bonfield and Peter Janson. They have performed at acoustic venues around the country and shared the stage artist such as Larry Coryell\, Muriel Anderson\, Peter Janson\, Tim Farrell\, Dakota Dave Hull\, Ken Bonfield\, Doug Young\, Teja Gerken\, Tim Sparks and other guitarists.. Steve was also the winner of the 2005 Arkansas Acoustic Music Festival in the solo category and has been a featured artist on AETN Presents. Steve has performed at the Montreal Guitar Festival\, the Healdsburg Guitar Festival in California and the Memphis Guitar Festical in Tennessee. In 2015 Steve won the Ozark Folk Center\, Merle Travis Fingerstyle Guitar competition in the contemporary section. Steve was chosen Guitarist of the Year for 2019 by the Arkansas Country Music Associatio. More information about Steve is available at www.stevedavison.com \nMicky Rigby is an exceptional guitarist from Little Rock who has performed at multiple acoustic venues across the state. Micky was a runner up at the Merle Travis Fingerstyle Guitar Championship at the Ozark Folk Center and was a familiar face at Acoustic Sounds Café in the past in Little Rock. Micky has an extensive repertoire and is an accomplished player of the guitar and the banjo.
URL:https://argentaartsdistrict.org/event/potluck-poison-ivy-an-evening-with-steve-davison-finger-food/
LOCATION:The Joint\, 301 Main St #102\, North Little Rock\, AR\, 72114\, United States
CATEGORIES:Live Performance
ATTACH;FMTTYPE=image/jpeg:https://argentaartsdistrict.org/wp-content/uploads/2024/04/Finger_Food_Band.jpg
END:VEVENT
BEGIN:VEVENT
DTSTART;TZID=America/Chicago:20230223T190000
DTEND;TZID=America/Chicago:20230223T190000
DTSTAMP:20260424T151707
CREATED:20220926T170943Z
LAST-MODIFIED:20230630T155136Z
UID:10000073-1677178800-1677178800@argentaartsdistrict.org
SUMMARY:Potluck & Poison Ivy - An Evening with Dr. Jake Hertzog
DESCRIPTION:Dr. Jake Hertzog is a critically acclaimed guitarist\, composer and educator whose career to-date has spanned ten albums as bandleader across jazz\, rock and classical new music styles. He has toured throughout the U.S.\, Europe\, Latin America\, the Middle East and India and performed and recorded with a diverse cadre of artists including Randy Brecker\, Ivan Neville\, Mike Clarke\, Blondie Chaplin\, Anton Fig\, Corey Glover\, Barry Altschul\, Dave Leibman\, Ingrid Jensen and many others. \nDoors open at 6pm | $35 \nhttps://potluckandpoisonivy.org/an-evening-with-dr-jake-hertzog/
URL:https://argentaartsdistrict.org/event/potluck-poison-ivy-an-evening-with-dr-jake-hertzog/
LOCATION:The Joint\, 301 Main St #102\, North Little Rock\, AR\, 72114\, United States
CATEGORIES:Live Performance
END:VEVENT
BEGIN:VEVENT
DTSTART;TZID=America/Chicago:20221027T180000
DTEND;TZID=America/Chicago:20221027T180000
DTSTAMP:20260424T151707
CREATED:20220926T170717Z
LAST-MODIFIED:20220926T213502Z
UID:10000072-1666893600-1666893600@argentaartsdistrict.org
SUMMARY:Potluck & Poison Ivy - Torii Hunter
DESCRIPTION:Torii Hunter has established himself as one of the top Major League Baseball players. Torii is a five-time Major League All-Star and the recipient of nine consecutive Gold Glove Awards for his accomplishments on the baseball diamond. In July 2016\, Torii was inducted into the Minnesota Twins Hall of Fame. \nDoors open at 6pm  |  $35 \nhttps://potluckandpoisonivy.org/an-evening-with-torii-hunter/
URL:https://argentaartsdistrict.org/event/potluck-poison-ivy-torii-hunter/
LOCATION:The Joint\, 301 Main St #102\, North Little Rock\, AR\, 72114\, United States
CATEGORIES:Live Performance
END:VEVENT
END:VCALENDAR