BEGIN:VCALENDAR
VERSION:2.0
PRODID:-//Argenta Arts District - ECPv6.15.20//NONSGML v1.0//EN
CALSCALE:GREGORIAN
METHOD:PUBLISH
X-WR-CALNAME:Argenta Arts District
X-ORIGINAL-URL:https://argentaartsdistrict.org
X-WR-CALDESC:Events for Argenta Arts District
REFRESH-INTERVAL;VALUE=DURATION:PT1H
X-Robots-Tag:noindex
X-PUBLISHED-TTL:PT1H
BEGIN:VTIMEZONE
TZID:America/Chicago
BEGIN:DAYLIGHT
TZOFFSETFROM:-0600
TZOFFSETTO:-0500
TZNAME:CDT
DTSTART:20220313T080000
END:DAYLIGHT
BEGIN:STANDARD
TZOFFSETFROM:-0500
TZOFFSETTO:-0600
TZNAME:CST
DTSTART:20221106T070000
END:STANDARD
BEGIN:DAYLIGHT
TZOFFSETFROM:-0600
TZOFFSETTO:-0500
TZNAME:CDT
DTSTART:20230312T080000
END:DAYLIGHT
BEGIN:STANDARD
TZOFFSETFROM:-0500
TZOFFSETTO:-0600
TZNAME:CST
DTSTART:20231105T070000
END:STANDARD
BEGIN:DAYLIGHT
TZOFFSETFROM:-0600
TZOFFSETTO:-0500
TZNAME:CDT
DTSTART:20240310T080000
END:DAYLIGHT
BEGIN:STANDARD
TZOFFSETFROM:-0500
TZOFFSETTO:-0600
TZNAME:CST
DTSTART:20241103T070000
END:STANDARD
END:VTIMEZONE
BEGIN:VEVENT
DTSTART;TZID=America/Chicago:20231216T000000
DTEND;TZID=America/Chicago:20231216T000000
DTSTAMP:20260424T221942
CREATED:20231121T193011Z
LAST-MODIFIED:20231121T193011Z
UID:10000453-1702684800-1702684800@argentaartsdistrict.org
SUMMARY:Arkansas Razorbacks Women's & Men's Basketball
DESCRIPTION:TICKETS ON SALE NOW! \n(Plus applicable service charges)\nThere is a ticket limit of 8. \nTickets available at Simmons Bank Arena Box Office on Ticketmaster.com \nThe Arkansas Razorbacks Women’s Basketball Team will be playing against the Samford Bulldogs at 12:30PM. \nThe Arkansas Razorbacks Men’s Basketball Team will be playing against the Lipscomb Bisons at 5PM.
URL:https://argentaartsdistrict.org/event/arkansas-razorbacks-womens-mens-basketball/
LOCATION:Simmons Bank Arena\, 1 Simmons Bank Arena Drive\, North Little Rock\, AR\, 72114\, United States
ATTACH;FMTTYPE=image/png:https://argentaartsdistrict.org/wp-content/uploads/2023/11/Razorback-Basketball.png
END:VEVENT
END:VCALENDAR