BEGIN:VCALENDAR
VERSION:2.0
PRODID:-//Argenta Arts District - ECPv6.15.20//NONSGML v1.0//EN
CALSCALE:GREGORIAN
METHOD:PUBLISH
X-WR-CALNAME:Argenta Arts District
X-ORIGINAL-URL:https://argentaartsdistrict.org
X-WR-CALDESC:Events for Argenta Arts District
REFRESH-INTERVAL;VALUE=DURATION:PT1H
X-Robots-Tag:noindex
X-PUBLISHED-TTL:PT1H
BEGIN:VTIMEZONE
TZID:America/Chicago
BEGIN:DAYLIGHT
TZOFFSETFROM:-0600
TZOFFSETTO:-0500
TZNAME:CDT
DTSTART:20230312T080000
END:DAYLIGHT
BEGIN:STANDARD
TZOFFSETFROM:-0500
TZOFFSETTO:-0600
TZNAME:CST
DTSTART:20231105T070000
END:STANDARD
BEGIN:DAYLIGHT
TZOFFSETFROM:-0600
TZOFFSETTO:-0500
TZNAME:CDT
DTSTART:20240310T080000
END:DAYLIGHT
BEGIN:STANDARD
TZOFFSETFROM:-0500
TZOFFSETTO:-0600
TZNAME:CST
DTSTART:20241103T070000
END:STANDARD
BEGIN:DAYLIGHT
TZOFFSETFROM:-0600
TZOFFSETTO:-0500
TZNAME:CDT
DTSTART:20250309T080000
END:DAYLIGHT
BEGIN:STANDARD
TZOFFSETFROM:-0500
TZOFFSETTO:-0600
TZNAME:CST
DTSTART:20251102T070000
END:STANDARD
END:VTIMEZONE
BEGIN:VEVENT
DTSTART;TZID=America/Chicago:20240901T170000
DTEND;TZID=America/Chicago:20240901T220000
DTSTAMP:20260424T194351
CREATED:20240827T174151Z
LAST-MODIFIED:20240827T174151Z
UID:10000652-1725210000-1725228000@argentaartsdistrict.org
SUMMARY:Cigar Nights "Wear Anything But White" 6.0
DESCRIPTION:The Jingle Mingle – LR and Culture Cigar Lounge invite you to… \nCigars Nights “Wear anything but White ” Cocktail Party – Outside \nPerforming Live Dee Dee Jones \nSunday\, September 1st\, 2024 \n5P – 10:30P CST (Gates Open at 4P) \nAttire: Fashionable but “Wear Anything But White” \nOn-site Food vendors \nLawn Chairs are welcome in the designated area. \n** YOU CAN PURCHASE GENERAL ADMISSION TICKETS AT THE GATE** \nI.D REQUIRED 25+ To Enter NO EXCEPTIONS \nJoin us for an experience of non-stop music\, dancing\, and good vibes! \nA crossover of genres a fusion of cultures. including Jazz\, Pop\, Hip Hop\, AfroBeats\, R&B\, and Soca Music. \nFood Trucks I Bar I Cigars on site \nDoors open at 4 PM \nI.D REQUIRED \nClear Bag Policy
URL:https://argentaartsdistrict.org/event/cigar-nights-wear-anything-but-white-6-0/
LOCATION:Argenta Plaza\, 510 N. Main St.\, North Little Rock\, AR\, 72114\, United States
CATEGORIES:Food,Live Performance,Music
ATTACH;FMTTYPE=image/jpeg:https://argentaartsdistrict.org/wp-content/uploads/2024/08/562c26aa-e21e-4a36-aba8-5cad471e58a2.jpg
END:VEVENT
BEGIN:VEVENT
DTSTART;TZID=America/Chicago:20240526T170000
DTEND;TZID=America/Chicago:20240526T220000
DTSTAMP:20260424T194351
CREATED:20240426T185614Z
LAST-MODIFIED:20240426T185655Z
UID:10000583-1716742800-1716760800@argentaartsdistrict.org
SUMMARY:Cigar Nights with The Creme De La Creme featuring Eric Roberson
DESCRIPTION:Cigar Nights with The Creme De La Creme – A Soulful and Eclectic Cocktail Party Outside performing live Eric Roberson\nAttire: Cream\, White\, Grey\, and Nude hues\nSunday\, May 26th\, 5p in Argenta Plaza Downtown North Little Rock.\n25+ To Enter NO EXCEPTIONSVIP Sponsored by @unclenearest
URL:https://argentaartsdistrict.org/event/cigar-nights-with-the-creme-de-la-creme-featuring-eric-roberson/
LOCATION:Argenta Plaza\, 510 N. Main St.\, North Little Rock\, AR\, 72114\, United States
CATEGORIES:Food,Live Performance
ATTACH;FMTTYPE=image/jpeg:https://argentaartsdistrict.org/wp-content/uploads/2024/04/436544148_702269525447892_3662125759698945445_n.jpg
END:VEVENT
END:VCALENDAR