BEGIN:VCALENDAR
VERSION:2.0
PRODID:-//Argenta Arts District - ECPv6.15.20//NONSGML v1.0//EN
CALSCALE:GREGORIAN
METHOD:PUBLISH
X-ORIGINAL-URL:https://argentaartsdistrict.org
X-WR-CALDESC:Events for Argenta Arts District
REFRESH-INTERVAL;VALUE=DURATION:PT1H
X-Robots-Tag:noindex
X-PUBLISHED-TTL:PT1H
BEGIN:VTIMEZONE
TZID:America/Chicago
BEGIN:DAYLIGHT
TZOFFSETFROM:-0600
TZOFFSETTO:-0500
TZNAME:CDT
DTSTART:20210314T080000
END:DAYLIGHT
BEGIN:STANDARD
TZOFFSETFROM:-0500
TZOFFSETTO:-0600
TZNAME:CST
DTSTART:20211107T070000
END:STANDARD
BEGIN:DAYLIGHT
TZOFFSETFROM:-0600
TZOFFSETTO:-0500
TZNAME:CDT
DTSTART:20220313T080000
END:DAYLIGHT
BEGIN:STANDARD
TZOFFSETFROM:-0500
TZOFFSETTO:-0600
TZNAME:CST
DTSTART:20221106T070000
END:STANDARD
BEGIN:DAYLIGHT
TZOFFSETFROM:-0600
TZOFFSETTO:-0500
TZNAME:CDT
DTSTART:20230312T080000
END:DAYLIGHT
BEGIN:STANDARD
TZOFFSETFROM:-0500
TZOFFSETTO:-0600
TZNAME:CST
DTSTART:20231105T070000
END:STANDARD
BEGIN:DAYLIGHT
TZOFFSETFROM:-0600
TZOFFSETTO:-0500
TZNAME:CDT
DTSTART:20240310T080000
END:DAYLIGHT
BEGIN:STANDARD
TZOFFSETFROM:-0500
TZOFFSETTO:-0600
TZNAME:CST
DTSTART:20241103T070000
END:STANDARD
BEGIN:DAYLIGHT
TZOFFSETFROM:-0600
TZOFFSETTO:-0500
TZNAME:CDT
DTSTART:20250309T080000
END:DAYLIGHT
BEGIN:STANDARD
TZOFFSETFROM:-0500
TZOFFSETTO:-0600
TZNAME:CST
DTSTART:20251102T070000
END:STANDARD
END:VTIMEZONE
BEGIN:VEVENT
DTSTART;TZID=America/Chicago:20240606T200000
DTEND;TZID=America/Chicago:20240606T200000
DTSTAMP:20260424T220240
CREATED:20240531T173120Z
LAST-MODIFIED:20240531T173120Z
UID:10000594-1717704000-1717704000@argentaartsdistrict.org
SUMMARY:Stand Up Showdown
DESCRIPTION:Yes\, that’s right! This comedy show will feature fresh material that you haven’t heard before! It’s a great opportunity to witness the birth of some truly unforgettable jokes and have a night filled with laughter and endless entertainment! \n  \nFeaturing: Isaac Stracener\, Rob Rego\, Russell Rogers\, Kelly Collum\, Jared Lowry\, Alexi\, JJ Molinaro and Nick Moore. \n  \nDoors open at 7 pm. Showtime is 8 pm. $10 in advance/$15 at the door \n  \nOnline ticket sales will end at 6 pm the day of the event.
URL:https://argentaartsdistrict.org/event/stand-up-showdown/
LOCATION:The Joint\, 301 Main St #102\, North Little Rock\, AR\, 72114\, United States
CATEGORIES:Live Performance
ATTACH;FMTTYPE=image/webp:https://argentaartsdistrict.org/wp-content/uploads/2024/05/54cb0a_e7873e23e3d447428e1c313f345e39bdmv2.webp
END:VEVENT
BEGIN:VEVENT
DTSTART;TZID=America/Chicago:20240531T200000
DTEND;TZID=America/Chicago:20240629T200000
DTSTAMP:20260424T220240
CREATED:20240426T190902Z
LAST-MODIFIED:20240426T190902Z
UID:10000590-1717185600-1719691200@argentaartsdistrict.org
SUMMARY:The Main Thing-The Wizards Of Odd
DESCRIPTION:The Joint has the very best in live comedy entertainment\, featuring our resident professional comedy company…a world-class trio of actors and musicians known as The Main Thing. \nWhat is The Main Thing? It’s three people doing multiple comic characters and playing multiple musical instruments. It’s the singing Fertle family; it’s Arkansas satire. It’s sketch comedy and full-length plays. \nTheir work has been featured on Saturday Night Live\, MTV\, HBO\, Off-Broadway\, and on Dick Clark’s United Stations Radio Network. They now make their permanent home right here\, creating and performing original comedies year-round. We feel safe to say that The Main Thing’s shows will be the funniest live comedy you’ve ever seen!
URL:https://argentaartsdistrict.org/event/the-main-thing-the-wizards-of-odd/
LOCATION:The Joint\, 301 Main St #102\, North Little Rock\, AR\, 72114\, United States
CATEGORIES:Live Performance
ATTACH;FMTTYPE=image/webp:https://argentaartsdistrict.org/wp-content/uploads/2024/04/bannernew.webp
END:VEVENT
BEGIN:VEVENT
DTSTART;TZID=America/Chicago:20240530T180000
DTEND;TZID=America/Chicago:20240530T220000
DTSTAMP:20260424T220240
CREATED:20240426T190448Z
LAST-MODIFIED:20240530T200939Z
UID:10000589-1717092000-1717106400@argentaartsdistrict.org
SUMMARY:Taste of Argenta - Live Music\, Comedy and Food
DESCRIPTION:Nabholz Properties presents…Taste of Argenta! A fun four hour event featuring food from local restraunts\, energizing music from Cliff & Susan\, stand up comedy and lots and lots of giveaways! \nFood provided by local Argenta restaurants including Draft+Table\, BlackBerry Market\, Reno’s\, Skinny J’s\, Crush\, Brood & Barley\, Kamikaito\, Ristorante Capeo\, Ol Barts at Diamond Bear and Elks Lodge. \nBeer specials from local brewery\, Flyway. \nWe will have a raffle throughout the evening and be giving away gift cards from restaurants\, tickets to upcoming shows\, a $100 gift card to Natural State Ivy and one hour of studio time with video editing provided by Dream an’ Stream. \nMusic provided by Cliff & Susan. Cliff & Susan are not just a music duo; they’re an electrifying force that transcends genres\, captivating audiences worldwide. Brace yourself for an unforgettable experience as they take the stage from 8:00 – 10:00 pm. This dynamic\, married duo offers a high-octane\, interactive show that features Top 40 country\, rock\, oldies\, and blues spanning all decades. Boasting an impressive repertoire of over 2\,000 songs\, Cliff & Susan seamlessly weave in audience requests and their chart-topping original country music making each performance unique. \n  \nStand up comedy by Rob Rego and Bair. \nTickets are $15 (includes food from local restaurants and entertainment\, drinks not included) \n  \nFood available starting at 6 pm. \nMusic and comedy to start at 8 pm. \nDoors open at 6 pm. \nNabholz Properties \nhttps://www.susanerwin.com/
URL:https://argentaartsdistrict.org/event/cliff-susan-at-the-joint/
LOCATION:The Joint\, 301 Main St #102\, North Little Rock\, AR\, 72114\, United States
CATEGORIES:Live Performance
ATTACH;FMTTYPE=image/webp:https://argentaartsdistrict.org/wp-content/uploads/2024/04/54cb0a_a9e5e75c417941f6bd375c56bc49d614mv2.webp
END:VEVENT
BEGIN:VEVENT
DTSTART;TZID=America/Chicago:20240509T193000
DTEND;TZID=America/Chicago:20240509T193000
DTSTAMP:20260424T220240
CREATED:20240426T183917Z
LAST-MODIFIED:20240426T183917Z
UID:10000572-1715283000-1715283000@argentaartsdistrict.org
SUMMARY:Jazz at The Joint: Jim Snidero
DESCRIPTION:Grammy award-winning alto saxophonist\, composer and author Jim Snidero encapsulates what is both unique and compelling about jazz. Hailed as an “alto sax virtuoso” (Downbeat) with “mind-boggling” improvisation skills (The Guardian)\, and “an alto saxophone sound that is one of the richest and purest on the planet” (Stereophile)\, he has amassed over 16 million streams on Spotify and Apple music presenting acoustic jazz of the highest caliber\, including his 2021 album Live at the Deer Head Inn\, (Savant) receiving a 5-star masterpiece review in Downbeat magazine.
URL:https://argentaartsdistrict.org/event/jazz-at-the-joint-jim-snidero/
LOCATION:The Joint\, 301 Main St #102\, North Little Rock\, AR\, 72114\, United States
CATEGORIES:Live Performance
ATTACH;FMTTYPE=image/jpeg:https://argentaartsdistrict.org/wp-content/uploads/2024/04/IMG_0798-uai-1284x1284-1.jpg
END:VEVENT
BEGIN:VEVENT
DTSTART;TZID=America/Chicago:20240411T193000
DTEND;TZID=America/Chicago:20240411T193000
DTSTAMP:20260424T220240
CREATED:20240227T195019Z
LAST-MODIFIED:20240227T195019Z
UID:10000551-1712863800-1712863800@argentaartsdistrict.org
SUMMARY:Jazz at The Joint: Steve Masakowski
DESCRIPTION:Steve Masakowski has long been regarded as one of the finest jazz guitarists from New Orleans. His experience as a recording artist and jazz soloist is extensive. He has recorded five compact discs under his own name to date\, including his latest\, For Joe. As a jazz soloist\, he has been invited to record on over twenty-six albums as well as accompany many noted jazz musicians including Nicholas Payton\, Mose Allison\, Dave Liebman and Ellis Marsalis.
URL:https://argentaartsdistrict.org/event/jazz-at-the-joint-steve-masakowski/
LOCATION:The Joint\, 301 Main St #102\, North Little Rock\, AR\, 72114\, United States
CATEGORIES:Live Performance
ATTACH;FMTTYPE=image/png:https://argentaartsdistrict.org/wp-content/uploads/2024/01/WEBSITE-PLACEHOLDER.png
END:VEVENT
BEGIN:VEVENT
DTSTART;TZID=America/Chicago:20240314T193000
DTEND;TZID=America/Chicago:20240314T193000
DTSTAMP:20260424T220240
CREATED:20240227T190347Z
LAST-MODIFIED:20240227T190354Z
UID:10000536-1710444600-1710444600@argentaartsdistrict.org
SUMMARY:Jazz at The Joint: Matt Otto
DESCRIPTION:March 14\, 2024\n7:30pm\n301 Main Street\nNorth Little Rock\, AR 72114 \nMatt Otto is currently the Associate Professor of Jazz Studies at Kansas University (KU) teaching Jazz Theory and Performance\, Jazz Combo 1 and private lessons. Matt was also an Adjunct Professor at the Rutgers New Brunswick teaching online courses in jazz improvisation\, theory and performance.
URL:https://argentaartsdistrict.org/event/jazz-at-the-joint-matt-otto/
LOCATION:The Joint\, 301 Main St #102\, North Little Rock\, AR\, 72114\, United States
CATEGORIES:Live Performance
ATTACH;FMTTYPE=image/png:https://argentaartsdistrict.org/wp-content/uploads/2024/02/Jazz-At-The-Joint-Matt-Otto.png
END:VEVENT
BEGIN:VEVENT
DTSTART;TZID=America/Chicago:20240301T200000
DTEND;TZID=America/Chicago:20240330T220000
DTSTAMP:20260424T220240
CREATED:20240227T185118Z
LAST-MODIFIED:20240227T185127Z
UID:10000532-1709323200-1711836000@argentaartsdistrict.org
SUMMARY:The Main Thing: Uncle Dan's 6-Legged Comedy Show
DESCRIPTION:The Joint has the very best in live comedy entertainment\, featuring our resident professional comedy company…a world-class trio of actors and musicians known as The Main Thing. \nWhat is The Main Thing? It’s three people doing multiple comic characters and playing multiple musical instruments. It’s the singing Fertle family; it’s Arkansas satire. It’s sketch comedy and full length plays. \nTheir work has been featured on Saturday Night Live\, MTV\, HBO\, Off-Broadway\, and on Dick Clark’s United Stations Radio Network. They now make their permanent home right here\, creating and performing original comedies year-round. We feel safe to say that The Main Thing’s shows will be the funniest live comedy you’ve ever seen!
URL:https://argentaartsdistrict.org/event/the-main-thing-uncle-dans-6-legged-comedy-show/
LOCATION:The Joint\, 301 Main St #102\, North Little Rock\, AR\, 72114\, United States
CATEGORIES:Live Performance
ATTACH;FMTTYPE=image/png:https://argentaartsdistrict.org/wp-content/uploads/2024/02/Screenshot-2024-02-27-at-11.50.40-AM.png
END:VEVENT
BEGIN:VEVENT
DTSTART;TZID=America/Chicago:20230814T193000
DTEND;TZID=America/Chicago:20230814T193000
DTSTAMP:20260424T220240
CREATED:20230630T145104Z
LAST-MODIFIED:20230729T165928Z
UID:10000218-1692041400-1692041400@argentaartsdistrict.org
SUMMARY:Jazz at the Joint — JOCELYN GOULD
DESCRIPTION:2021 JUNO Award winner Jocelyn Gould has been called “a leader in the next generation of great mainstream jazz guitarists” by Howard Paul\, CEO of Benedetto Guitars. Her joyful energy has captivated audiences around the world and her passion for music is as infectious as her unique ability to connect with audiences.
URL:https://argentaartsdistrict.org/event/jazz-at-the-joint-jocelyn-gould/
LOCATION:The Joint\, 301 Main St #102\, North Little Rock\, AR\, 72114\, United States
CATEGORIES:Live Performance
ATTACH;FMTTYPE=image/jpeg:https://argentaartsdistrict.org/wp-content/uploads/2023/06/JOC-GOULD.jpg
END:VEVENT
BEGIN:VEVENT
DTSTART;TZID=America/Chicago:20230710T193000
DTEND;TZID=America/Chicago:20230710T210000
DTSTAMP:20260424T220240
CREATED:20230630T141925Z
LAST-MODIFIED:20230630T153528Z
UID:10000211-1689017400-1689022800@argentaartsdistrict.org
SUMMARY:Jazz at the Joint - PAT BIANCHI
DESCRIPTION:Grammy nominated organist\, winner of Downbeat Magazine’s 2016 rising star poll and Hot House magazine’s 2019 poll\, Pat Bianchi has established himself as one of the premier organists on the international scene today. His command of the instrument\, harmonic prowess\, rhythmic intensity and versatility are rivaled by few. Bianchi has had the honor of being a long time member of jazz guitar icon\, Pat Martino’s trio and also performed with NEA Jazz Master and saxophone legend\, Lou Donaldson’s quartet for a number of years as well. \nPurchase tickets at https://jazzatthejoint.org/tickets/
URL:https://argentaartsdistrict.org/event/jazz-at-the-joint-pat-bianchi/
LOCATION:The Joint\, 301 Main St #102\, North Little Rock\, AR\, 72114\, United States
CATEGORIES:Live Performance
END:VEVENT
BEGIN:VEVENT
DTSTART;TZID=America/Chicago:20221114T193000
DTEND;TZID=America/Chicago:20221114T193000
DTSTAMP:20260424T220240
CREATED:20220926T181357Z
LAST-MODIFIED:20220926T211753Z
UID:10000197-1668454200-1668454200@argentaartsdistrict.org
SUMMARY:Jazz at the Joint - Tom Vaitsas\, Piano
DESCRIPTION:We are pleased to announce the new season for Jazz At The Joint\, a monthly jazz series featuring some of the finest jazz artists in the country. Doors 6:30 pm\, $30. \nTom started playing professionally in Chicago in 1992 while working on his B.A and Music Education degrees at NIU. Although school was a great experience\, nothing compared to the knowledge and inspiration received from Chicago’s south side scene and musicians where he often got to be around and learn from legendary jazz saxophonist Von Freeman. 2000-2008 was a period of European tours with blues legends Lurie and Carrie Bell while also performing in Chicago in between trips. He has performed concerts with jazz greats Von Freeman and Dee Dee Bridgewater and continues to perform at concerts and clubs in and out of Chicago with various groups. \nPurchase tickets at https://jazzatthejoint.org/tickets/
URL:https://argentaartsdistrict.org/event/jazz-at-the-joint-tom-vaitsas-piano/
LOCATION:The Joint\, 301 Main St #102\, North Little Rock\, AR\, 72114\, United States
CATEGORIES:Live Performance
END:VEVENT
BEGIN:VEVENT
DTSTART;TZID=America/Chicago:20221010T193000
DTEND;TZID=America/Chicago:20221010T193000
DTSTAMP:20260424T220240
CREATED:20220926T164730Z
LAST-MODIFIED:20220926T213510Z
UID:10000069-1665430200-1665430200@argentaartsdistrict.org
SUMMARY:Jazz at the Joint - Tim Fitzgerald\, Guitar
DESCRIPTION:We are pleased to announce the new season for Jazz At The Joint\, a monthly jazz series featuring some of the finest jazz artists in the country. Doors 6:30 pm\, $30. \nPurchase tickets at https://jazzatthejoint.org/tickets/
URL:https://argentaartsdistrict.org/event/jazz-at-the-joint-tim-fitzgerald/
LOCATION:The Joint\, 301 Main St #102\, North Little Rock\, AR\, 72114\, United States
CATEGORIES:Live Performance
END:VEVENT
BEGIN:VEVENT
DTSTART;TZID=America/Chicago:20221006T200000
DTEND;TZID=America/Chicago:20221006T200000
DTSTAMP:20260424T220240
CREATED:20220926T164203Z
LAST-MODIFIED:20220926T214054Z
UID:10000068-1665086400-1665086400@argentaartsdistrict.org
SUMMARY:Laughs On Tap Stand-Up Comedy Showcase
DESCRIPTION:On the first Thursday of each month we’ve got our Laughs On Tap Stand-Up Comedy Showcase featuring 7 Comics for just $5! Come out to support the funniest local and out of town comedians. Don’t miss out on a hilarious night at The Joint! \nOnly $5 at the door! \nhttps://www.thejointargenta.com/schedule
URL:https://argentaartsdistrict.org/event/laughs-on-tap-stand-up-comedy-showcase/
LOCATION:The Joint\, 301 Main St #102\, North Little Rock\, AR\, 72114\, United States
CATEGORIES:Live Performance
END:VEVENT
BEGIN:VEVENT
DTSTART;TZID=America/Chicago:20221003T190000
DTEND;TZID=America/Chicago:20221003T190000
DTSTAMP:20260424T220240
CREATED:20220926T163627Z
LAST-MODIFIED:20220926T214011Z
UID:10000067-1664823600-1664823600@argentaartsdistrict.org
SUMMARY:NSAI Songwriter Showcase
DESCRIPTION:The Joint will host six local Songwriters the first Monday of the month starting at 7pm. We will have two sets of an “in-the-round” format with songwriters sharing their original songs. There will be a $5 cover at the door. Come out and support area writers while hearing some great music! \n$5 cover at the door. \nhttps://www.thejointargenta.com/schedule
URL:https://argentaartsdistrict.org/event/nsai-songwriter-showcase/
LOCATION:The Joint\, 301 Main St #102\, North Little Rock\, AR\, 72114\, United States
CATEGORIES:Live Performance
END:VEVENT
END:VCALENDAR