BEGIN:VCALENDAR
VERSION:2.0
PRODID:-//Argenta Arts District - ECPv6.15.20//NONSGML v1.0//EN
CALSCALE:GREGORIAN
METHOD:PUBLISH
X-ORIGINAL-URL:https://argentaartsdistrict.org
X-WR-CALDESC:Events for Argenta Arts District
REFRESH-INTERVAL;VALUE=DURATION:PT1H
X-Robots-Tag:noindex
X-PUBLISHED-TTL:PT1H
BEGIN:VTIMEZONE
TZID:America/Chicago
BEGIN:DAYLIGHT
TZOFFSETFROM:-0600
TZOFFSETTO:-0500
TZNAME:CDT
DTSTART:20220313T080000
END:DAYLIGHT
BEGIN:STANDARD
TZOFFSETFROM:-0500
TZOFFSETTO:-0600
TZNAME:CST
DTSTART:20221106T070000
END:STANDARD
BEGIN:DAYLIGHT
TZOFFSETFROM:-0600
TZOFFSETTO:-0500
TZNAME:CDT
DTSTART:20230312T080000
END:DAYLIGHT
BEGIN:STANDARD
TZOFFSETFROM:-0500
TZOFFSETTO:-0600
TZNAME:CST
DTSTART:20231105T070000
END:STANDARD
BEGIN:DAYLIGHT
TZOFFSETFROM:-0600
TZOFFSETTO:-0500
TZNAME:CDT
DTSTART:20240310T080000
END:DAYLIGHT
BEGIN:STANDARD
TZOFFSETFROM:-0500
TZOFFSETTO:-0600
TZNAME:CST
DTSTART:20241103T070000
END:STANDARD
END:VTIMEZONE
BEGIN:VEVENT
DTSTART;TZID=America/Chicago:20231019T193000
DTEND;TZID=America/Chicago:20231019T193000
DTSTAMP:20260424T224510
CREATED:20230905T174719Z
LAST-MODIFIED:20230905T174719Z
UID:10000433-1697743800-1697743800@argentaartsdistrict.org
SUMMARY:Argenta Acoustic Music Series — Pat Kirtley
DESCRIPTION:Currently Kirtley tours in the USA and internationally\, for concerts\, guitar workshops and music camps\, producing videos and keeping several recording projects running. He co-authored a book about home recording and writes articles for guitar magazines about guitar technique\, recording and other related topics\, in magazines such as Electronic Musician\, Acoustic Guitar\, Onstage\, Home Recording\, and Wood & Steel\, as well as in the German magazine Akustik Gitarre. \nOctober 19\, 2023\n7:30pm\n 301 Main Street\nNorth Little Rock\, AR 72114
URL:https://argentaartsdistrict.org/event/argenta-acoustic-music-series-pat-kirtley/
LOCATION:301 Main Street\, 301 Main Street\, North Little Rock\, Arkansas\, 72114
CATEGORIES:Live Performance
ATTACH;FMTTYPE=image/png:https://argentaartsdistrict.org/wp-content/uploads/2023/09/Website-Events_Pat-Kirtley.png
END:VEVENT
END:VCALENDAR