BEGIN:VCALENDAR
VERSION:2.0
PRODID:-//Argenta Arts District - ECPv6.15.20//NONSGML v1.0//EN
CALSCALE:GREGORIAN
METHOD:PUBLISH
X-WR-CALNAME:Argenta Arts District
X-ORIGINAL-URL:https://argentaartsdistrict.org
X-WR-CALDESC:Events for Argenta Arts District
REFRESH-INTERVAL;VALUE=DURATION:PT1H
X-Robots-Tag:noindex
X-PUBLISHED-TTL:PT1H
BEGIN:VTIMEZONE
TZID:America/Chicago
BEGIN:DAYLIGHT
TZOFFSETFROM:-0600
TZOFFSETTO:-0500
TZNAME:CDT
DTSTART:20220313T080000
END:DAYLIGHT
BEGIN:STANDARD
TZOFFSETFROM:-0500
TZOFFSETTO:-0600
TZNAME:CST
DTSTART:20221106T070000
END:STANDARD
BEGIN:DAYLIGHT
TZOFFSETFROM:-0600
TZOFFSETTO:-0500
TZNAME:CDT
DTSTART:20230312T080000
END:DAYLIGHT
BEGIN:STANDARD
TZOFFSETFROM:-0500
TZOFFSETTO:-0600
TZNAME:CST
DTSTART:20231105T070000
END:STANDARD
BEGIN:DAYLIGHT
TZOFFSETFROM:-0600
TZOFFSETTO:-0500
TZNAME:CDT
DTSTART:20240310T080000
END:DAYLIGHT
BEGIN:STANDARD
TZOFFSETFROM:-0500
TZOFFSETTO:-0600
TZNAME:CST
DTSTART:20241103T070000
END:STANDARD
END:VTIMEZONE
BEGIN:VEVENT
DTSTART;TZID=America/Chicago:20231014T090000
DTEND;TZID=America/Chicago:20231014T120000
DTSTAMP:20260424T195456
CREATED:20230927T200010Z
LAST-MODIFIED:20230927T224255Z
UID:10000449-1697274000-1697284800@argentaartsdistrict.org
SUMMARY:Blessing of the Animals  At the Dogtown Throwdown
DESCRIPTION:Date: Saturday Oct. 14\nTime: 9am-12pm. Blessings at 10am\nWhere: Main Street between Broadway & 4th Streets\nArgenta United Methodist Church 317 Main Street\nBlackberry Market 315 Main Street  \nAdopt a pet with  – North Little Rock Animal Shelter\nDonations of Pet Food for NLR Animal Shelter Appreciated  \nCo-hosts:\nArgenta Arts District:\nArgenta United Methodist Church\nNorth Little Rock Animal Shelter\nDogtowne Drygoods
URL:https://argentaartsdistrict.org/event/blessing-of-the-animals-at-the-dogtown-throwdown/
LOCATION:Argenta United Methodist Church\, 317 Main Street
ATTACH;FMTTYPE=image/png:https://argentaartsdistrict.org/wp-content/uploads/2023/09/Website-Events_Pet-Blessing.png
END:VEVENT
END:VCALENDAR