BEGIN:VCALENDAR
VERSION:2.0
PRODID:-//Argenta Arts District - ECPv6.15.20//NONSGML v1.0//EN
CALSCALE:GREGORIAN
METHOD:PUBLISH
X-WR-CALNAME:Argenta Arts District
X-ORIGINAL-URL:https://argentaartsdistrict.org
X-WR-CALDESC:Events for Argenta Arts District
REFRESH-INTERVAL;VALUE=DURATION:PT1H
X-Robots-Tag:noindex
X-PUBLISHED-TTL:PT1H
BEGIN:VTIMEZONE
TZID:America/Chicago
BEGIN:DAYLIGHT
TZOFFSETFROM:-0600
TZOFFSETTO:-0500
TZNAME:CDT
DTSTART:20220313T080000
END:DAYLIGHT
BEGIN:STANDARD
TZOFFSETFROM:-0500
TZOFFSETTO:-0600
TZNAME:CST
DTSTART:20221106T070000
END:STANDARD
BEGIN:DAYLIGHT
TZOFFSETFROM:-0600
TZOFFSETTO:-0500
TZNAME:CDT
DTSTART:20230312T080000
END:DAYLIGHT
BEGIN:STANDARD
TZOFFSETFROM:-0500
TZOFFSETTO:-0600
TZNAME:CST
DTSTART:20231105T070000
END:STANDARD
BEGIN:DAYLIGHT
TZOFFSETFROM:-0600
TZOFFSETTO:-0500
TZNAME:CDT
DTSTART:20240310T080000
END:DAYLIGHT
BEGIN:STANDARD
TZOFFSETFROM:-0500
TZOFFSETTO:-0600
TZNAME:CST
DTSTART:20241103T070000
END:STANDARD
END:VTIMEZONE
BEGIN:VEVENT
DTSTART;TZID=America/Chicago:20231007T120000
DTEND;TZID=America/Chicago:20231007T200000
DTSTAMP:20260424T192645
CREATED:20230906T195433Z
LAST-MODIFIED:20230906T195519Z
UID:10000435-1696680000-1696708800@argentaartsdistrict.org
SUMMARY:Faucette Festival
DESCRIPTION:GibbsDisco Presents: Faucette Festivals\n-Free-Family-Music-Fun- \nPerformances By:\nTBA \nThis is our final event of the 2023 season of Faucette Festivals\, three years going strong!\nThis is a community event; all are welcome and invited. \nFeel free to bring your own food and drinks along with a chair/blanket to kick back and relax at the park and enjoy the music. \nGood vibes and high standards\, please. Keep our parks clean and our community strong! Donations are appreciated to ensure the sustainability of this free event.\n**Multi-tier sponsorship opportunities are available for local business. **
URL:https://argentaartsdistrict.org/event/faucette-festival/
LOCATION:Faucette Park\, 100 Riverfront Pl\, North Little Rock\, Ark
CATEGORIES:Food,Live Performance
ATTACH;FMTTYPE=image/png:https://argentaartsdistrict.org/wp-content/uploads/2023/09/Website-Events_Faucette.png
END:VEVENT
END:VCALENDAR