BEGIN:VCALENDAR
VERSION:2.0
PRODID:-//Argenta Arts District - ECPv6.15.20//NONSGML v1.0//EN
CALSCALE:GREGORIAN
METHOD:PUBLISH
X-WR-CALNAME:Argenta Arts District
X-ORIGINAL-URL:https://argentaartsdistrict.org
X-WR-CALDESC:Events for Argenta Arts District
REFRESH-INTERVAL;VALUE=DURATION:PT1H
X-Robots-Tag:noindex
X-PUBLISHED-TTL:PT1H
BEGIN:VTIMEZONE
TZID:America/Chicago
BEGIN:DAYLIGHT
TZOFFSETFROM:-0600
TZOFFSETTO:-0500
TZNAME:CDT
DTSTART:20210314T080000
END:DAYLIGHT
BEGIN:STANDARD
TZOFFSETFROM:-0500
TZOFFSETTO:-0600
TZNAME:CST
DTSTART:20211107T070000
END:STANDARD
BEGIN:DAYLIGHT
TZOFFSETFROM:-0600
TZOFFSETTO:-0500
TZNAME:CDT
DTSTART:20220313T080000
END:DAYLIGHT
BEGIN:STANDARD
TZOFFSETFROM:-0500
TZOFFSETTO:-0600
TZNAME:CST
DTSTART:20221106T070000
END:STANDARD
BEGIN:DAYLIGHT
TZOFFSETFROM:-0600
TZOFFSETTO:-0500
TZNAME:CDT
DTSTART:20230312T080000
END:DAYLIGHT
BEGIN:STANDARD
TZOFFSETFROM:-0500
TZOFFSETTO:-0600
TZNAME:CST
DTSTART:20231105T070000
END:STANDARD
BEGIN:DAYLIGHT
TZOFFSETFROM:-0600
TZOFFSETTO:-0500
TZNAME:CDT
DTSTART:20240310T080000
END:DAYLIGHT
BEGIN:STANDARD
TZOFFSETFROM:-0500
TZOFFSETTO:-0600
TZNAME:CST
DTSTART:20241103T070000
END:STANDARD
BEGIN:DAYLIGHT
TZOFFSETFROM:-0600
TZOFFSETTO:-0500
TZNAME:CDT
DTSTART:20250309T080000
END:DAYLIGHT
BEGIN:STANDARD
TZOFFSETFROM:-0500
TZOFFSETTO:-0600
TZNAME:CST
DTSTART:20251102T070000
END:STANDARD
END:VTIMEZONE
BEGIN:VEVENT
DTSTART;TZID=America/Chicago:20240330T213000
DTEND;TZID=America/Chicago:20240330T213000
DTSTAMP:20260424T193611
CREATED:20240227T191518Z
LAST-MODIFIED:20240227T191518Z
UID:10000542-1711834200-1711834200@argentaartsdistrict.org
SUMMARY:Chris Combs Trio at Four Quarter Bar
DESCRIPTION:9:30 PM\n$8 Cover
URL:https://argentaartsdistrict.org/event/chris-combs-trio-at-four-quarter-bar/
LOCATION:Four Quarter Bar\, 415 Main St\, North Little Rock\, AR\, 72114\, United States
CATEGORIES:Live Performance
ATTACH;FMTTYPE=image/jpeg:https://argentaartsdistrict.org/wp-content/uploads/2024/02/Chris-Combs.jpeg
END:VEVENT
BEGIN:VEVENT
DTSTART;TZID=America/Chicago:20240329T213000
DTEND;TZID=America/Chicago:20240329T213000
DTSTAMP:20260424T193611
CREATED:20240227T191320Z
LAST-MODIFIED:20240227T191325Z
UID:10000541-1711747800-1711747800@argentaartsdistrict.org
SUMMARY:Big Damn Horns at Four Quarter Bar
DESCRIPTION:9:30 PM\n$10 Cover
URL:https://argentaartsdistrict.org/event/big-damn-horns-at-four-quarter-bar/
LOCATION:Four Quarter Bar\, 415 Main St\, North Little Rock\, AR\, 72114\, United States
CATEGORIES:Live Performance
ATTACH;FMTTYPE=image/png:https://argentaartsdistrict.org/wp-content/uploads/2023/12/Website-Events_Big-Dam-Horns.png
END:VEVENT
BEGIN:VEVENT
DTSTART;TZID=America/Chicago:20240323T213000
DTEND;TZID=America/Chicago:20240323T213000
DTSTAMP:20260424T193611
CREATED:20240227T191150Z
LAST-MODIFIED:20240227T191155Z
UID:10000540-1711229400-1711229400@argentaartsdistrict.org
SUMMARY:Joe and the Feels at Four Quarter Bar
DESCRIPTION:9:30 PM\n$8 Cover
URL:https://argentaartsdistrict.org/event/joe-and-the-feels-at-four-quarter-bar/
LOCATION:Four Quarter Bar\, 415 Main St\, North Little Rock\, AR\, 72114\, United States
CATEGORIES:Live Performance
ATTACH;FMTTYPE=image/jpeg:https://argentaartsdistrict.org/wp-content/uploads/2024/02/Joe-and-the-Feels.jpeg
END:VEVENT
BEGIN:VEVENT
DTSTART;TZID=America/Chicago:20240322T213000
DTEND;TZID=America/Chicago:20240322T213000
DTSTAMP:20260424T193611
CREATED:20240227T191004Z
LAST-MODIFIED:20240227T191011Z
UID:10000539-1711143000-1711143000@argentaartsdistrict.org
SUMMARY:Tina Cossey at Four Quarter Bar
DESCRIPTION:9:30 PM\n$8 Cover
URL:https://argentaartsdistrict.org/event/tina-cossey-at-four-quarter-bar/
LOCATION:Four Quarter Bar\, 415 Main St\, North Little Rock\, AR\, 72114\, United States
CATEGORIES:Live Performance
ATTACH;FMTTYPE=image/jpeg:https://argentaartsdistrict.org/wp-content/uploads/2024/02/Tina-Cossey.jpeg
END:VEVENT
BEGIN:VEVENT
DTSTART;TZID=America/Chicago:20240316T213000
DTEND;TZID=America/Chicago:20240316T213000
DTSTAMP:20260424T193611
CREATED:20240227T190747Z
LAST-MODIFIED:20240227T190753Z
UID:10000538-1710624600-1710624600@argentaartsdistrict.org
SUMMARY:The Crumbs at Four Quarter Bar
DESCRIPTION:9:30 PM\n$8 Cover
URL:https://argentaartsdistrict.org/event/the-crumbs-at-four-quarter-bar/
LOCATION:Four Quarter Bar\, 415 Main St\, North Little Rock\, AR\, 72114\, United States
CATEGORIES:Live Performance
ATTACH;FMTTYPE=image/jpeg:https://argentaartsdistrict.org/wp-content/uploads/2024/02/The-Crumbs.jpeg
END:VEVENT
BEGIN:VEVENT
DTSTART;TZID=America/Chicago:20240315T213000
DTEND;TZID=America/Chicago:20240315T213000
DTSTAMP:20260424T193611
CREATED:20240227T190609Z
LAST-MODIFIED:20240227T190620Z
UID:10000537-1710538200-1710538200@argentaartsdistrict.org
SUMMARY:Stillhouse Junkies at Four Quarter Bar
DESCRIPTION:A crowd-thrilling trio from the hills of Colorado\, Stillhouse Junkies share the kind of strangely charmed chemistry that elevates both artist and audience alike. Since forming in 2017\, the Durango-bred band have offered up a hypnotic and high-energy form of roots music anchored in the free-flowing interplay among the three lifelong musicians (Fred Kosak on guitar and mandolin\, Cody Tinnin on upright bass\, Alissa Wolf on fiddle). While they’ve gained major traction in the bluegrass world in recent years — including winning the IBMA Momentum Band of the Year award in 2021 — Stillhouse Junkies ultimately inhabit a genre-blurring and subtly inventive sound informed by everything from blues to classical to Texas swing. When matched with their nuanced songcraft and soul-stirring harmonies\, the result is a one-of-a-kind musical experience that immediately transports the listener into a more enchanted state of mind.
URL:https://argentaartsdistrict.org/event/stillhouse-junkies-at-four-quarter-bar/
LOCATION:Four Quarter Bar\, 415 Main St\, North Little Rock\, AR\, 72114\, United States
CATEGORIES:Live Performance
ATTACH;FMTTYPE=image/jpeg:https://argentaartsdistrict.org/wp-content/uploads/2024/02/Stillhouse-Junkies.jpeg
END:VEVENT
BEGIN:VEVENT
DTSTART;TZID=America/Chicago:20240309T213000
DTEND;TZID=America/Chicago:20240309T213000
DTSTAMP:20260424T193611
CREATED:20240227T190134Z
LAST-MODIFIED:20240227T190140Z
UID:10000535-1710019800-1710019800@argentaartsdistrict.org
SUMMARY:Mojo Depot at Four Quarter Bar
DESCRIPTION:9:30 PM\n$8 cover
URL:https://argentaartsdistrict.org/event/mojo-depot-at-four-quarter-bar/
LOCATION:Four Quarter Bar\, 415 Main St\, North Little Rock\, AR\, 72114\, United States
CATEGORIES:Live Performance
ATTACH;FMTTYPE=image/jpeg:https://argentaartsdistrict.org/wp-content/uploads/2024/02/Mojo-Depot.jpeg
END:VEVENT
BEGIN:VEVENT
DTSTART;TZID=America/Chicago:20240302T213000
DTEND;TZID=America/Chicago:20240302T213000
DTSTAMP:20260424T193611
CREATED:20240227T185656Z
LAST-MODIFIED:20240227T185703Z
UID:10000534-1709415000-1709415000@argentaartsdistrict.org
SUMMARY:Jenna and the Soul Shakers at Four Quarter Bar
DESCRIPTION:9:30 PM\n$8 Cover
URL:https://argentaartsdistrict.org/event/jenna-and-the-soul-shakers-at-four-quarter-bar/
LOCATION:Four Quarter Bar\, 415 Main St\, North Little Rock\, AR\, 72114\, United States
CATEGORIES:Live Performance
ATTACH;FMTTYPE=image/jpeg:https://argentaartsdistrict.org/wp-content/uploads/2024/02/Jenna-and-the-Soul-Shakers.jpeg
END:VEVENT
BEGIN:VEVENT
DTSTART;TZID=America/Chicago:20240301T213000
DTEND;TZID=America/Chicago:20240301T213000
DTSTAMP:20260424T193611
CREATED:20240227T184749Z
LAST-MODIFIED:20240227T184757Z
UID:10000531-1709328600-1709328600@argentaartsdistrict.org
SUMMARY:Grits & Greens at Four Quarter Bar
DESCRIPTION:Grits & Greens is a powerful four piece best described as rock and roll with a soulful and jam-heavy delivery.\n.\nLISTEN HERE: https://linktr.ee/gritsandgreens\n.\n#eatyourgreens #haveabowl
URL:https://argentaartsdistrict.org/event/grits-greens-at-four-quarter-bar/
LOCATION:Four Quarter Bar\, 415 Main St\, North Little Rock\, AR\, 72114\, United States
CATEGORIES:Live Performance
ATTACH;FMTTYPE=image/jpeg:https://argentaartsdistrict.org/wp-content/uploads/2024/02/Grits-and-Greens.jpeg
END:VEVENT
BEGIN:VEVENT
DTSTART;TZID=America/Chicago:20240126T213000
DTEND;TZID=America/Chicago:20240126T213000
DTSTAMP:20260424T193611
CREATED:20240129T182814Z
LAST-MODIFIED:20240129T182814Z
UID:10000486-1706304600-1706304600@argentaartsdistrict.org
SUMMARY:Jason Lee Hale and the Personal Space Invaders at Four Quarter Bar
DESCRIPTION:9:30 PM\n$8 Cover
URL:https://argentaartsdistrict.org/event/jason-lee-hale-and-the-personal-space-invaders-at-four-quarter-bar/
LOCATION:Four Quarter Bar\, 415 Main St\, North Little Rock\, AR\, 72114\, United States
CATEGORIES:Live Performance
ATTACH;FMTTYPE=image/jpeg:https://argentaartsdistrict.org/wp-content/uploads/2024/01/Jason-Lee-Hale.jpeg
END:VEVENT
BEGIN:VEVENT
DTSTART;TZID=America/Chicago:20240120T213000
DTEND;TZID=America/Chicago:20240120T213000
DTSTAMP:20260424T193611
CREATED:20240129T182610Z
LAST-MODIFIED:20240129T182610Z
UID:10000485-1705786200-1705786200@argentaartsdistrict.org
SUMMARY:Woody and Sunshine at Four Quarter Bar
DESCRIPTION:9:30 PM\n$8 Cover
URL:https://argentaartsdistrict.org/event/woody-and-sunshine-at-four-quarter-bar/
LOCATION:Four Quarter Bar\, 415 Main St\, North Little Rock\, AR\, 72114\, United States
CATEGORIES:Live Performance
ATTACH;FMTTYPE=image/jpeg:https://argentaartsdistrict.org/wp-content/uploads/2024/01/416616108_873372878121334_5940179860864340520_n.jpg
END:VEVENT
BEGIN:VEVENT
DTSTART;TZID=America/Chicago:20231231T210000
DTEND;TZID=America/Chicago:20231231T210000
DTSTAMP:20260424T193611
CREATED:20231214T184138Z
LAST-MODIFIED:20231214T184726Z
UID:10000464-1704056400-1704056400@argentaartsdistrict.org
SUMMARY:New Years Eve Celebration with The Big Dam Horns
DESCRIPTION:More details to come\, visit the event website for updates!\n9:00 PM\n$20 Cover
URL:https://argentaartsdistrict.org/event/new-years-eve-celebration-with-the-big-dam-horns/
LOCATION:Four Quarter Bar\, 415 Main St\, North Little Rock\, AR\, 72114\, United States
CATEGORIES:Live Performance
ATTACH;FMTTYPE=image/png:https://argentaartsdistrict.org/wp-content/uploads/2023/12/Website-Events_Big-Dam-Horns.png
END:VEVENT
BEGIN:VEVENT
DTSTART;TZID=America/Chicago:20231230T213000
DTEND;TZID=America/Chicago:20231230T213000
DTSTAMP:20260424T193611
CREATED:20231214T183855Z
LAST-MODIFIED:20231214T184659Z
UID:10000463-1703971800-1703971800@argentaartsdistrict.org
SUMMARY:Charlotte Taylor & Gypsy Rain
DESCRIPTION:Don’t miss Charlotte Taylor & Gypsy Rain at Four Quarter Bar! \n9:30 PM \n$8 Cover
URL:https://argentaartsdistrict.org/event/charlotte-taylor-gypsy-rain/
LOCATION:Four Quarter Bar\, 415 Main St\, North Little Rock\, AR\, 72114\, United States
CATEGORIES:Live Performance
ATTACH;FMTTYPE=image/png:https://argentaartsdistrict.org/wp-content/uploads/2023/12/Website-Events_Charlotte-Taylor-Gypsy-Rain.png
END:VEVENT
BEGIN:VEVENT
DTSTART;TZID=America/Chicago:20231229T213000
DTEND;TZID=America/Chicago:20231229T213000
DTSTAMP:20260424T193611
CREATED:20231214T183626Z
LAST-MODIFIED:20231214T184508Z
UID:10000460-1703885400-1703885400@argentaartsdistrict.org
SUMMARY:And Then Came Humans
DESCRIPTION:Don’t miss And Then Came Humans at Four Quarter Bar! \n9:30 PM\n$8 Cover
URL:https://argentaartsdistrict.org/event/and-then-came-humans-2/
LOCATION:Four Quarter Bar\, 415 Main St\, North Little Rock\, AR\, 72114\, United States
CATEGORIES:Live Performance
ATTACH;FMTTYPE=image/png:https://argentaartsdistrict.org/wp-content/uploads/2023/12/Website-Events_And-Then-Came-Humans.png
END:VEVENT
BEGIN:VEVENT
DTSTART;TZID=America/Chicago:20231223T213000
DTEND;TZID=America/Chicago:20231223T213000
DTSTAMP:20260424T193611
CREATED:20231214T183335Z
LAST-MODIFIED:20231214T184622Z
UID:10000462-1703367000-1703367000@argentaartsdistrict.org
SUMMARY:Rachel Ammons
DESCRIPTION:Don’t miss Rachel Ammons at Four Quarter Bar! \n9:30 PM\n$10 Cover
URL:https://argentaartsdistrict.org/event/rachel-ammons/
LOCATION:Four Quarter Bar\, 415 Main St\, North Little Rock\, AR\, 72114\, United States
CATEGORIES:Live Performance
ATTACH;FMTTYPE=image/png:https://argentaartsdistrict.org/wp-content/uploads/2023/12/Website-Events_Rachel-Ammons.png
END:VEVENT
BEGIN:VEVENT
DTSTART;TZID=America/Chicago:20231222T213000
DTEND;TZID=America/Chicago:20231222T213000
DTSTAMP:20260424T193611
CREATED:20231214T183041Z
LAST-MODIFIED:20231214T184552Z
UID:10000461-1703280600-1703280600@argentaartsdistrict.org
SUMMARY:Mojo Depot
DESCRIPTION:Don’t miss Mojo Depot at Four Quarter Bar! \n9:30 PM\n$8 cover
URL:https://argentaartsdistrict.org/event/mojo-depot/
LOCATION:Four Quarter Bar\, 415 Main St\, North Little Rock\, AR\, 72114\, United States
CATEGORIES:Live Performance
ATTACH;FMTTYPE=image/png:https://argentaartsdistrict.org/wp-content/uploads/2023/12/Website-Events_Mojo-Depot.png
END:VEVENT
BEGIN:VEVENT
DTSTART;TZID=America/Chicago:20231216T213000
DTEND;TZID=America/Chicago:20231216T213000
DTSTAMP:20260424T193611
CREATED:20231214T182712Z
LAST-MODIFIED:20231214T184403Z
UID:10000459-1702762200-1702762200@argentaartsdistrict.org
SUMMARY:Chad Marshall Band
DESCRIPTION:The Chad Marshall Band 9:30 to 12:30 $8 Cover\n\nThis true ‘power trio’ is skilled at expressing the spirit of blues legends. They refer to it as ‘conjuring’ and invite guests to “come feel the music.” Chad is an Arkansas Electric Delta Blues guitar artist mentored by Arkansas Delta Blues Master ‘Saint Thomas’ Jenkins. The Chad Marshall Band’s music is a fusion of deep Delta Blues\, modern Rock N Roll and a touch of Southern Soul. Chad’s skillful finger picking and outstanding freestyle leads draw directly from the Delta Blues tradition. This regional touring group of experienced musicians delivers an authentic and unforgettable show.\n\nAt the “Bound for Beale Blues Competition” held in Bentonville\, Arkansas\, the Chad Marshall Band recently won the right to advance to Memphis for the 2024 International Blues Challenge. They will be representing the Ozark Blues Society of Northwest Arkansas at the international competition to be held in January of 2024. The band will be competing with over 200 blues bands from around the globe on Beale Street.\nThe band is currently working on an new album\, “Made to Suffer”\, scheduled for release this year. Mark your calendar now!
URL:https://argentaartsdistrict.org/event/chad-marshall-band/
LOCATION:Four Quarter Bar\, 415 Main St\, North Little Rock\, AR\, 72114\, United States
CATEGORIES:Live Performance
ATTACH;FMTTYPE=image/png:https://argentaartsdistrict.org/wp-content/uploads/2023/12/Website-Events_Chad-Marshall.png
END:VEVENT
BEGIN:VEVENT
DTSTART;TZID=America/Chicago:20230909T190000
DTEND;TZID=America/Chicago:20230909T190000
DTSTAMP:20260424T193611
CREATED:20230905T164733Z
LAST-MODIFIED:20230905T165147Z
UID:10000413-1694286000-1694286000@argentaartsdistrict.org
SUMMARY:MAYDAY BY MIDNIGHT AT DOGTOWN THROWDOWN
DESCRIPTION:It’s Dogtown Throwdown weekend! We’ll be closing off the streets again and providing outdoor dining and seating.\nTonight we have Mayday By Midnight \n7:00 pm\nFREE SHOW!
URL:https://argentaartsdistrict.org/event/mayday-by-midnight-at-dogtown-throwdown/
LOCATION:Four Quarter Bar\, 415 Main St\, North Little Rock\, AR\, 72114\, United States
CATEGORIES:Food,Live Performance
ATTACH;FMTTYPE=image/png:https://argentaartsdistrict.org/wp-content/uploads/2023/09/Website-Events_Dogtown.png
END:VEVENT
BEGIN:VEVENT
DTSTART;TZID=America/Chicago:20230908T183000
DTEND;TZID=America/Chicago:20230908T213000
DTSTAMP:20260424T193611
CREATED:20230905T165618Z
LAST-MODIFIED:20230905T165618Z
UID:10000414-1694197800-1694208600@argentaartsdistrict.org
SUMMARY:Dogtown Throwdown w/ Woody & Sunshine
DESCRIPTION:It’s Dogtown Throwdown weekend! We’ll be closing off the streets again and providing outdoor dining and seating.\nTonight we have Woody & Sunshine\n6:30\nFREE SHOW!
URL:https://argentaartsdistrict.org/event/dogtown-throwdown-w-woody-sunshine/
LOCATION:Four Quarter Bar\, 415 Main St\, North Little Rock\, AR\, 72114\, United States
CATEGORIES:Live Performance
ATTACH;FMTTYPE=image/png:https://argentaartsdistrict.org/wp-content/uploads/2023/09/Website-Events_Dogtown-Woody-Sunshine.png
END:VEVENT
BEGIN:VEVENT
DTSTART;TZID=America/Chicago:20221029T213000
DTEND;TZID=America/Chicago:20221030T010000
DTSTAMP:20260424T193611
CREATED:20220926T210559Z
LAST-MODIFIED:20220926T213500Z
UID:10000210-1667079000-1667091600@argentaartsdistrict.org
SUMMARY:Halloween Party w/ The Crumbs performing The Rocky Horror Pickin’ Show!!
DESCRIPTION:$10 cover at the door of Four Quarter bar
URL:https://argentaartsdistrict.org/event/halloween-party-w-the-crumbs-performing-the-rocky-horror-pickin-show/
LOCATION:Four Quarter Bar\, 415 Main St\, North Little Rock\, AR\, 72114\, United States
CATEGORIES:Live Performance
END:VEVENT
BEGIN:VEVENT
DTSTART;TZID=America/Chicago:20221028T213000
DTEND;TZID=America/Chicago:20221029T010000
DTSTAMP:20260424T193611
CREATED:20220926T210433Z
LAST-MODIFIED:20220926T211756Z
UID:10000209-1666992600-1667005200@argentaartsdistrict.org
SUMMARY:And Then Came Humans
DESCRIPTION:$7 cover at the door of Four Quarter bar
URL:https://argentaartsdistrict.org/event/and-then-came-humans/
LOCATION:Four Quarter Bar\, 415 Main St\, North Little Rock\, AR\, 72114\, United States
CATEGORIES:Live Performance
END:VEVENT
BEGIN:VEVENT
DTSTART;TZID=America/Chicago:20221022T213000
DTEND;TZID=America/Chicago:20221023T010000
DTSTAMP:20260424T193611
CREATED:20220926T210255Z
LAST-MODIFIED:20220926T213502Z
UID:10000208-1666474200-1666486800@argentaartsdistrict.org
SUMMARY:The Danny Spain Gang
DESCRIPTION:$7 cover at the door of Four Quarter bar
URL:https://argentaartsdistrict.org/event/the-danny-spain-gang/
LOCATION:Four Quarter Bar\, 415 Main St\, North Little Rock\, AR\, 72114\, United States
CATEGORIES:Live Performance
END:VEVENT
BEGIN:VEVENT
DTSTART;TZID=America/Chicago:20221021T210000
DTEND;TZID=America/Chicago:20221022T010000
DTSTAMP:20260424T193611
CREATED:20220926T210113Z
LAST-MODIFIED:20220926T213504Z
UID:10000207-1666386000-1666400400@argentaartsdistrict.org
SUMMARY:Joe Buck Yourself
DESCRIPTION:$8 cover at the door of Four Quarter bar
URL:https://argentaartsdistrict.org/event/joe-buck-yourself/
LOCATION:Four Quarter Bar\, 415 Main St\, North Little Rock\, AR\, 72114\, United States
CATEGORIES:Live Performance
END:VEVENT
BEGIN:VEVENT
DTSTART;TZID=America/Chicago:20221015T220000
DTEND;TZID=America/Chicago:20221016T010000
DTSTAMP:20260424T193611
CREATED:20220926T205303Z
LAST-MODIFIED:20220926T213506Z
UID:10000203-1665871200-1665882000@argentaartsdistrict.org
SUMMARY:Stolen Faces at Four Quarter
DESCRIPTION:$10 cover at the door of Four Quarter bar
URL:https://argentaartsdistrict.org/event/stolen-faces-at-four-quarter/
LOCATION:Four Quarter Bar\, 415 Main St\, North Little Rock\, AR\, 72114\, United States
CATEGORIES:Live Performance
END:VEVENT
BEGIN:VEVENT
DTSTART;TZID=America/Chicago:20221015T190000
DTEND;TZID=America/Chicago:20221016T010000
DTSTAMP:20260424T193611
CREATED:20220926T205907Z
LAST-MODIFIED:20220926T213507Z
UID:10000206-1665860400-1665882000@argentaartsdistrict.org
SUMMARY:Dogtown Double Header w/ The Stolen Faces!
DESCRIPTION:Free show!
URL:https://argentaartsdistrict.org/event/dogtown-double-header-w-the-stolen-faces/
LOCATION:Four Quarter Bar\, 415 Main St\, North Little Rock\, AR\, 72114\, United States
CATEGORIES:Live Performance
END:VEVENT
BEGIN:VEVENT
DTSTART;TZID=America/Chicago:20221014T190000
DTEND;TZID=America/Chicago:20221014T220000
DTSTAMP:20260424T193611
CREATED:20220926T205727Z
LAST-MODIFIED:20220926T213638Z
UID:10000205-1665774000-1665784800@argentaartsdistrict.org
SUMMARY:Dogtown Throwdown Outdoor Dining w/ Just Cuz
DESCRIPTION:Free show!
URL:https://argentaartsdistrict.org/event/dogtown-throwdown-outdoor-dining-w-just-cuz/
LOCATION:Four Quarter Bar\, 415 Main St\, North Little Rock\, AR\, 72114\, United States
CATEGORIES:Live Performance
END:VEVENT
BEGIN:VEVENT
DTSTART;TZID=America/Chicago:20221008T213000
DTEND;TZID=America/Chicago:20221009T010000
DTSTAMP:20260424T193611
CREATED:20220926T205613Z
LAST-MODIFIED:20220926T213511Z
UID:10000204-1665264600-1665277200@argentaartsdistrict.org
SUMMARY:Patti Steel Band at Four Quarter
DESCRIPTION:$8 cover at the door of Four Quarter bar
URL:https://argentaartsdistrict.org/event/patti-steel-band-at-four-quarter/
LOCATION:Four Quarter Bar\, 415 Main St\, North Little Rock\, AR\, 72114\, United States
CATEGORIES:Live Performance
END:VEVENT
BEGIN:VEVENT
DTSTART;TZID=America/Chicago:20221007T210000
DTEND;TZID=America/Chicago:20221008T010000
DTSTAMP:20260424T193611
CREATED:20220926T205119Z
LAST-MODIFIED:20220926T213513Z
UID:10000202-1665176400-1665190800@argentaartsdistrict.org
SUMMARY:Good Foot at Four Quarter
DESCRIPTION:$8 cover at the door of Four Quarter bar
URL:https://argentaartsdistrict.org/event/good-foot-at-four-quarter/
LOCATION:Four Quarter Bar\, 415 Main St\, North Little Rock\, AR\, 72114\, United States
CATEGORIES:Live Performance
END:VEVENT
BEGIN:VEVENT
DTSTART;TZID=America/Chicago:20221001T213000
DTEND;TZID=America/Chicago:20221002T010000
DTSTAMP:20260424T193611
CREATED:20220926T204926Z
LAST-MODIFIED:20220926T214014Z
UID:10000201-1664659800-1664672400@argentaartsdistrict.org
SUMMARY:Ed Bowman at Four Quarter
DESCRIPTION:$7 cover at the door of Four Quarter bar
URL:https://argentaartsdistrict.org/event/ed-bowman-at-four-quarter/
LOCATION:Four Quarter Bar\, 415 Main St\, North Little Rock\, AR\, 72114\, United States
CATEGORIES:Live Performance
END:VEVENT
BEGIN:VEVENT
DTSTART;TZID=America/Chicago:20220930T213000
DTEND;TZID=America/Chicago:20221001T010000
DTSTAMP:20260424T193611
CREATED:20220926T204417Z
LAST-MODIFIED:20220926T214015Z
UID:10000200-1664573400-1664586000@argentaartsdistrict.org
SUMMARY:Fonkey Donkey at Four Quarter
DESCRIPTION:$7 at the door of Four Quarter Bar
URL:https://argentaartsdistrict.org/event/fonkey-donkey/
LOCATION:Four Quarter Bar\, 415 Main St\, North Little Rock\, AR\, 72114\, United States
CATEGORIES:Live Performance
END:VEVENT
END:VCALENDAR