BEGIN:VCALENDAR
VERSION:2.0
PRODID:-//Argenta Arts District - ECPv6.15.20//NONSGML v1.0//EN
CALSCALE:GREGORIAN
METHOD:PUBLISH
X-WR-CALNAME:Argenta Arts District
X-ORIGINAL-URL:https://argentaartsdistrict.org
X-WR-CALDESC:Events for Argenta Arts District
REFRESH-INTERVAL;VALUE=DURATION:PT1H
X-Robots-Tag:noindex
X-PUBLISHED-TTL:PT1H
BEGIN:VTIMEZONE
TZID:America/Chicago
BEGIN:DAYLIGHT
TZOFFSETFROM:-0600
TZOFFSETTO:-0500
TZNAME:CDT
DTSTART:20220313T080000
END:DAYLIGHT
BEGIN:STANDARD
TZOFFSETFROM:-0500
TZOFFSETTO:-0600
TZNAME:CST
DTSTART:20221106T070000
END:STANDARD
BEGIN:DAYLIGHT
TZOFFSETFROM:-0600
TZOFFSETTO:-0500
TZNAME:CDT
DTSTART:20230312T080000
END:DAYLIGHT
BEGIN:STANDARD
TZOFFSETFROM:-0500
TZOFFSETTO:-0600
TZNAME:CST
DTSTART:20231105T070000
END:STANDARD
BEGIN:DAYLIGHT
TZOFFSETFROM:-0600
TZOFFSETTO:-0500
TZNAME:CDT
DTSTART:20240310T080000
END:DAYLIGHT
BEGIN:STANDARD
TZOFFSETFROM:-0500
TZOFFSETTO:-0600
TZNAME:CST
DTSTART:20241103T070000
END:STANDARD
END:VTIMEZONE
BEGIN:VEVENT
DTSTART;TZID=America/Chicago:20231215T150000
DTEND;TZID=America/Chicago:20231215T190000
DTSTAMP:20260424T220117
CREATED:20231127T153145Z
LAST-MODIFIED:20231127T153145Z
UID:10000457-1702652400-1702666800@argentaartsdistrict.org
SUMMARY:The Frontier Circus with Justin Bank and the BBB's
DESCRIPTION:The Frontier Circus Rides Again! This time as a special addition to Argenta’s monthly Art Walk. Come join us for a rare opportunity to check out the interior of the historic Elk’s Lodge in NLR which is normally closed to the public. Come have an abnormal night with us and our special guest Justin Bank and the Bijou Boogie Boys (BBB). It won’t be the same without you.
URL:https://argentaartsdistrict.org/event/the-frontier-circus-with-justin-bank-and-the-bbbs/
LOCATION:The Elks Lodge\, 123 E Broadway\, North Little Rock\, Arkansas
CATEGORIES:Live Performance
ATTACH;FMTTYPE=image/png:https://argentaartsdistrict.org/wp-content/uploads/2023/11/Website-Events_Frontier-Circus.png
END:VEVENT
END:VCALENDAR