BEGIN:VCALENDAR
VERSION:2.0
PRODID:-//Argenta Arts District - ECPv6.15.20//NONSGML v1.0//EN
CALSCALE:GREGORIAN
METHOD:PUBLISH
X-ORIGINAL-URL:https://argentaartsdistrict.org
X-WR-CALDESC:Events for Argenta Arts District
REFRESH-INTERVAL;VALUE=DURATION:PT1H
X-Robots-Tag:noindex
X-PUBLISHED-TTL:PT1H
BEGIN:VTIMEZONE
TZID:America/Chicago
BEGIN:DAYLIGHT
TZOFFSETFROM:-0600
TZOFFSETTO:-0500
TZNAME:CDT
DTSTART:20230312T080000
END:DAYLIGHT
BEGIN:STANDARD
TZOFFSETFROM:-0500
TZOFFSETTO:-0600
TZNAME:CST
DTSTART:20231105T070000
END:STANDARD
BEGIN:DAYLIGHT
TZOFFSETFROM:-0600
TZOFFSETTO:-0500
TZNAME:CDT
DTSTART:20240310T080000
END:DAYLIGHT
BEGIN:STANDARD
TZOFFSETFROM:-0500
TZOFFSETTO:-0600
TZNAME:CST
DTSTART:20241103T070000
END:STANDARD
BEGIN:DAYLIGHT
TZOFFSETFROM:-0600
TZOFFSETTO:-0500
TZNAME:CDT
DTSTART:20250309T080000
END:DAYLIGHT
BEGIN:STANDARD
TZOFFSETFROM:-0500
TZOFFSETTO:-0600
TZNAME:CST
DTSTART:20251102T070000
END:STANDARD
END:VTIMEZONE
BEGIN:VEVENT
DTSTART;TZID=America/Chicago:20241214T100000
DTEND;TZID=America/Chicago:20241214T140000
DTSTAMP:20260424T184726
CREATED:20241125T172951Z
LAST-MODIFIED:20241125T172951Z
UID:10000830-1734170400-1734184800@argentaartsdistrict.org
SUMMARY:Make It Merry Market
DESCRIPTION:The Make It Merry Market is a two-day event filled with festive spirit and creative energy. Held at the Arkansas Regional Innovation Hub\, this market offers a unique opportunity for makers to display their talents and for visitors to find one-of-a-kind holiday gifts. From handcrafted jewelry to custom woodwork\, our market celebrates the diverse skills of our local artisans. Join us for a weekend of shopping\, entertainment\, and holiday fun!
URL:https://argentaartsdistrict.org/event/make-it-merry-market/2024-12-14/
LOCATION:The Innovation Hub\, 204 E 4th St\, North Little Rock\, 72114\, United States
CATEGORIES:Art,Christmas,Family-Friendly,Local Art,Shopping
ATTACH;FMTTYPE=image/jpeg:https://argentaartsdistrict.org/wp-content/uploads/2024/11/DSC08236-Large.jpg
END:VEVENT
BEGIN:VEVENT
DTSTART;TZID=America/Chicago:20241213T170000
DTEND;TZID=America/Chicago:20241213T200000
DTSTAMP:20260424T184726
CREATED:20241125T172951Z
LAST-MODIFIED:20241125T172951Z
UID:10000829-1734109200-1734120000@argentaartsdistrict.org
SUMMARY:Make It Merry Market
DESCRIPTION:The Make It Merry Market is a two-day event filled with festive spirit and creative energy. Held at the Arkansas Regional Innovation Hub\, this market offers a unique opportunity for makers to display their talents and for visitors to find one-of-a-kind holiday gifts. From handcrafted jewelry to custom woodwork\, our market celebrates the diverse skills of our local artisans. Join us for a weekend of shopping\, entertainment\, and holiday fun!
URL:https://argentaartsdistrict.org/event/make-it-merry-market/2024-12-13/
LOCATION:The Innovation Hub\, 204 E 4th St\, North Little Rock\, 72114\, United States
CATEGORIES:Art,Christmas,Family-Friendly,Local Art,Shopping
ATTACH;FMTTYPE=image/jpeg:https://argentaartsdistrict.org/wp-content/uploads/2024/11/DSC08236-Large.jpg
END:VEVENT
BEGIN:VEVENT
DTSTART;TZID=America/Chicago:20241010T090000
DTEND;TZID=America/Chicago:20241010T103000
DTSTAMP:20260424T184726
CREATED:20240924T192404Z
LAST-MODIFIED:20240924T200527Z
UID:10000678-1728550800-1728556200@argentaartsdistrict.org
SUMMARY:20 Ideas for Small Business Saturday & the Holiday Season
DESCRIPTION:Date: 10/10/2024\nTime: 9:00 AM – 10:30 AM (CDT)\nRegistration Deadline: 10/10/2024 8:00 AM (CDT)\nFee: No Fee \nPoint of Contact: Nick Stevens (501) 804-4530\nLocation: Arkansas Regional Innovation Hub\, 204 E 4th St.\, North Little Rock AR 72114-5402 \nTraining Topics: Marketing/Sales\nDescription: \n\nNow is the time to prepare your business to make the most of the most profitable season of the year. \nWe’ll offer ideas for retailers\, service businesses\, and restaurants to increase your traffic and sales. These tips include things to do immediately\, on Small Business Saturday (Nov. 30)\, and through the end of the year. \nLocal Main Street organizations will join us to share about events and other collaborative opportunities to maximize your impact during the holidays. \nSpeaker: Nick Stevens\, ASBTDC \nIn cooperation with Argenta Downtown Council\, Downtown Little Rock Partnership\, SOMA 501\, and River Market Rise. Hosted by the Arkansas Regional Innovation Hub.
URL:https://argentaartsdistrict.org/event/20-ideas-for-small-business-saturday-the-holiday-season/
LOCATION:The Innovation Hub\, 204 E 4th St\, North Little Rock\, 72114\, United States
ATTACH;FMTTYPE=image/png:https://argentaartsdistrict.org/wp-content/uploads/2024/09/10-10-Small-Business-Saturday-Square-1.png
END:VEVENT
BEGIN:VEVENT
DTSTART;TZID=America/Chicago:20240726T130000
DTEND;TZID=America/Chicago:20240726T160000
DTSTAMP:20260424T184726
CREATED:20240717T164609Z
LAST-MODIFIED:20240717T164609Z
UID:10000628-1721998800-1722009600@argentaartsdistrict.org
SUMMARY:Space STEM Day at the Innovation Hub
DESCRIPTION:Join FTPP Alabama Physics at the Arkansas Regional Innovation Hub on July 26\, 2024\, for a FREE Space STEM workshop! Open for 1st to 12th graders\, dive into hands-on activities and exciting lessons in space science. \n\n\nWorkshop Schedule:\n\n\n1st to 6th Graders: 1:00 PM – 2:15 PM\n7th to 12th Graders: 2:45 PM – 4:00 PM\nFor more info / tickets\, visit alabamaphysics.com/space-stem-day
URL:https://argentaartsdistrict.org/event/space-stem-day-at-the-innovation-hub/
LOCATION:The Innovation Hub\, 204 E 4th St\, North Little Rock\, 72114\, United States
ATTACH;FMTTYPE=image/png:https://argentaartsdistrict.org/wp-content/uploads/2024/07/Arkansas-Regional-Innovation-Hub-Cover-Promo.png
END:VEVENT
END:VCALENDAR