BEGIN:VCALENDAR
VERSION:2.0
PRODID:-//Argenta Arts District - ECPv6.15.20//NONSGML v1.0//EN
CALSCALE:GREGORIAN
METHOD:PUBLISH
X-ORIGINAL-URL:https://argentaartsdistrict.org
X-WR-CALDESC:Events for Argenta Arts District
REFRESH-INTERVAL;VALUE=DURATION:PT1H
X-Robots-Tag:noindex
X-PUBLISHED-TTL:PT1H
BEGIN:VTIMEZONE
TZID:America/Chicago
BEGIN:DAYLIGHT
TZOFFSETFROM:-0600
TZOFFSETTO:-0500
TZNAME:CDT
DTSTART:20210314T080000
END:DAYLIGHT
BEGIN:STANDARD
TZOFFSETFROM:-0500
TZOFFSETTO:-0600
TZNAME:CST
DTSTART:20211107T070000
END:STANDARD
BEGIN:DAYLIGHT
TZOFFSETFROM:-0600
TZOFFSETTO:-0500
TZNAME:CDT
DTSTART:20220313T080000
END:DAYLIGHT
BEGIN:STANDARD
TZOFFSETFROM:-0500
TZOFFSETTO:-0600
TZNAME:CST
DTSTART:20221106T070000
END:STANDARD
BEGIN:DAYLIGHT
TZOFFSETFROM:-0600
TZOFFSETTO:-0500
TZNAME:CDT
DTSTART:20230312T080000
END:DAYLIGHT
BEGIN:STANDARD
TZOFFSETFROM:-0500
TZOFFSETTO:-0600
TZNAME:CST
DTSTART:20231105T070000
END:STANDARD
BEGIN:DAYLIGHT
TZOFFSETFROM:-0600
TZOFFSETTO:-0500
TZNAME:CDT
DTSTART:20240310T080000
END:DAYLIGHT
BEGIN:STANDARD
TZOFFSETFROM:-0500
TZOFFSETTO:-0600
TZNAME:CST
DTSTART:20241103T070000
END:STANDARD
END:VTIMEZONE
BEGIN:VEVENT
DTSTART;TZID=America/Chicago:20231118T000000
DTEND;TZID=America/Chicago:20231230T000000
DTSTAMP:20260424T205807
CREATED:20231121T190117Z
LAST-MODIFIED:20231121T190117Z
UID:10000450-1700265600-1703894400@argentaartsdistrict.org
SUMMARY:A Fertle Holiday - The Main Thing
DESCRIPTION:This original two-act comedy chronicles the Fertle Family’s trouble-ridden reunion in the tiny town of Dumpster\, Arkansas\, as they attempt to entertain their rich relatives from San Diego. The Main Thing comedy trio brings the quirky family to life by portraying all the relatives and townspeople needed to create the illusion of a bustling Christmas get-together. \n**Tickets will sell fast for this annual fan favorite! Make sure to reserve your seats in advance by calling (501) 626-7181 now!** \nWhat is The Main Thing? It’s three people doing multiple comic characters and playing multiple musical instruments. It’s the singing Fertle family; it’s Arkansas satire. It’s sketch comedy and full length plays. \nTheir work has been featured on Saturday Night Live\, MTV\, HBO\, Off-Broadway\, and on Dick Clark’s United Stations Radio Network. They now make their permanent home right here\, creating and performing original comedies year-round. We feel safe to say that The Main Thing’s shows will be the funniest live comedy you’ve ever seen! \nBe sure to select the correct date when purchasing tickets. \nOnline ticket sales end at 7 pm the day of the show. Remaining tickets will be available at the box office.
URL:https://argentaartsdistrict.org/event/a-fertle-holiday-the-main-thing/
LOCATION:The Joint\, 301 Main St #102\, North Little Rock\, AR\, 72114\, United States
CATEGORIES:Live Performance
ATTACH;FMTTYPE=image/png:https://argentaartsdistrict.org/wp-content/uploads/2023/11/A-Fertle-Holiday.png
END:VEVENT
BEGIN:VEVENT
DTSTART;TZID=America/Chicago:20231113T193000
DTEND;TZID=America/Chicago:20231113T193000
DTSTAMP:20260424T205807
CREATED:20230905T173757Z
LAST-MODIFIED:20230905T173757Z
UID:10000432-1699903800-1699903800@argentaartsdistrict.org
SUMMARY:Jazz at the Joint — Tony Dagradi
DESCRIPTION:For nearly four decades he has made his home in New Orleans\, performing on tenor and soprano saxophone with many of the Crescent City’s most celebrated artists\, including Ellis Marsalis\, Allen Toussaint\, Professor Longhair\, James Booker\, The Meters\, Dr. John\, James Black\, Johnny Adams and Gatemouth Brown. \nNovember 13\, 2023\n7:30pm\n301 Main Street\nNorth Little Rock\, AR 72114
URL:https://argentaartsdistrict.org/event/jazz-at-the-joint-tony-dagradi/
LOCATION:The Joint\, 301 Main St #102\, North Little Rock\, AR\, 72114\, United States
CATEGORIES:Live Performance
ATTACH;FMTTYPE=image/png:https://argentaartsdistrict.org/wp-content/uploads/2023/09/Website-Events_Tony-Degradi.png
END:VEVENT
BEGIN:VEVENT
DTSTART;TZID=America/Chicago:20231009T193000
DTEND;TZID=America/Chicago:20231009T193000
DTSTAMP:20260424T205807
CREATED:20230905T173425Z
LAST-MODIFIED:20230905T173425Z
UID:10000431-1696879800-1696879800@argentaartsdistrict.org
SUMMARY:Jazz at the Joint — Adam Larson
DESCRIPTION:Adam Larson (b. 1990) is an American saxophonist\, composer and author. An endorsed artist for P. Mauriat saxophones\, The Boston Sax Shop and Key Leaves\, Adam began playing saxophone at the age of 11. \nOctober 9\, 2023\n7:30pm\n301 Main Street\nNorth Little Rock\, AR 72114
URL:https://argentaartsdistrict.org/event/jazz-at-the-joint-adam-larson/
LOCATION:The Joint\, 301 Main St #102\, North Little Rock\, AR\, 72114\, United States
CATEGORIES:Live Performance
ATTACH;FMTTYPE=image/png:https://argentaartsdistrict.org/wp-content/uploads/2023/09/Website-Events_Adam-Larson.png
END:VEVENT
BEGIN:VEVENT
DTSTART;TZID=America/Chicago:20230911T193000
DTEND;TZID=America/Chicago:20230911T193000
DTSTAMP:20260424T205807
CREATED:20230901T144949Z
LAST-MODIFIED:20230901T145220Z
UID:10000409-1694460600-1694460600@argentaartsdistrict.org
SUMMARY:Jazz at the Joint — Lynn Seaton
DESCRIPTION:Lynn has participated in over 125 recording sessions\, including: the Grammy Award winning “Diane Schuur and The Count Basie Orchestra” and two Grammy nominated recordings “Woody Herman 50th Anniversary”\, and John Fedchock’s “No Nonsense”. He is currently living in Highland Village\, Texas\, working and recording with many great jazz artists\, and leading his own trio. \nSeptember 11\, 2023\n7:30pm\n301 Main Street\nNorth Little Rock\, AR 72114
URL:https://argentaartsdistrict.org/event/jazz-at-the-joint/
LOCATION:The Joint\, 301 Main St #102\, North Little Rock\, AR\, 72114\, United States
CATEGORIES:Live Performance
ATTACH;FMTTYPE=image/png:https://argentaartsdistrict.org/wp-content/uploads/2023/09/Website-Events_Lynn-Seaton.png
END:VEVENT
BEGIN:VEVENT
DTSTART;TZID=America/Chicago:20230817T193000
DTEND;TZID=America/Chicago:20230817T193000
DTSTAMP:20260424T205807
CREATED:20230630T145231Z
LAST-MODIFIED:20230729T165636Z
UID:10000219-1692300600-1692300600@argentaartsdistrict.org
SUMMARY:Argenta Acoustic Music — MICHAEL CHAPDELAINE
DESCRIPTION:
URL:https://argentaartsdistrict.org/event/argenta-acoustic-music-michael-chapdelaine/
LOCATION:The Joint\, 301 Main St #102\, North Little Rock\, AR\, 72114\, United States
CATEGORIES:Live Performance
ATTACH;FMTTYPE=image/jpeg:https://argentaartsdistrict.org/wp-content/uploads/2023/06/Michael-Chapdelaine3-uai-428x428-1.jpg
END:VEVENT
BEGIN:VEVENT
DTSTART;TZID=America/Chicago:20230814T193000
DTEND;TZID=America/Chicago:20230814T193000
DTSTAMP:20260424T205807
CREATED:20230630T145104Z
LAST-MODIFIED:20230729T165928Z
UID:10000218-1692041400-1692041400@argentaartsdistrict.org
SUMMARY:Jazz at the Joint — JOCELYN GOULD
DESCRIPTION:2021 JUNO Award winner Jocelyn Gould has been called “a leader in the next generation of great mainstream jazz guitarists” by Howard Paul\, CEO of Benedetto Guitars. Her joyful energy has captivated audiences around the world and her passion for music is as infectious as her unique ability to connect with audiences.
URL:https://argentaartsdistrict.org/event/jazz-at-the-joint-jocelyn-gould/
LOCATION:The Joint\, 301 Main St #102\, North Little Rock\, AR\, 72114\, United States
CATEGORIES:Live Performance
ATTACH;FMTTYPE=image/jpeg:https://argentaartsdistrict.org/wp-content/uploads/2023/06/JOC-GOULD.jpg
END:VEVENT
BEGIN:VEVENT
DTSTART;TZID=America/Chicago:20230720T193000
DTEND;TZID=America/Chicago:20230720T203000
DTSTAMP:20260424T205807
CREATED:20230630T142806Z
LAST-MODIFIED:20230630T155021Z
UID:10000213-1689881400-1689885000@argentaartsdistrict.org
SUMMARY:Argenta Acoustic Music — MATT THOMAS
DESCRIPTION:
URL:https://argentaartsdistrict.org/event/argenta-acoustic-music-matt-thomas/
LOCATION:The Joint\, 301 Main St #102\, North Little Rock\, AR\, 72114\, United States
CATEGORIES:Live Performance
END:VEVENT
BEGIN:VEVENT
DTSTART;TZID=America/Chicago:20230710T193000
DTEND;TZID=America/Chicago:20230710T210000
DTSTAMP:20260424T205807
CREATED:20230630T141925Z
LAST-MODIFIED:20230630T153528Z
UID:10000211-1689017400-1689022800@argentaartsdistrict.org
SUMMARY:Jazz at the Joint - PAT BIANCHI
DESCRIPTION:Grammy nominated organist\, winner of Downbeat Magazine’s 2016 rising star poll and Hot House magazine’s 2019 poll\, Pat Bianchi has established himself as one of the premier organists on the international scene today. His command of the instrument\, harmonic prowess\, rhythmic intensity and versatility are rivaled by few. Bianchi has had the honor of being a long time member of jazz guitar icon\, Pat Martino’s trio and also performed with NEA Jazz Master and saxophone legend\, Lou Donaldson’s quartet for a number of years as well. \nPurchase tickets at https://jazzatthejoint.org/tickets/
URL:https://argentaartsdistrict.org/event/jazz-at-the-joint-pat-bianchi/
LOCATION:The Joint\, 301 Main St #102\, North Little Rock\, AR\, 72114\, United States
CATEGORIES:Live Performance
END:VEVENT
BEGIN:VEVENT
DTSTART;TZID=America/Chicago:20230223T190000
DTEND;TZID=America/Chicago:20230223T190000
DTSTAMP:20260424T205807
CREATED:20220926T170943Z
LAST-MODIFIED:20230630T155136Z
UID:10000073-1677178800-1677178800@argentaartsdistrict.org
SUMMARY:Potluck & Poison Ivy - An Evening with Dr. Jake Hertzog
DESCRIPTION:Dr. Jake Hertzog is a critically acclaimed guitarist\, composer and educator whose career to-date has spanned ten albums as bandleader across jazz\, rock and classical new music styles. He has toured throughout the U.S.\, Europe\, Latin America\, the Middle East and India and performed and recorded with a diverse cadre of artists including Randy Brecker\, Ivan Neville\, Mike Clarke\, Blondie Chaplin\, Anton Fig\, Corey Glover\, Barry Altschul\, Dave Leibman\, Ingrid Jensen and many others. \nDoors open at 6pm | $35 \nhttps://potluckandpoisonivy.org/an-evening-with-dr-jake-hertzog/
URL:https://argentaartsdistrict.org/event/potluck-poison-ivy-an-evening-with-dr-jake-hertzog/
LOCATION:The Joint\, 301 Main St #102\, North Little Rock\, AR\, 72114\, United States
CATEGORIES:Live Performance
END:VEVENT
BEGIN:VEVENT
DTSTART;TZID=America/Chicago:20221117T193000
DTEND;TZID=America/Chicago:20221117T193000
DTSTAMP:20260424T205807
CREATED:20220926T165729Z
LAST-MODIFIED:20220926T211752Z
UID:10000071-1668713400-1668713400@argentaartsdistrict.org
SUMMARY:Argenta Acoustic Music Series - Brooks Robertson
DESCRIPTION:Finger Food is a feast not only for guitar lovers\, but also for anyone with a passion for acoustic music. The guitarists perform “in the round” and trade songs and stories about their compositions and their approach to the guitar in a casual concert setting. The music focuses on contemporary instrumental American Fingerstyle Guitar with folk\, jazz\, Celtic\, classical and blues influences. $30 \nBrooks Robertson just doesn’t need much more than two thumbs\, eight fingers and six strings on a wooden box to carry his listeners away. \nHailed by prominent exponents of his instrument like Nokie Edwards\, Thom Bresh\, John Jorgenson and Mason Williams\, the young fingerstyle guitarist embodies the creative vision of a postmodern world: It’s the music that counts. Brooks utilizes his superb technical abilities to play bass\, rhythm and melody simultaneously and surpass the borders of conventional genres. He merges hauntingly beautiful compositions\, country rhythms and jazzy harmonies with funky licks into his very own art form – sometimes delivered with a punch\, sometimes with a smile. Learn more about Brooks Robertson. \nhttps://argentaacoustic.com/tickets/
URL:https://argentaartsdistrict.org/event/argenta-acoustic-music-series-brooks-robertson/
LOCATION:The Joint\, 301 Main St #102\, North Little Rock\, AR\, 72114\, United States
CATEGORIES:Live Performance
END:VEVENT
BEGIN:VEVENT
DTSTART;TZID=America/Chicago:20221114T193000
DTEND;TZID=America/Chicago:20221114T193000
DTSTAMP:20260424T205807
CREATED:20220926T181357Z
LAST-MODIFIED:20220926T211753Z
UID:10000197-1668454200-1668454200@argentaartsdistrict.org
SUMMARY:Jazz at the Joint - Tom Vaitsas\, Piano
DESCRIPTION:We are pleased to announce the new season for Jazz At The Joint\, a monthly jazz series featuring some of the finest jazz artists in the country. Doors 6:30 pm\, $30. \nTom started playing professionally in Chicago in 1992 while working on his B.A and Music Education degrees at NIU. Although school was a great experience\, nothing compared to the knowledge and inspiration received from Chicago’s south side scene and musicians where he often got to be around and learn from legendary jazz saxophonist Von Freeman. 2000-2008 was a period of European tours with blues legends Lurie and Carrie Bell while also performing in Chicago in between trips. He has performed concerts with jazz greats Von Freeman and Dee Dee Bridgewater and continues to perform at concerts and clubs in and out of Chicago with various groups. \nPurchase tickets at https://jazzatthejoint.org/tickets/
URL:https://argentaartsdistrict.org/event/jazz-at-the-joint-tom-vaitsas-piano/
LOCATION:The Joint\, 301 Main St #102\, North Little Rock\, AR\, 72114\, United States
CATEGORIES:Live Performance
END:VEVENT
BEGIN:VEVENT
DTSTART;TZID=America/Chicago:20221027T180000
DTEND;TZID=America/Chicago:20221027T180000
DTSTAMP:20260424T205807
CREATED:20220926T170717Z
LAST-MODIFIED:20220926T213502Z
UID:10000072-1666893600-1666893600@argentaartsdistrict.org
SUMMARY:Potluck & Poison Ivy - Torii Hunter
DESCRIPTION:Torii Hunter has established himself as one of the top Major League Baseball players. Torii is a five-time Major League All-Star and the recipient of nine consecutive Gold Glove Awards for his accomplishments on the baseball diamond. In July 2016\, Torii was inducted into the Minnesota Twins Hall of Fame. \nDoors open at 6pm  |  $35 \nhttps://potluckandpoisonivy.org/an-evening-with-torii-hunter/
URL:https://argentaartsdistrict.org/event/potluck-poison-ivy-torii-hunter/
LOCATION:The Joint\, 301 Main St #102\, North Little Rock\, AR\, 72114\, United States
CATEGORIES:Live Performance
END:VEVENT
BEGIN:VEVENT
DTSTART;TZID=America/Chicago:20221020T193000
DTEND;TZID=America/Chicago:20221020T193000
DTSTAMP:20260424T205807
CREATED:20220926T165458Z
LAST-MODIFIED:20220926T211804Z
UID:10000070-1666294200-1666294200@argentaartsdistrict.org
SUMMARY:Argenta Acoustic Music Series - Mike Dowling
DESCRIPTION:Finger Food is a feast not only for guitar lovers\, but also for anyone with a passion for acoustic music. The guitarists perform “in the round” and trade songs and stories about their compositions and their approach to the guitar in a casual concert setting. The music focuses on contemporary instrumental American Fingerstyle Guitar with folk\, jazz\, Celtic\, classical and blues influences. $30 \nWhen the late\, great Vassar Clements heard Mike Dowling play guitar back in 1975 he did the sensible thing. He hired him. Mike was the guitarist in Vassar’s first touring band and can be heard on his Grammy-nominated “Nashville Jam”. Clements called him simply\, “One of the finest guitarists there is\, anywhere.” Echoing that sentiment is an ever-growing chorus of music critics\, guitar students\, and acoustic music fans from throughout the world. Learn more about Mike. \nhttps://argentaacoustic.com/tickets/
URL:https://argentaartsdistrict.org/event/argenta-acoustic-music-series-mike-dowling/
LOCATION:The Joint\, 301 Main St #102\, North Little Rock\, AR\, 72114\, United States
CATEGORIES:Live Performance
END:VEVENT
BEGIN:VEVENT
DTSTART;TZID=America/Chicago:20221010T193000
DTEND;TZID=America/Chicago:20221010T193000
DTSTAMP:20260424T205807
CREATED:20220926T164730Z
LAST-MODIFIED:20220926T213510Z
UID:10000069-1665430200-1665430200@argentaartsdistrict.org
SUMMARY:Jazz at the Joint - Tim Fitzgerald\, Guitar
DESCRIPTION:We are pleased to announce the new season for Jazz At The Joint\, a monthly jazz series featuring some of the finest jazz artists in the country. Doors 6:30 pm\, $30. \nPurchase tickets at https://jazzatthejoint.org/tickets/
URL:https://argentaartsdistrict.org/event/jazz-at-the-joint-tim-fitzgerald/
LOCATION:The Joint\, 301 Main St #102\, North Little Rock\, AR\, 72114\, United States
CATEGORIES:Live Performance
END:VEVENT
BEGIN:VEVENT
DTSTART;TZID=America/Chicago:20221006T200000
DTEND;TZID=America/Chicago:20221006T200000
DTSTAMP:20260424T205807
CREATED:20220926T164203Z
LAST-MODIFIED:20220926T214054Z
UID:10000068-1665086400-1665086400@argentaartsdistrict.org
SUMMARY:Laughs On Tap Stand-Up Comedy Showcase
DESCRIPTION:On the first Thursday of each month we’ve got our Laughs On Tap Stand-Up Comedy Showcase featuring 7 Comics for just $5! Come out to support the funniest local and out of town comedians. Don’t miss out on a hilarious night at The Joint! \nOnly $5 at the door! \nhttps://www.thejointargenta.com/schedule
URL:https://argentaartsdistrict.org/event/laughs-on-tap-stand-up-comedy-showcase/
LOCATION:The Joint\, 301 Main St #102\, North Little Rock\, AR\, 72114\, United States
CATEGORIES:Live Performance
END:VEVENT
BEGIN:VEVENT
DTSTART;TZID=America/Chicago:20221003T190000
DTEND;TZID=America/Chicago:20221003T190000
DTSTAMP:20260424T205807
CREATED:20220926T163627Z
LAST-MODIFIED:20220926T214011Z
UID:10000067-1664823600-1664823600@argentaartsdistrict.org
SUMMARY:NSAI Songwriter Showcase
DESCRIPTION:The Joint will host six local Songwriters the first Monday of the month starting at 7pm. We will have two sets of an “in-the-round” format with songwriters sharing their original songs. There will be a $5 cover at the door. Come out and support area writers while hearing some great music! \n$5 cover at the door. \nhttps://www.thejointargenta.com/schedule
URL:https://argentaartsdistrict.org/event/nsai-songwriter-showcase/
LOCATION:The Joint\, 301 Main St #102\, North Little Rock\, AR\, 72114\, United States
CATEGORIES:Live Performance
END:VEVENT
END:VCALENDAR