BEGIN:VCALENDAR
VERSION:2.0
PRODID:-//Argenta Arts District - ECPv6.15.20//NONSGML v1.0//EN
CALSCALE:GREGORIAN
METHOD:PUBLISH
X-WR-CALNAME:Argenta Arts District
X-ORIGINAL-URL:https://argentaartsdistrict.org
X-WR-CALDESC:Events for Argenta Arts District
REFRESH-INTERVAL;VALUE=DURATION:PT1H
X-Robots-Tag:noindex
X-PUBLISHED-TTL:PT1H
BEGIN:VTIMEZONE
TZID:America/Chicago
BEGIN:DAYLIGHT
TZOFFSETFROM:-0600
TZOFFSETTO:-0500
TZNAME:CDT
DTSTART:20220313T080000
END:DAYLIGHT
BEGIN:STANDARD
TZOFFSETFROM:-0500
TZOFFSETTO:-0600
TZNAME:CST
DTSTART:20221106T070000
END:STANDARD
BEGIN:DAYLIGHT
TZOFFSETFROM:-0600
TZOFFSETTO:-0500
TZNAME:CDT
DTSTART:20230312T080000
END:DAYLIGHT
BEGIN:STANDARD
TZOFFSETFROM:-0500
TZOFFSETTO:-0600
TZNAME:CST
DTSTART:20231105T070000
END:STANDARD
BEGIN:DAYLIGHT
TZOFFSETFROM:-0600
TZOFFSETTO:-0500
TZNAME:CDT
DTSTART:20240310T080000
END:DAYLIGHT
BEGIN:STANDARD
TZOFFSETFROM:-0500
TZOFFSETTO:-0600
TZNAME:CST
DTSTART:20241103T070000
END:STANDARD
END:VTIMEZONE
BEGIN:VEVENT
DTSTART;TZID=America/Chicago:20230907T193000
DTEND;TZID=America/Chicago:20230907T193000
DTSTAMP:20260424T204944
CREATED:20230831T173450Z
LAST-MODIFIED:20230831T173450Z
UID:10000408-1694115000-1694115000@argentaartsdistrict.org
SUMMARY:Greasy Greens
DESCRIPTION:The legendary Arkansas “Band of Opportunity” jump-starts the ACANSA Arts Festival of the South with a good ol’ Southern shindig. Greasy Greens takes the stage al fresco at The Rail Yard in Little Rock\, AR\, where party guests will find a dozen musicians\, beverages\, food trucks\, and plenty of room for dancing. Tickets are $15. \nThursday\, September 7 | 7:30 pm | The Rail Yard | 1212 East 6th Street\, Little Rock\, AR 72202
URL:https://argentaartsdistrict.org/event/greasy-greens/
LOCATION:The Rail Yard\, 1212 East 6th Street\, Little Rock\, Arkansas\, 72202
CATEGORIES:Food,Live Performance
ATTACH;FMTTYPE=image/png:https://argentaartsdistrict.org/wp-content/uploads/2023/08/Website-Events.png
END:VEVENT
END:VCALENDAR